BEGIN:VCALENDAR
VERSION:2.0
PRODID:-//The Sanger Scene - ECPv6.5.1.6//NONSGML v1.0//EN
CALSCALE:GREGORIAN
METHOD:PUBLISH
X-WR-CALNAME:The Sanger Scene
X-ORIGINAL-URL:https://www.thesangerscene.com
X-WR-CALDESC:Events for The Sanger Scene
REFRESH-INTERVAL;VALUE=DURATION:PT1H
X-Robots-Tag:noindex
X-PUBLISHED-TTL:PT1H
BEGIN:VTIMEZONE
TZID:America/Los_Angeles
BEGIN:DAYLIGHT
TZOFFSETFROM:-0800
TZOFFSETTO:-0700
TZNAME:PDT
DTSTART:20250309T100000
END:DAYLIGHT
BEGIN:STANDARD
TZOFFSETFROM:-0700
TZOFFSETTO:-0800
TZNAME:PST
DTSTART:20251102T090000
END:STANDARD
END:VTIMEZONE
BEGIN:VEVENT
DTSTART;TZID=America/Los_Angeles:20251023T170000
DTEND;TZID=America/Los_Angeles:20251023T200000
DTSTAMP:20260424T012025
CREATED:20251009T211200Z
LAST-MODIFIED:20251009T211200Z
UID:46109-1761238800-1761249600@www.thesangerscene.com
SUMMARY:Sanger Chamber 'After Hours' Mixer hosted by Hideaway Bar -Oktoberfest Edition
DESCRIPTION:Oktoberfest Edition  \nMeet & Greet the New President & CEO Isaiah Lopez
URL:https://www.thesangerscene.com/event/sanger-chamber-after-hours-mixer-hosted-by-hideaway-bar-oktoberfest-edition/
LOCATION:Hideaway Bar\, 1335 12th St\, Sanger\, CA\, 93657\, United States
ATTACH;FMTTYPE=image/jpeg:https://www.thesangerscene.com/wp-content/uploads/2025/10/ChamberMixerOct1.jpg
END:VEVENT
END:VCALENDAR