BEGIN:VCALENDAR
VERSION:2.0
PRODID:-//The Sanger Scene - ECPv6.5.1.6//NONSGML v1.0//EN
CALSCALE:GREGORIAN
METHOD:PUBLISH
X-WR-CALNAME:The Sanger Scene
X-ORIGINAL-URL:https://www.thesangerscene.com
X-WR-CALDESC:Events for The Sanger Scene
REFRESH-INTERVAL;VALUE=DURATION:PT1H
X-Robots-Tag:noindex
X-PUBLISHED-TTL:PT1H
BEGIN:VTIMEZONE
TZID:America/Los_Angeles
BEGIN:DAYLIGHT
TZOFFSETFROM:-0800
TZOFFSETTO:-0700
TZNAME:PDT
DTSTART:20250309T100000
END:DAYLIGHT
BEGIN:STANDARD
TZOFFSETFROM:-0700
TZOFFSETTO:-0800
TZNAME:PST
DTSTART:20251102T090000
END:STANDARD
END:VTIMEZONE
BEGIN:VEVENT
DTSTART;TZID=America/Los_Angeles:20251030T170000
DTEND;TZID=America/Los_Angeles:20251030T210000
DTSTAMP:20260422T011938
CREATED:20250918T192309Z
LAST-MODIFIED:20250918T192309Z
UID:46017-1761843600-1761858000@www.thesangerscene.com
SUMMARY:37th Annual Downtown Trunk or Treat
DESCRIPTION:
URL:https://www.thesangerscene.com/event/37th-annual-downtown-trunk-or-treat/
LOCATION:Downton Sanger\, Sanger\, CA\, 93657
END:VEVENT
BEGIN:VEVENT
DTSTART;TZID=America/Los_Angeles:20251030T180000
DTEND;TZID=America/Los_Angeles:20251030T200000
DTSTAMP:20260422T011938
CREATED:20251009T211826Z
LAST-MODIFIED:20251009T211826Z
UID:46113-1761847200-1761854400@www.thesangerscene.com
SUMMARY:Sanger 37th Annual Downtown Trunk or Treat
DESCRIPTION:Supported by the City of Sanger and presented by the Sanger Chamber of Commerce  \nHaunted House\, Pumpkin Patch\, Candy & Food\, Carnival Games\, Live Music-DJ \nAll Trick or Treaters must check in at the flag pole for special bag.
URL:https://www.thesangerscene.com/event/sanger-37th-annual-downtown-trunk-or-treat/
LOCATION:Downtonw Sanger\, 7th & N St.\, Sanger\, CA\, 93657\, United States
ATTACH;FMTTYPE=image/jpeg:https://www.thesangerscene.com/wp-content/uploads/2025/10/ChamberTrunkorTreat10.25.jpg
END:VEVENT
END:VCALENDAR