BEGIN:VCALENDAR
VERSION:2.0
PRODID:-//The Sanger Scene - ECPv6.5.1.6//NONSGML v1.0//EN
CALSCALE:GREGORIAN
METHOD:PUBLISH
X-WR-CALNAME:The Sanger Scene
X-ORIGINAL-URL:https://www.thesangerscene.com
X-WR-CALDESC:Events for The Sanger Scene
REFRESH-INTERVAL;VALUE=DURATION:PT1H
X-Robots-Tag:noindex
X-PUBLISHED-TTL:PT1H
BEGIN:VTIMEZONE
TZID:America/Los_Angeles
BEGIN:DAYLIGHT
TZOFFSETFROM:-0800
TZOFFSETTO:-0700
TZNAME:PDT
DTSTART:20250309T100000
END:DAYLIGHT
BEGIN:STANDARD
TZOFFSETFROM:-0700
TZOFFSETTO:-0800
TZNAME:PST
DTSTART:20251102T090000
END:STANDARD
END:VTIMEZONE
BEGIN:VEVENT
DTSTART;TZID=America/Los_Angeles:20251203T170000
DTEND;TZID=America/Los_Angeles:20251203T200000
DTSTAMP:20260421T234541
CREATED:20250918T193404Z
LAST-MODIFIED:20251112T014648Z
UID:46023-1764781200-1764792000@www.thesangerscene.com
SUMMARY:42nd Annual Christmas Tree Lighting
DESCRIPTION:
URL:https://www.thesangerscene.com/event/42nd-annual-christmas-tree-lighting/
LOCATION:Brehler Square\, 7th & N St.\, Sanger \, CA\, United States
ATTACH;FMTTYPE=image/jpeg:https://www.thesangerscene.com/wp-content/uploads/2025/09/42nd-Annual-Tree-Lighting-.jpg
END:VEVENT
END:VCALENDAR