BEGIN:VCALENDAR
VERSION:2.0
PRODID:-//The Sanger Scene - ECPv6.5.1.6//NONSGML v1.0//EN
CALSCALE:GREGORIAN
METHOD:PUBLISH
X-WR-CALNAME:The Sanger Scene
X-ORIGINAL-URL:https://www.thesangerscene.com
X-WR-CALDESC:Events for The Sanger Scene
REFRESH-INTERVAL;VALUE=DURATION:PT1H
X-Robots-Tag:noindex
X-PUBLISHED-TTL:PT1H
BEGIN:VTIMEZONE
TZID:America/Los_Angeles
BEGIN:DAYLIGHT
TZOFFSETFROM:-0800
TZOFFSETTO:-0700
TZNAME:PDT
DTSTART:20260308T100000
END:DAYLIGHT
BEGIN:STANDARD
TZOFFSETFROM:-0700
TZOFFSETTO:-0800
TZNAME:PST
DTSTART:20261101T090000
END:STANDARD
END:VTIMEZONE
BEGIN:VEVENT
DTSTART;TZID=America/Los_Angeles:20260425T193000
DTEND;TZID=America/Los_Angeles:20260425T213000
DTSTAMP:20260421T162015
CREATED:20260415T183631Z
LAST-MODIFIED:20260415T183631Z
UID:46794-1777145400-1777152600@www.thesangerscene.com
SUMMARY:Sanger Apache Theatre presents "12 Angry Jurors"
DESCRIPTION:General: $10 \nStudents: $8
URL:https://www.thesangerscene.com/event/sanger-apache-theatre-presents-12-angry-jurors-5/
LOCATION:Sanger High School MPR\, 1045 Bethel Ave.\, Sanger \, 93657
ATTACH;FMTTYPE=image/jpeg:https://www.thesangerscene.com/wp-content/uploads/2026/04/SHS-Play-12-Angry-Jurors.jpg
END:VEVENT
END:VCALENDAR