BEGIN:VCALENDAR
VERSION:2.0
PRODID:-//The Sanger Scene - ECPv6.5.1.6//NONSGML v1.0//EN
CALSCALE:GREGORIAN
METHOD:PUBLISH
X-ORIGINAL-URL:https://www.thesangerscene.com
X-WR-CALDESC:Events for The Sanger Scene
REFRESH-INTERVAL;VALUE=DURATION:PT1H
X-Robots-Tag:noindex
X-PUBLISHED-TTL:PT1H
BEGIN:VTIMEZONE
TZID:America/Los_Angeles
BEGIN:DAYLIGHT
TZOFFSETFROM:-0800
TZOFFSETTO:-0700
TZNAME:PDT
DTSTART:20260308T100000
END:DAYLIGHT
BEGIN:STANDARD
TZOFFSETFROM:-0700
TZOFFSETTO:-0800
TZNAME:PST
DTSTART:20261101T090000
END:STANDARD
END:VTIMEZONE
BEGIN:VEVENT
DTSTART;TZID=America/Los_Angeles:20260424T193000
DTEND;TZID=America/Los_Angeles:20260424T213000
DTSTAMP:20260421T181254
CREATED:20260415T182837Z
LAST-MODIFIED:20260415T182837Z
UID:46792-1777059000-1777066200@www.thesangerscene.com
SUMMARY:Sanger apache Theatre presents "12 Angry Jurors"
DESCRIPTION:General: $10 \nStudents: $8
URL:https://www.thesangerscene.com/event/sanger-apache-theatre-presents-12-angry-jurors-4/
LOCATION:Sanger High School MPR\, 1045 Bethel Ave.\, Sanger \, 93657
ATTACH;FMTTYPE=image/jpeg:https://www.thesangerscene.com/wp-content/uploads/2026/04/SHS-Play-12-Angry-Jurors.jpg
END:VEVENT
BEGIN:VEVENT
DTSTART;TZID=America/Los_Angeles:20260425T193000
DTEND;TZID=America/Los_Angeles:20260425T213000
DTSTAMP:20260421T181254
CREATED:20260415T183631Z
LAST-MODIFIED:20260415T183631Z
UID:46794-1777145400-1777152600@www.thesangerscene.com
SUMMARY:Sanger Apache Theatre presents "12 Angry Jurors"
DESCRIPTION:General: $10 \nStudents: $8
URL:https://www.thesangerscene.com/event/sanger-apache-theatre-presents-12-angry-jurors-5/
LOCATION:Sanger High School MPR\, 1045 Bethel Ave.\, Sanger \, 93657
ATTACH;FMTTYPE=image/jpeg:https://www.thesangerscene.com/wp-content/uploads/2026/04/SHS-Play-12-Angry-Jurors.jpg
END:VEVENT
BEGIN:VEVENT
DTSTART;TZID=America/Los_Angeles:20260426T090000
DTEND;TZID=America/Los_Angeles:20260426T130000
DTSTAMP:20260421T181254
CREATED:20260415T181335Z
LAST-MODIFIED:20260415T181335Z
UID:46779-1777194000-1777208400@www.thesangerscene.com
SUMMARY:Washington Academic Middle School Football 14th Annual Golf Fundraiser
DESCRIPTION:$140 per player or $560 per foursome \nLunch\, Raffle Prizes\, Hole Challenges\, Tee Bags
URL:https://www.thesangerscene.com/event/washington-academic-middle-school-football-14th-annual-golf-fundraiser/
LOCATION:Sherwood Forest Golf Course
ATTACH;FMTTYPE=image/png:https://www.thesangerscene.com/wp-content/uploads/2026/04/WAMS-Golf-.png
END:VEVENT
BEGIN:VEVENT
DTSTART;TZID=America/Los_Angeles:20260426T120000
DTEND;TZID=America/Los_Angeles:20260426T150000
DTSTAMP:20260421T181254
CREATED:20260415T180946Z
LAST-MODIFIED:20260415T180946Z
UID:46776-1777204800-1777215600@www.thesangerscene.com
SUMMARY:Sanger Woman's Club Tea - "It's a Mad Hatters Tea Party"
DESCRIPTION:Lunch\, Games\, Entertainment\, Raffle \nCall Regina at (559) 696-9232
URL:https://www.thesangerscene.com/event/sanger-womans-club-tea-its-a-mad-hatters-tea-party/
LOCATION:Kings River Winery\, 4276 S. Greenwood\, Sanger\, CA\, 93657
ATTACH;FMTTYPE=image/jpeg:https://www.thesangerscene.com/wp-content/uploads/2026/04/SWC-Tea.jpg
END:VEVENT
BEGIN:VEVENT
DTSTART;TZID=America/Los_Angeles:20260501T103000
DTEND;TZID=America/Los_Angeles:20260501T133000
DTSTAMP:20260421T181254
CREATED:20260415T175835Z
LAST-MODIFIED:20260415T175835Z
UID:46770-1777631400-1777642200@www.thesangerscene.com
SUMMARY:City of Sanger Parks & Recreation "5 de Mayo Senior Luncheon"
DESCRIPTION:$10 – Seniors 55+ \n$15 General Public \nFor tickets and more information\, contact Sanger Senior Center (559) 399-8439 or Sanger Parks & Recreation (559) 876-6300 opt.2
URL:https://www.thesangerscene.com/event/city-of-sanger-parks-recreation-5-de-mayo-senior-luncheon/
LOCATION:Sanger Community Center\, 1234 
ATTACH;FMTTYPE=image/jpeg:https://www.thesangerscene.com/wp-content/uploads/2026/04/Sanger-CincodeMayo.jpg
ORGANIZER;CN="City of Sanger":MAILTO:ctamez@ci.sanger.ca.us
END:VEVENT
BEGIN:VEVENT
DTSTART;TZID=America/Los_Angeles:20260505T110000
DTEND;TZID=America/Los_Angeles:20260505T130000
DTSTAMP:20260421T181254
CREATED:20260415T181710Z
LAST-MODIFIED:20260415T181710Z
UID:46782-1777978800-1777986000@www.thesangerscene.com
SUMMARY:Sanger Unified invites you to Sanger West High School Student Commons Ribbon Cutting Ceremony
DESCRIPTION:
URL:https://www.thesangerscene.com/event/sanger-unified-invites-you-to-sanger-west-high-school-student-commons-ribbon-cutting-ceremony/
LOCATION:Sanger West High School\, 1850 S. Fowler Ave.\, Fresno\, CA\, 93727\, United States
ATTACH;FMTTYPE=application/pdf:https://www.thesangerscene.com/wp-content/uploads/2026/04/SWHS-Student-Commons-Ribbon-Cutting-Ceremony.pdf
END:VEVENT
END:VCALENDAR