BEGIN:VCALENDAR
VERSION:2.0
PRODID:-//The Sanger Scene - ECPv6.5.1.6//NONSGML v1.0//EN
CALSCALE:GREGORIAN
METHOD:PUBLISH
X-WR-CALNAME:The Sanger Scene
X-ORIGINAL-URL:https://www.thesangerscene.com
X-WR-CALDESC:Events for The Sanger Scene
REFRESH-INTERVAL;VALUE=DURATION:PT1H
X-Robots-Tag:noindex
X-PUBLISHED-TTL:PT1H
BEGIN:VTIMEZONE
TZID:America/Los_Angeles
BEGIN:DAYLIGHT
TZOFFSETFROM:-0800
TZOFFSETTO:-0700
TZNAME:PDT
DTSTART:20230312T100000
END:DAYLIGHT
BEGIN:STANDARD
TZOFFSETFROM:-0700
TZOFFSETTO:-0800
TZNAME:PST
DTSTART:20231105T090000
END:STANDARD
END:VTIMEZONE
BEGIN:VEVENT
DTSTART;TZID=America/Los_Angeles:20230809T170000
DTEND;TZID=America/Los_Angeles:20230809T190000
DTSTAMP:20260423T081557
CREATED:20230806T204034Z
LAST-MODIFIED:20230806T204034Z
UID:26125-1691600400-1691607600@www.thesangerscene.com
SUMMARY:Back 2 School Resource Fair by Sanger Unified Family Resource Center
DESCRIPTION:Resources\, Backpack Giveaway\, Raffle
URL:https://www.thesangerscene.com/event/back-2-school-resource-fair-by-sanger-unified-family-resource-center/
LOCATION:Sanger Unified Family Resource Center\, 1700 14th Street\, Sanger\, 93657\, United States
ATTACH;FMTTYPE=image/jpeg:https://www.thesangerscene.com/wp-content/uploads/2023/08/IMG_3242.jpg
END:VEVENT
BEGIN:VEVENT
DTSTART;TZID=America/Los_Angeles:20230806T150000
DTEND;TZID=America/Los_Angeles:20230806T220000
DTSTAMP:20260423T081557
CREATED:20230715T012149Z
LAST-MODIFIED:20230715T012149Z
UID:26095-1691334000-1691359200@www.thesangerscene.com
SUMMARY:St. Mary's Summer Festival 2023- Sunday
DESCRIPTION:Mariachi Alas De Plata at 4pm \nRuben y La Nueva Onda at 5pm \nRaffle at 9pm
URL:https://www.thesangerscene.com/event/st-marys-summer-festival-2023-sunday/
LOCATION:ST. Mary’s Catholic Church\, North & Bethel Ave\, Sanger \, 93657
ATTACH;FMTTYPE=image/jpeg:https://www.thesangerscene.com/wp-content/uploads/2023/07/IMG_2112.jpg
ORGANIZER;CN="St. Mary's Catholic Church":MAILTO:jgaza999@gmail.com
END:VEVENT
BEGIN:VEVENT
DTSTART;TZID=America/Los_Angeles:20230805T150000
DTEND;TZID=America/Los_Angeles:20230805T220000
DTSTAMP:20260423T081557
CREATED:20230714T235456Z
LAST-MODIFIED:20230714T235456Z
UID:26092-1691247600-1691272800@www.thesangerscene.com
SUMMARY:St. Mary's Summer Festival 2023- Saturday
DESCRIPTION:DJ David at 3pm \nCountry Music Band Unfinished Business at 5pm
URL:https://www.thesangerscene.com/event/st-marys-summer-festival-2023-saturday/
LOCATION:ST. Mary’s Catholic Church\, North & Bethel Ave\, Sanger \, 93657
ATTACH;FMTTYPE=image/jpeg:https://www.thesangerscene.com/wp-content/uploads/2023/07/IMG_2112.jpg
ORGANIZER;CN="St. Mary's Catholic Church":MAILTO:jgaza999@gmail.com
END:VEVENT
BEGIN:VEVENT
DTSTART;TZID=America/Los_Angeles:20230804T150000
DTEND;TZID=America/Los_Angeles:20230804T220000
DTSTAMP:20260423T081557
CREATED:20230714T233425Z
LAST-MODIFIED:20230714T233425Z
UID:26089-1691161200-1691186400@www.thesangerscene.com
SUMMARY:St.Mary's Youth Night
DESCRIPTION:Talent Show                                    Face Painting  \nWatermelon Eating Contest.      Photo Booth \nCorn Hole.                                      Mestizos Del Valle Dancers  \nDuct Tape Challenge                    Win Prizes  \nWater Games                                 Food & Drinks \nCup Cake & Cake Decorating \nFree Haircuts \nMusical Chairs
URL:https://www.thesangerscene.com/event/st-marys-youth-night/
LOCATION:ST. Mary’s Catholic Church\, North & Bethel Ave\, Sanger \, 93657
ATTACH;FMTTYPE=image/jpeg:https://www.thesangerscene.com/wp-content/uploads/2023/07/IMG_2110.jpg
ORGANIZER;CN="St. Mary's Catholic Church":MAILTO:jgaza999@gmail.com
END:VEVENT
BEGIN:VEVENT
DTSTART;TZID=America/Los_Angeles:20230725T173000
DTEND;TZID=America/Los_Angeles:20230725T193000
DTSTAMP:20260423T081557
CREATED:20230708T023734Z
LAST-MODIFIED:20230708T023734Z
UID:26085-1690306200-1690313400@www.thesangerscene.com
SUMMARY:HOPE Sanger Ribbon Cutting and Mixer hosted by the Sanger District Chamber of Commerce
DESCRIPTION:
URL:https://www.thesangerscene.com/event/hope-sanger-ribbon-cutting-and-mixer-hosted-by-the-sanger-district-chamber-of-commerce/
LOCATION:HOPE Sanger Center/Motel\, 502 "L" Street\, Sanger\, 93657
ATTACH;FMTTYPE=image/jpeg:https://www.thesangerscene.com/wp-content/uploads/2023/07/Ribbon-cutting-Event-Invitation-Template-Made-with-PosterMyWall.jpg
END:VEVENT
BEGIN:VEVENT
DTSTART;TZID=America/Los_Angeles:20230704T173000
DTEND;TZID=America/Los_Angeles:20230704T213000
DTSTAMP:20260423T081557
CREATED:20230619T013551Z
LAST-MODIFIED:20230619T013551Z
UID:26003-1688491800-1688506200@www.thesangerscene.com
SUMMARY:City of Sanger & the Sanger District Chamber of Commerce presents Fourth of July Spectacular
DESCRIPTION:$3 for a ticket \n$15 for a four pack plus parking
URL:https://www.thesangerscene.com/event/city-of-sanger-the-sanger-district-chamber-of-commerce-presents-fourth-of-july-spectacular/
LOCATION:Sanger High School Practice Field\, 1045 Bethel Avenue\, Sanger\, 93657
ATTACH;FMTTYPE=image/jpeg:https://www.thesangerscene.com/wp-content/uploads/2023/06/IMG_1812.jpg
ORGANIZER;CN="Sanger District Chamber of Commerce":MAILTO:sangerchamber@gmail.com
END:VEVENT
BEGIN:VEVENT
DTSTART;TZID=America/Los_Angeles:20230627T173000
DTEND;TZID=America/Los_Angeles:20230627T193000
DTSTAMP:20260423T081557
CREATED:20230619T012831Z
LAST-MODIFIED:20230619T012831Z
UID:25999-1687887000-1687894200@www.thesangerscene.com
SUMMARY:Sanger District Chamber of Commerce Ribbon Cutting & Mixer for State Farm Insurance
DESCRIPTION:
URL:https://www.thesangerscene.com/event/sanger-district-chamber-of-commerce-ribbon-cutting-mixer-for-state-farm-insurance/
LOCATION:State Farm Insurance\, 1700 Jensen Ave.\, Sanger\, CA\, 93657\, United States
ATTACH;FMTTYPE=image/jpeg:https://www.thesangerscene.com/wp-content/uploads/2023/06/IMG_1887.jpg
ORGANIZER;CN="Sanger District Chamber of Commerce":MAILTO:sangerchamber@gmail.com
END:VEVENT
BEGIN:VEVENT
DTSTART;TZID=America/Los_Angeles:20230610T080000
DTEND;TZID=America/Los_Angeles:20230610T090000
DTSTAMP:20260423T081557
CREATED:20230603T152359Z
LAST-MODIFIED:20230603T152359Z
UID:25969-1686384000-1686387600@www.thesangerscene.com
SUMMARY:Veterans of Foreign Wars Community Breakfast
DESCRIPTION:
URL:https://www.thesangerscene.com/event/veterans-of-foreign-wars-community-breakfast-8/
LOCATION:American Legion Hall\, 1502 "O" Street\, Sanger\, 93657
ATTACH;FMTTYPE=image/jpeg:https://www.thesangerscene.com/wp-content/uploads/2023/06/VFW-Breakfast-June-2023-copy.jpg
END:VEVENT
BEGIN:VEVENT
DTSTART;TZID=America/Los_Angeles:20230604T173000
DTEND;TZID=America/Los_Angeles:20230604T190000
DTSTAMP:20260423T081557
CREATED:20230531T001321Z
LAST-MODIFIED:20230531T001321Z
UID:25945-1685899800-1685905200@www.thesangerscene.com
SUMMARY:Sanger High School "The Best is Yet to Come" Baccalaureate
DESCRIPTION:
URL:https://www.thesangerscene.com/event/sanger-high-school-the-best-is-yet-to-come-baccalaureate/
LOCATION:Sanger High School MPR\, 1045 Bethel Ave.\, Sanger \, 93657
ATTACH;FMTTYPE=image/jpeg:https://www.thesangerscene.com/wp-content/uploads/2023/05/61873F5F-CF14-4CCE-BC33-10226EF6CEAD.jpeg
END:VEVENT
BEGIN:VEVENT
DTSTART;TZID=America/Los_Angeles:20230603T150000
DTEND;TZID=America/Los_Angeles:20230603T180000
DTSTAMP:20260423T081557
CREATED:20230531T000932Z
LAST-MODIFIED:20230531T000932Z
UID:25936-1685804400-1685815200@www.thesangerscene.com
SUMMARY:Free Mind Yoga Grand Opening & Sanger Chamber Ribbon Cutting
DESCRIPTION:
URL:https://www.thesangerscene.com/event/free-mind-yoga-grand-opening-sanger-chamber-ribbon-cutting/
LOCATION:Free Mind Yoga\, 1811 Academy Ave. Suite 102\, Sanger\, CA\, 93657\, United States
ATTACH;FMTTYPE=image/jpeg:https://www.thesangerscene.com/wp-content/uploads/2023/05/B3315A97-8735-412C-84B4-564A0265ED7F.jpeg
END:VEVENT
BEGIN:VEVENT
DTSTART;TZID=America/Los_Angeles:20230603T100000
DTEND;TZID=America/Los_Angeles:20230603T113000
DTSTAMP:20260423T081557
CREATED:20230531T001052Z
LAST-MODIFIED:20230531T001052Z
UID:25943-1685786400-1685791800@www.thesangerscene.com
SUMMARY:St. Mary's Senior Mass
DESCRIPTION:
URL:https://www.thesangerscene.com/event/st-marys-senior-mass/
LOCATION:ST. Mary’s Catholic Church\, North & Bethel Ave\, Sanger \, 93657
ATTACH;FMTTYPE=image/jpeg:https://www.thesangerscene.com/wp-content/uploads/2023/05/IMG_0975.jpg
ORGANIZER;CN="St. Mary's Catholic Church":MAILTO:jgaza999@gmail.com
END:VEVENT
BEGIN:VEVENT
DTSTART;TZID=America/Los_Angeles:20230526T073000
DTEND;TZID=America/Los_Angeles:20230526T120000
DTSTAMP:20260423T081557
CREATED:20230504T192227Z
LAST-MODIFIED:20230504T192227Z
UID:25892-1685086200-1685102400@www.thesangerscene.com
SUMMARY:Tabernacle of Praise Christian Center 1st Annual golf Tournament
DESCRIPTION:
URL:https://www.thesangerscene.com/event/tabernacle-of-praise-christian-center-1st-annual-golf-tournament/
LOCATION:Ridge Creek Dinuba Golf Club\, 3018 Ridege Creek Dr.\, Dinuba\, CA\, 93618\, United States
ATTACH;FMTTYPE=image/jpeg:https://www.thesangerscene.com/wp-content/uploads/2023/05/golf-tournament.jpg
END:VEVENT
BEGIN:VEVENT
DTSTART;TZID=America/Los_Angeles:20230517T113000
DTEND;TZID=America/Los_Angeles:20230517T133000
DTSTAMP:20260423T081557
CREATED:20230504T192451Z
LAST-MODIFIED:20230504T192451Z
UID:25897-1684323000-1684330200@www.thesangerscene.com
SUMMARY:Sanger Council PTA Spring Roundtable
DESCRIPTION:
URL:https://www.thesangerscene.com/event/sanger-council-pta-spring-roundtable/
LOCATION:Sanger West High School\, 1850 S. Fowler Ave.\, Fresno\, CA\, 93727\, United States
ATTACH;FMTTYPE=image/jpeg:https://www.thesangerscene.com/wp-content/uploads/2023/05/Spring-PTA-Roundtable-3-copy.jpg
ORGANIZER;CN="Saanger Council PTA":MAILTO:breezyblnd@gmail.com
END:VEVENT
BEGIN:VEVENT
DTSTART;TZID=America/Los_Angeles:20230513T083000
DTEND;TZID=America/Los_Angeles:20230513T130000
DTSTAMP:20260423T081557
CREATED:20230504T191915Z
LAST-MODIFIED:20230504T191915Z
UID:25888-1683966600-1683982800@www.thesangerscene.com
SUMMARY:Sanger Unified School District Migrant Parent Mini-Conference
DESCRIPTION:
URL:https://www.thesangerscene.com/event/sanger-unified-school-district-migrant-parent-mini-conference/
LOCATION:Lincoln Elementary School\, 1700 Fourteenth St.\, Sanger\, 93657
ATTACH;FMTTYPE=image/jpeg:https://www.thesangerscene.com/wp-content/uploads/2023/05/Migrant-Mini-Conference-copy.jpg
END:VEVENT
BEGIN:VEVENT
DTSTART;TZID=America/Los_Angeles:20230505T173000
DTEND;TZID=America/Los_Angeles:20230505T200000
DTSTAMP:20260423T081557
CREATED:20230504T191125Z
LAST-MODIFIED:20230504T191125Z
UID:25881-1683307800-1683316800@www.thesangerscene.com
SUMMARY:Sanger Police Foundation 2nd Annual Banquet Fundraiser
DESCRIPTION:
URL:https://www.thesangerscene.com/event/sanger-police-foundation-2nd-annual-banquet-fundraiser/
LOCATION:Kings River Winery\, 4276 S. Greenwood\, Sanger\, CA\, 93657
ATTACH;FMTTYPE=image/jpeg:https://www.thesangerscene.com/wp-content/uploads/2023/05/SangerPoliceFoundation-1.jpg
ORGANIZER;CN="Sanger Police Foundation":MAILTO:sangerpolicefoundation@gmail.com
END:VEVENT
BEGIN:VEVENT
DTSTART;TZID=America/Los_Angeles:20230505T103000
DTEND;TZID=America/Los_Angeles:20230505T130000
DTSTAMP:20260423T081557
CREATED:20230504T191552Z
LAST-MODIFIED:20230504T191552Z
UID:25885-1683282600-1683291600@www.thesangerscene.com
SUMMARY:City of Sanger Cinco de Mayo Senior Luncheon Celebration
DESCRIPTION:$5 for Seniors 55+ \n$10 for General
URL:https://www.thesangerscene.com/event/city-of-sanger-cinco-de-mayo-senior-luncheon-celebration/
LOCATION:Sanger Community Center\, 1234 
ATTACH;FMTTYPE=image/jpeg:https://www.thesangerscene.com/wp-content/uploads/2023/05/IMG_9593.jpg
END:VEVENT
BEGIN:VEVENT
DTSTART;TZID=America/Los_Angeles:20230429T100000
DTEND;TZID=America/Los_Angeles:20230429T160000
DTSTAMP:20260423T081557
CREATED:20230420T000905Z
LAST-MODIFIED:20230420T000905Z
UID:25835-1682762400-1682784000@www.thesangerscene.com
SUMMARY:Swing into Spring
DESCRIPTION:12 artists featured 
URL:https://www.thesangerscene.com/event/swing-into-spring/
LOCATION:Mixed Messages\, 1310 8th Street\, Sanger\, CA\, 93657
ATTACH;FMTTYPE=image/jpeg:https://www.thesangerscene.com/wp-content/uploads/2023/04/IMG_7913.jpg
END:VEVENT
BEGIN:VEVENT
DTSTART;TZID=America/Los_Angeles:20230429T100000
DTEND;TZID=America/Los_Angeles:20230429T120000
DTSTAMP:20260423T081557
CREATED:20230413T190022Z
LAST-MODIFIED:20230413T190022Z
UID:25805-1682762400-1682769600@www.thesangerscene.com
SUMMARY:HOPE Sanger Celebrates Dia de los Niños
DESCRIPTION:Free toy to every child present  \nFree Activities: Fun Games\, Face Painting\, Kona Ice\, Music\, Books\, Resources and more. 
URL:https://www.thesangerscene.com/event/hope-sanger-celebrates-dia-de-los-ninos/
LOCATION:HOPE Sanger Center/\, 502 L Street\, Sanger\, 93657
ATTACH;FMTTYPE=image/jpeg:https://www.thesangerscene.com/wp-content/uploads/2023/04/Dia-Del-Nino-2023-copy.jpg
END:VEVENT
BEGIN:VEVENT
DTSTART;TZID=America/Los_Angeles:20230428T183000
DTEND;TZID=America/Los_Angeles:20230428T203000
DTSTAMP:20260423T081557
CREATED:20230420T000536Z
LAST-MODIFIED:20230420T000536Z
UID:25832-1682706600-1682713800@www.thesangerscene.com
SUMMARY:City of Sanger 'Night With The Grizzlies'
DESCRIPTION:Fresno Grizzlies vs Stockton Ports 
URL:https://www.thesangerscene.com/event/city-of-sanger-night-with-the-grizzlies/
LOCATION:Chukchansi Park\, 1800 Tulare St.\, Fresno\, 93721
ATTACH;FMTTYPE=image/jpeg:https://www.thesangerscene.com/wp-content/uploads/2023/04/Night-with-the-Grizzlies-2023.jpg
ORGANIZER;CN="City of Sanger":MAILTO:ctamez@ci.sanger.ca.us
END:VEVENT
BEGIN:VEVENT
DTSTART;TZID=America/Los_Angeles:20230428T150000
DTEND;TZID=America/Los_Angeles:20230428T180000
DTSTAMP:20260423T081557
CREATED:20230420T001314Z
LAST-MODIFIED:20230420T001314Z
UID:25838-1682694000-1682704800@www.thesangerscene.com
SUMMARY:American Legion Post 23 Fundraising Dinner
DESCRIPTION:Catered Chile Verde \nEat In or Take Out \nDesserts for sale buy Unit 23 Auxillary 
URL:https://www.thesangerscene.com/event/american-legion-post-23-fundraising-dinner-5/
LOCATION:American Legion Hall\, 1502 "O" Street\, Sanger\, 93657
ATTACH;FMTTYPE=image/jpeg:https://www.thesangerscene.com/wp-content/uploads/2023/04/IMG_8063.jpg
END:VEVENT
BEGIN:VEVENT
DTSTART;TZID=America/Los_Angeles:20230426T180000
DTEND;TZID=America/Los_Angeles:20230426T200000
DTSTAMP:20260423T081557
CREATED:20230419T235543Z
LAST-MODIFIED:20230419T235543Z
UID:25824-1682532000-1682539200@www.thesangerscene.com
SUMMARY:Mayor's 2023 State of the City Address
DESCRIPTION:
URL:https://www.thesangerscene.com/event/mayors-2023-state-of-the-city-address/
LOCATION:City Hall\, 1700 7th St.\, Sanger\, 93657
ATTACH;FMTTYPE=image/jpeg:https://www.thesangerscene.com/wp-content/uploads/2023/04/State-of-City-.jpg
END:VEVENT
BEGIN:VEVENT
DTSTART;TZID=America/Los_Angeles:20230425T170000
DTEND;TZID=America/Los_Angeles:20230425T190000
DTSTAMP:20260423T081557
CREATED:20230413T185556Z
LAST-MODIFIED:20230413T185556Z
UID:25801-1682442000-1682449200@www.thesangerscene.com
SUMMARY:Sanger Chamber Ribbon Cutting for 7th Heaven and After Hours Mixer
DESCRIPTION:
URL:https://www.thesangerscene.com/event/sanger-chamber-ribbon-cutting-for-7th-heaven-and-after-hours-mixer/
LOCATION:7th Heaven\, 1417 7th Street\, Sanger\, CA\, 93657\, United States
ATTACH;FMTTYPE=image/jpeg:https://www.thesangerscene.com/wp-content/uploads/2023/04/7th-Heaven-Flier-Riboon-Cutting_Mixer.jpg
ORGANIZER;CN="Sanger District Chamber of Commerce":MAILTO:sangerchamber@gmail.com
END:VEVENT
BEGIN:VEVENT
DTSTART;TZID=America/Los_Angeles:20230424T170000
DTEND;TZID=America/Los_Angeles:20230424T190000
DTSTAMP:20260423T081557
CREATED:20230413T190546Z
LAST-MODIFIED:20230413T190546Z
UID:25808-1682355600-1682362800@www.thesangerscene.com
SUMMARY:Set Free Sanger Ribbon Cutting and 4th Birthday Celebration with Sanger Chamber
DESCRIPTION:
URL:https://www.thesangerscene.com/event/set-free-sanger-ribbon-cutting-and-4th-birthday-celebration-with-sanger-chamber/
LOCATION:Set Free Sanger\, 615 Academy Ave.\, Sanger\, CA\, 93657\, United States
ATTACH;FMTTYPE=image/png:https://www.thesangerscene.com/wp-content/uploads/2023/04/Set-Free-Ribbon-Cutting.png
ORGANIZER;CN="Sanger Distrcit Chamber of Commerce":MAILTO:sangerchamber@gmail.com
END:VEVENT
BEGIN:VEVENT
DTSTART;TZID=America/Los_Angeles:20230422T110000
DTEND;TZID=America/Los_Angeles:20230422T150000
DTSTAMP:20260423T081558
CREATED:20230420T002545Z
LAST-MODIFIED:20230420T002545Z
UID:25841-1682161200-1682175600@www.thesangerscene.com
SUMMARY:Kings River Conservancy Spring Fling on the Kings
DESCRIPTION:Free Admission  \n  \n$10 Advance Lunch Tickets  \n$15 Lunch Tickets at Event
URL:https://www.thesangerscene.com/event/kings-river-conservancy-spring-fling-on-the-kings/
LOCATION:Lapp River House\, 26210 Elwood Road\, Sanger \, CA\, United States
ATTACH;FMTTYPE=image/jpeg:https://www.thesangerscene.com/wp-content/uploads/2023/04/2023-Flyer-copy-KRC-Spring-Fling-.jpg
END:VEVENT
BEGIN:VEVENT
DTSTART;TZID=America/Los_Angeles:20230422T100000
DTEND;TZID=America/Los_Angeles:20230422T140000
DTSTAMP:20260423T081558
CREATED:20230419T234956Z
LAST-MODIFIED:20230419T234956Z
UID:25821-1682157600-1682172000@www.thesangerscene.com
SUMMARY:Sanger Chamber Inaugural Young Entrepreneur's Fair
DESCRIPTION:
URL:https://www.thesangerscene.com/event/sanger-chamber-inaugural-young-entrepreneurs-fair/
LOCATION:Brehler Square\, 7th & N St.\, Sanger \, CA\, United States
ATTACH;FMTTYPE=image/jpeg:https://www.thesangerscene.com/wp-content/uploads/2023/04/2023-YEF.jpg
ORGANIZER;CN="Sanger District Chamber of Commerce":MAILTO:sangerchamber@gmail.com
END:VEVENT
BEGIN:VEVENT
DTSTART;TZID=America/Los_Angeles:20230422T100000
DTEND;TZID=America/Los_Angeles:20230422T130000
DTSTAMP:20260423T081558
CREATED:20230420T000235Z
LAST-MODIFIED:20230420T000235Z
UID:25829-1682157600-1682168400@www.thesangerscene.com
SUMMARY:Fruit and Veggie Fest at Gong's Market
DESCRIPTION:
URL:https://www.thesangerscene.com/event/fruit-and-veggie-fest-at-gongs-market/
LOCATION:Gong’s IGA Market\, 1825 Academy Ave.\, Sanger\, CA\, 93657\, United States
ATTACH;FMTTYPE=image/jpeg:https://www.thesangerscene.com/wp-content/uploads/2023/04/Gongs-FVF-English-Flier-copy.jpg
ORGANIZER;CN="California Health Collaborative":MAILTO:gfalcon@healthcollaborative.org
END:VEVENT
BEGIN:VEVENT
DTSTART;TZID=America/Los_Angeles:20230422T090000
DTEND;TZID=America/Los_Angeles:20230422T140000
DTSTAMP:20260423T081558
CREATED:20230329T172511Z
LAST-MODIFIED:20230329T172511Z
UID:25782-1682154000-1682172000@www.thesangerscene.com
SUMMARY:Grace Community Church Spring Craft & Vendor Fair
DESCRIPTION:Featuring Handmade Crafts\, Clothing\, Candles\, Baked Goods\, and so much more. \nGrace Youth will be selling BBQ ribeye($15) and Chicken ($10) plates to raise funds for Summer Camp.
URL:https://www.thesangerscene.com/event/grace-community-church-spring-craft-vendor-fair/
LOCATION:Grace Community Church\, 1620 Church Ave.\, Sanger\, CA\, 93657\, United States
ATTACH;FMTTYPE=image/png:https://www.thesangerscene.com/wp-content/uploads/2023/03/Spring-Vendor-Fair-Flyer-April-22nd-2023.png
END:VEVENT
BEGIN:VEVENT
DTSTART;TZID=America/Los_Angeles:20230415T110000
DTEND;TZID=America/Los_Angeles:20230415T170000
DTSTAMP:20260423T081558
CREATED:20230316T155101Z
LAST-MODIFIED:20230316T155101Z
UID:25739-1681556400-1681578000@www.thesangerscene.com
SUMMARY:34th Annual Apache Football BBQ & Street Fan Fest
DESCRIPTION:Downtown Sanger \nTri-tip & Chicken Dinner\, Adult Beverage Garden  \nFamily Entertainment\, Games\, Pony Rides\, Face Painting\, Bounce House\, Mechanical Bull\, Raffle & more. 
URL:https://www.thesangerscene.com/event/34th-annual-apache-football-bbq-street-fan-fest/
LOCATION:Phat Al’s\, 1316 7th Steet\, Sanger\, CA\, 93657\, United States
ATTACH;FMTTYPE=image/jpeg:https://www.thesangerscene.com/wp-content/uploads/2023/03/Apache-Football-BBQ-1.jpeg
END:VEVENT
BEGIN:VEVENT
DTSTART;TZID=America/Los_Angeles:20230328T170000
DTEND;TZID=America/Los_Angeles:20230328T193000
DTSTAMP:20260423T081558
CREATED:20230316T004129Z
LAST-MODIFIED:20230316T004129Z
UID:25732-1680022800-1680031800@www.thesangerscene.com
SUMMARY:Sanger Chamber Ribbon Cutting for the Linc Team and After Hours Business Mixer
DESCRIPTION:
URL:https://www.thesangerscene.com/event/sanger-chamber-ribbon-cutting-for-the-linc-team-and-after-hours-business-mixer/
LOCATION:The Linc Team\, 1533 7th Street #406\, Sanger\, CA\, 93657\, United States
ATTACH;FMTTYPE=image/jpeg:https://www.thesangerscene.com/wp-content/uploads/2023/03/LincTeam-RCMixer-copy.jpg
END:VEVENT
BEGIN:VEVENT
DTSTART;TZID=America/Los_Angeles:20230325T120000
DTEND;TZID=America/Los_Angeles:20230325T160000
DTSTAMP:20260423T081558
CREATED:20230316T004417Z
LAST-MODIFIED:20230316T004417Z
UID:25736-1679745600-1679760000@www.thesangerscene.com
SUMMARY:Inaugural Sanger Youth Football Tri-tip Plate Fundraiser
DESCRIPTION:Live Music by Lady and the Tramps
URL:https://www.thesangerscene.com/event/inaugural-sanger-youth-football-tri-tip-plate-fundraiser/
LOCATION:Oasis Saloon and Grill\, 757 Academy Ave.\, Sanger\, 93657
ATTACH;FMTTYPE=image/jpeg:https://www.thesangerscene.com/wp-content/uploads/2023/03/IMG_6755.jpg
END:VEVENT
END:VCALENDAR