BEGIN:VCALENDAR
VERSION:2.0
PRODID:-//The Sanger Scene - ECPv6.5.1.6//NONSGML v1.0//EN
CALSCALE:GREGORIAN
METHOD:PUBLISH
X-WR-CALNAME:The Sanger Scene
X-ORIGINAL-URL:https://www.thesangerscene.com
X-WR-CALDESC:Events for The Sanger Scene
REFRESH-INTERVAL;VALUE=DURATION:PT1H
X-Robots-Tag:noindex
X-PUBLISHED-TTL:PT1H
BEGIN:VTIMEZONE
TZID:America/Los_Angeles
BEGIN:DAYLIGHT
TZOFFSETFROM:-0800
TZOFFSETTO:-0700
TZNAME:PDT
DTSTART:20220313T100000
END:DAYLIGHT
BEGIN:STANDARD
TZOFFSETFROM:-0700
TZOFFSETTO:-0800
TZNAME:PST
DTSTART:20221106T090000
END:STANDARD
BEGIN:DAYLIGHT
TZOFFSETFROM:-0800
TZOFFSETTO:-0700
TZNAME:PDT
DTSTART:20230312T100000
END:DAYLIGHT
BEGIN:STANDARD
TZOFFSETFROM:-0700
TZOFFSETTO:-0800
TZNAME:PST
DTSTART:20231105T090000
END:STANDARD
END:VTIMEZONE
BEGIN:VEVENT
DTSTART;TZID=America/Los_Angeles:20230426T180000
DTEND;TZID=America/Los_Angeles:20230426T200000
DTSTAMP:20260423T112707
CREATED:20230419T235543Z
LAST-MODIFIED:20230419T235543Z
UID:25824-1682532000-1682539200@www.thesangerscene.com
SUMMARY:Mayor's 2023 State of the City Address
DESCRIPTION:
URL:https://www.thesangerscene.com/event/mayors-2023-state-of-the-city-address/
LOCATION:City Hall\, 1700 7th St.\, Sanger\, 93657
ATTACH;FMTTYPE=image/jpeg:https://www.thesangerscene.com/wp-content/uploads/2023/04/State-of-City-.jpg
END:VEVENT
BEGIN:VEVENT
DTSTART;TZID=America/Los_Angeles:20230425T170000
DTEND;TZID=America/Los_Angeles:20230425T190000
DTSTAMP:20260423T112707
CREATED:20230413T185556Z
LAST-MODIFIED:20230413T185556Z
UID:25801-1682442000-1682449200@www.thesangerscene.com
SUMMARY:Sanger Chamber Ribbon Cutting for 7th Heaven and After Hours Mixer
DESCRIPTION:
URL:https://www.thesangerscene.com/event/sanger-chamber-ribbon-cutting-for-7th-heaven-and-after-hours-mixer/
LOCATION:7th Heaven\, 1417 7th Street\, Sanger\, CA\, 93657\, United States
ATTACH;FMTTYPE=image/jpeg:https://www.thesangerscene.com/wp-content/uploads/2023/04/7th-Heaven-Flier-Riboon-Cutting_Mixer.jpg
ORGANIZER;CN="Sanger District Chamber of Commerce":MAILTO:sangerchamber@gmail.com
END:VEVENT
BEGIN:VEVENT
DTSTART;TZID=America/Los_Angeles:20230424T170000
DTEND;TZID=America/Los_Angeles:20230424T190000
DTSTAMP:20260423T112707
CREATED:20230413T190546Z
LAST-MODIFIED:20230413T190546Z
UID:25808-1682355600-1682362800@www.thesangerscene.com
SUMMARY:Set Free Sanger Ribbon Cutting and 4th Birthday Celebration with Sanger Chamber
DESCRIPTION:
URL:https://www.thesangerscene.com/event/set-free-sanger-ribbon-cutting-and-4th-birthday-celebration-with-sanger-chamber/
LOCATION:Set Free Sanger\, 615 Academy Ave.\, Sanger\, CA\, 93657\, United States
ATTACH;FMTTYPE=image/png:https://www.thesangerscene.com/wp-content/uploads/2023/04/Set-Free-Ribbon-Cutting.png
ORGANIZER;CN="Sanger Distrcit Chamber of Commerce":MAILTO:sangerchamber@gmail.com
END:VEVENT
BEGIN:VEVENT
DTSTART;TZID=America/Los_Angeles:20230422T110000
DTEND;TZID=America/Los_Angeles:20230422T150000
DTSTAMP:20260423T112707
CREATED:20230420T002545Z
LAST-MODIFIED:20230420T002545Z
UID:25841-1682161200-1682175600@www.thesangerscene.com
SUMMARY:Kings River Conservancy Spring Fling on the Kings
DESCRIPTION:Free Admission  \n  \n$10 Advance Lunch Tickets  \n$15 Lunch Tickets at Event
URL:https://www.thesangerscene.com/event/kings-river-conservancy-spring-fling-on-the-kings/
LOCATION:Lapp River House\, 26210 Elwood Road\, Sanger \, CA\, United States
ATTACH;FMTTYPE=image/jpeg:https://www.thesangerscene.com/wp-content/uploads/2023/04/2023-Flyer-copy-KRC-Spring-Fling-.jpg
END:VEVENT
BEGIN:VEVENT
DTSTART;TZID=America/Los_Angeles:20230422T100000
DTEND;TZID=America/Los_Angeles:20230422T140000
DTSTAMP:20260423T112707
CREATED:20230419T234956Z
LAST-MODIFIED:20230419T234956Z
UID:25821-1682157600-1682172000@www.thesangerscene.com
SUMMARY:Sanger Chamber Inaugural Young Entrepreneur's Fair
DESCRIPTION:
URL:https://www.thesangerscene.com/event/sanger-chamber-inaugural-young-entrepreneurs-fair/
LOCATION:Brehler Square\, 7th & N St.\, Sanger \, CA\, United States
ATTACH;FMTTYPE=image/jpeg:https://www.thesangerscene.com/wp-content/uploads/2023/04/2023-YEF.jpg
ORGANIZER;CN="Sanger District Chamber of Commerce":MAILTO:sangerchamber@gmail.com
END:VEVENT
BEGIN:VEVENT
DTSTART;TZID=America/Los_Angeles:20230422T100000
DTEND;TZID=America/Los_Angeles:20230422T130000
DTSTAMP:20260423T112707
CREATED:20230420T000235Z
LAST-MODIFIED:20230420T000235Z
UID:25829-1682157600-1682168400@www.thesangerscene.com
SUMMARY:Fruit and Veggie Fest at Gong's Market
DESCRIPTION:
URL:https://www.thesangerscene.com/event/fruit-and-veggie-fest-at-gongs-market/
LOCATION:Gong’s IGA Market\, 1825 Academy Ave.\, Sanger\, CA\, 93657\, United States
ATTACH;FMTTYPE=image/jpeg:https://www.thesangerscene.com/wp-content/uploads/2023/04/Gongs-FVF-English-Flier-copy.jpg
ORGANIZER;CN="California Health Collaborative":MAILTO:gfalcon@healthcollaborative.org
END:VEVENT
BEGIN:VEVENT
DTSTART;TZID=America/Los_Angeles:20230422T090000
DTEND;TZID=America/Los_Angeles:20230422T140000
DTSTAMP:20260423T112707
CREATED:20230329T172511Z
LAST-MODIFIED:20230329T172511Z
UID:25782-1682154000-1682172000@www.thesangerscene.com
SUMMARY:Grace Community Church Spring Craft & Vendor Fair
DESCRIPTION:Featuring Handmade Crafts\, Clothing\, Candles\, Baked Goods\, and so much more. \nGrace Youth will be selling BBQ ribeye($15) and Chicken ($10) plates to raise funds for Summer Camp.
URL:https://www.thesangerscene.com/event/grace-community-church-spring-craft-vendor-fair/
LOCATION:Grace Community Church\, 1620 Church Ave.\, Sanger\, CA\, 93657\, United States
ATTACH;FMTTYPE=image/png:https://www.thesangerscene.com/wp-content/uploads/2023/03/Spring-Vendor-Fair-Flyer-April-22nd-2023.png
END:VEVENT
BEGIN:VEVENT
DTSTART;TZID=America/Los_Angeles:20230415T110000
DTEND;TZID=America/Los_Angeles:20230415T170000
DTSTAMP:20260423T112707
CREATED:20230316T155101Z
LAST-MODIFIED:20230316T155101Z
UID:25739-1681556400-1681578000@www.thesangerscene.com
SUMMARY:34th Annual Apache Football BBQ & Street Fan Fest
DESCRIPTION:Downtown Sanger \nTri-tip & Chicken Dinner\, Adult Beverage Garden  \nFamily Entertainment\, Games\, Pony Rides\, Face Painting\, Bounce House\, Mechanical Bull\, Raffle & more. 
URL:https://www.thesangerscene.com/event/34th-annual-apache-football-bbq-street-fan-fest/
LOCATION:Phat Al’s\, 1316 7th Steet\, Sanger\, CA\, 93657\, United States
ATTACH;FMTTYPE=image/jpeg:https://www.thesangerscene.com/wp-content/uploads/2023/03/Apache-Football-BBQ-1.jpeg
END:VEVENT
BEGIN:VEVENT
DTSTART;TZID=America/Los_Angeles:20230328T170000
DTEND;TZID=America/Los_Angeles:20230328T193000
DTSTAMP:20260423T112707
CREATED:20230316T004129Z
LAST-MODIFIED:20230316T004129Z
UID:25732-1680022800-1680031800@www.thesangerscene.com
SUMMARY:Sanger Chamber Ribbon Cutting for the Linc Team and After Hours Business Mixer
DESCRIPTION:
URL:https://www.thesangerscene.com/event/sanger-chamber-ribbon-cutting-for-the-linc-team-and-after-hours-business-mixer/
LOCATION:The Linc Team\, 1533 7th Street #406\, Sanger\, CA\, 93657\, United States
ATTACH;FMTTYPE=image/jpeg:https://www.thesangerscene.com/wp-content/uploads/2023/03/LincTeam-RCMixer-copy.jpg
END:VEVENT
BEGIN:VEVENT
DTSTART;TZID=America/Los_Angeles:20230325T120000
DTEND;TZID=America/Los_Angeles:20230325T160000
DTSTAMP:20260423T112707
CREATED:20230316T004417Z
LAST-MODIFIED:20230316T004417Z
UID:25736-1679745600-1679760000@www.thesangerscene.com
SUMMARY:Inaugural Sanger Youth Football Tri-tip Plate Fundraiser
DESCRIPTION:Live Music by Lady and the Tramps
URL:https://www.thesangerscene.com/event/inaugural-sanger-youth-football-tri-tip-plate-fundraiser/
LOCATION:Oasis Saloon and Grill\, 757 Academy Ave.\, Sanger\, 93657
ATTACH;FMTTYPE=image/jpeg:https://www.thesangerscene.com/wp-content/uploads/2023/03/IMG_6755.jpg
END:VEVENT
BEGIN:VEVENT
DTSTART;TZID=America/Los_Angeles:20230319T120000
DTEND;TZID=America/Los_Angeles:20230319T160000
DTSTAMP:20260423T112707
CREATED:20230316T003744Z
LAST-MODIFIED:20230316T003744Z
UID:25729-1679227200-1679241600@www.thesangerscene.com
SUMMARY:St. Mary's St. Patrick's Dinner (79th year parish tradition)
DESCRIPTION:
URL:https://www.thesangerscene.com/event/st-marys-st-patricks-dinner-79th-year-parish-tradition/
LOCATION:St. Mary’s Church Hall\, Corner of North Ave. & Bethel Ave.\, Sanger\, CA\, 93657
ATTACH;FMTTYPE=image/jpeg:https://www.thesangerscene.com/wp-content/uploads/2023/03/IMG_6580.jpg
END:VEVENT
BEGIN:VEVENT
DTSTART;TZID=America/Los_Angeles:20230317T160000
DTEND;TZID=America/Los_Angeles:20230317T200000
DTSTAMP:20260423T112707
CREATED:20230316T003345Z
LAST-MODIFIED:20230316T003345Z
UID:25726-1679068800-1679083200@www.thesangerscene.com
SUMMARY:John Wash Elementary Carnival
DESCRIPTION:
URL:https://www.thesangerscene.com/event/john-wash-elementary-carnival-2/
LOCATION:John Wash Elementary\, 6350 E. Lane Ave.\, Fresno\, 93727
ATTACH;FMTTYPE=image/jpeg:https://www.thesangerscene.com/wp-content/uploads/2023/03/image000000.jpg
END:VEVENT
BEGIN:VEVENT
DTSTART;TZID=America/Los_Angeles:20230311T100000
DTEND;TZID=America/Los_Angeles:20230311T140000
DTSTAMP:20260423T112707
CREATED:20230116T205645Z
LAST-MODIFIED:20230116T205645Z
UID:25593-1678528800-1678543200@www.thesangerscene.com
SUMMARY:LEGO Masters Transportation Edition - A Blossom Trail Festival Event
DESCRIPTION:Build anything that can run on the ground\, fly in the sky or ride on the water\, or do all 3. Lego exhibits are welcome.  \nEach age category will have a 1st\, 2nd\, 3rd place winners.  \n10 am drop off \n11:00am to 1:30pm Competition  \nAges Categories: Pre K to Kindergarten\, 1st to 3rd grade\, 4th-6th grade\, 7th-8th grade
URL:https://www.thesangerscene.com/event/lego-masters-transportation-edition-a-blossom-trail-festival-event/
LOCATION:Sanger Bible Church\, 730 "O" Street\, Sanger\, CA\, 93657\, United States
ATTACH;FMTTYPE=image/jpeg:https://www.thesangerscene.com/wp-content/uploads/2023/01/Sanger-Lego-Masters-2023-flyer-copy.jpg
ORGANIZER;CN="Sanger District Chamber of Commerce":MAILTO:sangerchamber@gmail.com
END:VEVENT
BEGIN:VEVENT
DTSTART;TZID=America/Los_Angeles:20230311T090000
DTEND;TZID=America/Los_Angeles:20230311T160000
DTSTAMP:20260423T112707
CREATED:20230116T210416Z
LAST-MODIFIED:20230116T210416Z
UID:25596-1678525200-1678550400@www.thesangerscene.com
SUMMARY:Webber Realty Car Show-Blossom Trail Festival
DESCRIPTION:1st\, 2nd and 3rd in each class will receive an award along with a Best of Show Trophy. \nNew this year\, Earl Hudson Memorial Trophy
URL:https://www.thesangerscene.com/event/webber-realty-car-show-blossom-trail-festival/
LOCATION:Brehler Square\, 7th & N St.\, Sanger \, CA\, United States
ATTACH;FMTTYPE=image/jpeg:https://www.thesangerscene.com/wp-content/uploads/2023/01/Webber-Car-Show-2022-copy.jpg
ORGANIZER;CN="Webber Realty":MAILTO:1mikewebber@gmail.com
END:VEVENT
BEGIN:VEVENT
DTSTART;TZID=America/Los_Angeles:20230311T090000
DTEND;TZID=America/Los_Angeles:20230311T160000
DTSTAMP:20260423T112707
CREATED:20230111T225743Z
LAST-MODIFIED:20230111T225743Z
UID:25568-1678525200-1678550400@www.thesangerscene.com
SUMMARY:Sanger District Chamber 34th Annual Blossom Trail Festival
DESCRIPTION:
URL:https://www.thesangerscene.com/event/sanger-district-chamber-34th-annual-blossom-trail-festival/
LOCATION:Downtown Sanger\, 7th & N St.\, Sanger\, CA\, 93657\, United States
ATTACH;FMTTYPE=image/jpeg:https://www.thesangerscene.com/wp-content/uploads/2023/01/Blossom-Trail-Festival-Flyer-2023-Made-with-PosterMyWall.jpg
ORGANIZER;CN="Sanger District Chamber of Commerce":MAILTO:sangerchamber@gmail.com
END:VEVENT
BEGIN:VEVENT
DTSTART;TZID=America/Los_Angeles:20230304T110000
DTEND;TZID=America/Los_Angeles:20230304T120000
DTSTAMP:20260423T112707
CREATED:20230130T185242Z
LAST-MODIFIED:20230130T185242Z
UID:25646-1677927600-1677931200@www.thesangerscene.com
SUMMARY:City of Sanger Pet Parade
DESCRIPTION:
URL:https://www.thesangerscene.com/event/city-of-sanger-pet-parade/
LOCATION:Brehler Square\, 7th & N St.\, Sanger \, CA\, United States
ATTACH;FMTTYPE=image/png:https://www.thesangerscene.com/wp-content/uploads/2023/01/Flyer-Pet-Parade-2023.png
END:VEVENT
BEGIN:VEVENT
DTSTART;TZID=America/Los_Angeles:20230228T170000
DTEND;TZID=America/Los_Angeles:20230228T193000
DTSTAMP:20260423T112707
CREATED:20230201T023235Z
LAST-MODIFIED:20230201T023235Z
UID:25649-1677603600-1677612600@www.thesangerscene.com
SUMMARY:Sanger Chamber Ribbon Cutting/After Hours Business Mixer for Little Rock Tavern
DESCRIPTION:
URL:https://www.thesangerscene.com/event/sanger-chamber-ribbon-cutting-after-hours-business-mixer-for-little-rock-tavern/
LOCATION:Little Rock Tavern\, 933 Academy Ave.\, Sanger\, CA\, 93657\, United States
ATTACH;FMTTYPE=image/jpeg:https://www.thesangerscene.com/wp-content/uploads/2023/01/Little-Rock-Tavern-copy.jpg
END:VEVENT
BEGIN:VEVENT
DTSTART;TZID=America/Los_Angeles:20230210T180000
DTEND;TZID=America/Los_Angeles:20230210T220000
DTSTAMP:20260423T112707
CREATED:20230116T205039Z
LAST-MODIFIED:20230116T205039Z
UID:25591-1676052000-1676066400@www.thesangerscene.com
SUMMARY:10th Annual Sanger Dugout Boosters Valentines Fundraiser
DESCRIPTION:21 & Over Only \nFor more info contact Coach Cuellar at David_Cuellar@sangerusd.net or Kevin Weaver at (559) 960-3998. \n  \n 
URL:https://www.thesangerscene.com/event/10th-annual-sanger-dugout-boosters-valentines-fundraiser/
LOCATION:Grace Barn\, 4219 S. Highland Ave.\, Del Rey\, CA\, 93616\, United States
ATTACH;FMTTYPE=image/jpeg:https://www.thesangerscene.com/wp-content/uploads/2023/01/DugOutValentines-2.10.23.jpg
ORGANIZER;CN="Sanger Dugout Boosters":MAILTO:sangerhighdugoutboosters@gmail.com
END:VEVENT
BEGIN:VEVENT
DTSTART;TZID=America/Los_Angeles:20230130T173000
DTEND;TZID=America/Los_Angeles:20230130T183000
DTSTAMP:20260423T112707
CREATED:20230130T184914Z
LAST-MODIFIED:20230130T184914Z
UID:25643-1675099800-1675103400@www.thesangerscene.com
SUMMARY:City of Sanger Parks & Recreation Presents New Boxing Ring Unveiling
DESCRIPTION:
URL:https://www.thesangerscene.com/event/city-of-sanger-parks-recreation-presents-new-boxing-ring-unveiling/
LOCATION:Sanger Youth Center\, 818 L. St.\, Sanger\, 93657
END:VEVENT
BEGIN:VEVENT
DTSTART;TZID=America/Los_Angeles:20230127T180000
DTEND;TZID=America/Los_Angeles:20230127T210000
DTSTAMP:20260423T112707
CREATED:20230102T201140Z
LAST-MODIFIED:20230102T201140Z
UID:25506-1674842400-1674853200@www.thesangerscene.com
SUMMARY:Murder Mystery at the Sanger Library
DESCRIPTION:Tickets are $75 each pre-sale\, $100 at the door.  \nMust be 18+ to attend \nCall Rudy (559)579-9725 or Rosa (559)696-2332 for table reservation or for more information 
URL:https://www.thesangerscene.com/event/murder-mystery-at-the-sanger-library/
LOCATION:Sanger Library\, 1812 7th Street\, Sanger\, CA\, 93657\, United States
ATTACH;FMTTYPE=image/jpeg:https://www.thesangerscene.com/wp-content/uploads/2023/01/Murder-Mystery-at-Library-.jpg
END:VEVENT
BEGIN:VEVENT
DTSTART;TZID=America/Los_Angeles:20230127T160000
DTEND;TZID=America/Los_Angeles:20230127T173000
DTSTAMP:20260423T112707
CREATED:20230102T201534Z
LAST-MODIFIED:20230102T201534Z
UID:25509-1674835200-1674840600@www.thesangerscene.com
SUMMARY:Sanger Woman's Club Pulled Pork Sandwich Take Out Dinner
DESCRIPTION:Place orders at : sky.hannigan@hotmail.com or (559)349-5858 text or message \nPulled Pork Sandwich\, Rice Pilaf\, Coleslaw and a Cookie
URL:https://www.thesangerscene.com/event/sanger-womans-club-pulled-pork-sandwich-take-out-dinner/
LOCATION:Sanger Woman’s Club\, Corner of 7th & P Streets\, Sanger\, 93657
ATTACH;FMTTYPE=image/jpeg:https://www.thesangerscene.com/wp-content/uploads/2023/01/SWC-Pulled-Pork-.jpg
END:VEVENT
BEGIN:VEVENT
DTSTART;TZID=America/Los_Angeles:20230125T160000
DTEND;TZID=America/Los_Angeles:20230125T190000
DTSTAMP:20260423T112707
CREATED:20230102T204640Z
LAST-MODIFIED:20230102T204640Z
UID:25518-1674662400-1674673200@www.thesangerscene.com
SUMMARY:City of Sanger Budget Workshop
DESCRIPTION:
URL:https://www.thesangerscene.com/event/city-of-sanger-budget-workshop-2/
LOCATION:Sanger Academy Charter School\, 2207 Ninth St.\, Sanger \, CA\, 93657\, United States
ATTACH;FMTTYPE=image/png:https://www.thesangerscene.com/wp-content/uploads/2023/01/image002.png
ORGANIZER;CN="City of Sanger":MAILTO:ctamez@ci.sanger.ca.us
END:VEVENT
BEGIN:VEVENT
DTSTART;TZID=America/Los_Angeles:20230124T170000
DTEND;TZID=America/Los_Angeles:20230124T190000
DTSTAMP:20260423T112707
CREATED:20230109T224510Z
LAST-MODIFIED:20230109T224510Z
UID:25556-1674579600-1674586800@www.thesangerscene.com
SUMMARY:Botanical Bliss Aesthetic Spa
DESCRIPTION:Official Ribbon Cutting at 5pm \nSanger District Chamber of Commerce ‘After Business Hours Mixer’ hosted by Botanical Bliss
URL:https://www.thesangerscene.com/event/botanical-bliss-aesthetic-spa/
LOCATION:Botanical Bliss Aestheitc Spa\, 1822 Jensen Ave. #102\, Sanger\, CA\, 93657\, United States
ATTACH;FMTTYPE=image/jpeg:https://www.thesangerscene.com/wp-content/uploads/2023/01/BotanicalBliss.jpg
ORGANIZER;CN="Sanger District Chamber of Commerce":MAILTO:sangerchamber@gmail.com
END:VEVENT
BEGIN:VEVENT
DTSTART;TZID=America/Los_Angeles:20230114T080000
DTEND;TZID=America/Los_Angeles:20230114T090000
DTSTAMP:20260423T112707
CREATED:20230103T232853Z
LAST-MODIFIED:20230103T232853Z
UID:25545-1673683200-1673686800@www.thesangerscene.com
SUMMARY:Veterans of Foreign Wars Post 7168 Community Breakfast
DESCRIPTION:
URL:https://www.thesangerscene.com/event/veterans-of-foreign-wars-post-7168-community-breakfast/
LOCATION:American Legion Hall\, 1502 "O" Street\, Sanger\, 93657
ATTACH;FMTTYPE=image/jpeg:https://www.thesangerscene.com/wp-content/uploads/2023/01/Jan-Breakfast-VFW-copy.jpg
END:VEVENT
BEGIN:VEVENT
DTSTART;TZID=America/Los_Angeles:20230111T160000
DTEND;TZID=America/Los_Angeles:20230111T190000
DTSTAMP:20260423T112707
CREATED:20230102T204519Z
LAST-MODIFIED:20230102T204519Z
UID:25515-1673452800-1673463600@www.thesangerscene.com
SUMMARY:City of Sanger Budget Workshop
DESCRIPTION:
URL:https://www.thesangerscene.com/event/city-of-sanger-budget-workshop/
LOCATION:Sanger Community Center\, 1234 
ATTACH;FMTTYPE=image/png:https://www.thesangerscene.com/wp-content/uploads/2023/01/image002.png
ORGANIZER;CN="City of Sanger":MAILTO:ctamez@ci.sanger.ca.us
END:VEVENT
BEGIN:VEVENT
DTSTART;TZID=America/Los_Angeles:20230107T090000
DTEND;TZID=America/Los_Angeles:20230107T160000
DTSTAMP:20260423T112707
CREATED:20230102T200658Z
LAST-MODIFIED:20230102T200658Z
UID:25503-1673082000-1673107200@www.thesangerscene.com
SUMMARY:Healthy Blendz Sanger 1st Year Anniversary
DESCRIPTION:Raffles\, local vendors\, and more. 
URL:https://www.thesangerscene.com/event/healthy-blendz-sanger-1st-year-anniversary/
LOCATION:Healthy Blendz\, 2570 Jensen Ave. Ste 101\, Sanger\, CA\, 93657\, United States
ATTACH;FMTTYPE=image/jpeg:https://www.thesangerscene.com/wp-content/uploads/2023/01/Healthy-Blendz-1st-Ann.jpeg
END:VEVENT
BEGIN:VEVENT
DTSTART;TZID=America/Los_Angeles:20230103T110000
DTEND;TZID=America/Los_Angeles:20230103T133000
DTSTAMP:20260423T112707
CREATED:20230102T204156Z
LAST-MODIFIED:20230102T204156Z
UID:25512-1672743600-1672752600@www.thesangerscene.com
SUMMARY:Sanger Woman's Club January Lunch Meeting
DESCRIPTION:First meeting of the New Year. \nMeeting at 11am and Lunch at 12pm Noon \nThe Project for January is assisting the Sanger Cub and Boy Scout Troop 322 with t-shirt donations to help their members meet their uniform needs.  \nSe flyer posted for details. 
URL:https://www.thesangerscene.com/event/sanger-womans-club-january-lunch-meeting/
LOCATION:Sanger Woman’s Club\, Corner of 7th & P Streets\, Sanger\, 93657
ATTACH;FMTTYPE=image/png:https://www.thesangerscene.com/wp-content/uploads/2023/01/SWC-Jan-Meeting-Project.png
END:VEVENT
BEGIN:VEVENT
DTSTART;TZID=America/Los_Angeles:20221221T130000
DTEND;TZID=America/Los_Angeles:20221221T170000
DTSTAMP:20260423T112707
CREATED:20221213T205124Z
LAST-MODIFIED:20221213T205124Z
UID:25490-1671627600-1671642000@www.thesangerscene.com
SUMMARY:Arsenio's Christmas Market
DESCRIPTION:
URL:https://www.thesangerscene.com/event/arsenios-christmas-market/
LOCATION:Arsennio’s Restaurant\, 10005 Academy Ave\, Sanger\, 93657\, United States
ATTACH;FMTTYPE=image/jpeg:https://www.thesangerscene.com/wp-content/uploads/2022/12/Aresenios.jpg
END:VEVENT
BEGIN:VEVENT
DTSTART;TZID=America/Los_Angeles:20221219T120000
DTEND;TZID=America/Los_Angeles:20221219T150000
DTSTAMP:20260423T112707
CREATED:20221213T204720Z
LAST-MODIFIED:20221213T204720Z
UID:25488-1671451200-1671462000@www.thesangerscene.com
SUMMARY:Santa is coming to Sanger hosted by State Foods Supermarket
DESCRIPTION:
URL:https://www.thesangerscene.com/event/santa-is-coming-to-sanger-hosted-by-state-foods-supermarket/
LOCATION:State Foods Supermarket\, 237 Academy\, Sanger\, 93657
ATTACH;FMTTYPE=image/jpeg:https://www.thesangerscene.com/wp-content/uploads/2022/12/FCC676C6-21FF-4794-8083-A221967D3BF7.jpg
END:VEVENT
BEGIN:VEVENT
DTSTART;TZID=America/Los_Angeles:20221218T170000
DTEND;TZID=America/Los_Angeles:20221218T190000
DTSTAMP:20260423T112707
CREATED:20221213T204524Z
LAST-MODIFIED:20221213T204524Z
UID:25486-1671382800-1671390000@www.thesangerscene.com
SUMMARY:Sanger Community Church presents An Evening of Christmas Joy
DESCRIPTION:
URL:https://www.thesangerscene.com/event/sanger-community-church-presents-an-evening-of-christmas-joy-2/
LOCATION:Sanger Community Church\, 1610 Jensen Ave.\, Sanger\, CA\, 93657
ATTACH;FMTTYPE=image/jpeg:https://www.thesangerscene.com/wp-content/uploads/2022/12/IMG_3112-1.jpg
END:VEVENT
END:VCALENDAR