BEGIN:VCALENDAR
VERSION:2.0
PRODID:-//The Sanger Scene - ECPv6.5.1.6//NONSGML v1.0//EN
CALSCALE:GREGORIAN
METHOD:PUBLISH
X-WR-CALNAME:The Sanger Scene
X-ORIGINAL-URL:https://www.thesangerscene.com
X-WR-CALDESC:Events for The Sanger Scene
REFRESH-INTERVAL;VALUE=DURATION:PT1H
X-Robots-Tag:noindex
X-PUBLISHED-TTL:PT1H
BEGIN:VTIMEZONE
TZID:America/Los_Angeles
BEGIN:DAYLIGHT
TZOFFSETFROM:-0800
TZOFFSETTO:-0700
TZNAME:PDT
DTSTART:20220313T100000
END:DAYLIGHT
BEGIN:STANDARD
TZOFFSETFROM:-0700
TZOFFSETTO:-0800
TZNAME:PST
DTSTART:20221106T090000
END:STANDARD
END:VTIMEZONE
BEGIN:VEVENT
DTSTART;TZID=America/Los_Angeles:20221215T173000
DTEND;TZID=America/Los_Angeles:20221215T193000
DTSTAMP:20260423T162902
CREATED:20221213T204333Z
LAST-MODIFIED:20221213T204333Z
UID:25479-1671125400-1671132600@www.thesangerscene.com
SUMMARY:Sanger FFA Annual Winter Lights Drive Thru on the Farm
DESCRIPTION:See Flyer for Drive Thru Directions
URL:https://www.thesangerscene.com/event/sanger-ffa-annual-winter-lights-drive-thru-on-the-farm-3/
LOCATION:Sanger High School\, 1045 Bethel Ave.\, Sanger \, 93657
ATTACH;FMTTYPE=image/jpeg:https://www.thesangerscene.com/wp-content/uploads/2022/12/IMG_7290.jpeg
END:VEVENT
BEGIN:VEVENT
DTSTART;TZID=America/Los_Angeles:20221211T143000
DTEND;TZID=America/Los_Angeles:20221211T163000
DTSTAMP:20260423T162902
CREATED:20221103T231815Z
LAST-MODIFIED:20221103T231815Z
UID:25374-1670769000-1670776200@www.thesangerscene.com
SUMMARY:Sanger District Chamber of Commerce 97th annual Trek to the Nation's Christmas Tree
DESCRIPTION:Guest Speaker Fresno County Sheriff Margaret Mims
URL:https://www.thesangerscene.com/event/sanger-district-chamber-of-commerce-97th-annual-trek-to-the-nations-christmas-tree/
LOCATION:General Grant Tree in Grants Grove in Kings Canyon National Park
ATTACH;FMTTYPE=image/png:https://www.thesangerscene.com/wp-content/uploads/2022/11/2022-Trek-to-the-Tree-Save-the-Date-1-Made-with-PosterMyWall.png
ORGANIZER;CN="Sanger Distrcit Chamber of Commerce":MAILTO:sangerchamber@gmail.com
END:VEVENT
BEGIN:VEVENT
DTSTART;TZID=America/Los_Angeles:20221206T180000
DTEND;TZID=America/Los_Angeles:20221206T193000
DTSTAMP:20260423T162902
CREATED:20221202T062936Z
LAST-MODIFIED:20221202T062936Z
UID:25439-1670349600-1670355000@www.thesangerscene.com
SUMMARY:Sanger Community Church Christmas Tree Lighting Ceremony
DESCRIPTION:
URL:https://www.thesangerscene.com/event/sanger-community-church-christmas-tree-lighting-ceremony/
LOCATION:Sanger Community Church\, 1610 Jensen Ave.\, Sanger\, CA\, 93657
ATTACH;FMTTYPE=image/jpeg:https://www.thesangerscene.com/wp-content/uploads/2022/12/Christmas-Tree-Lighting-ceremony-flyer-2022-copy.jpg
END:VEVENT
BEGIN:VEVENT
DTSTART;TZID=America/Los_Angeles:20221206T114500
DTEND;TZID=America/Los_Angeles:20221206T133000
DTSTAMP:20260423T162902
CREATED:20221202T062712Z
LAST-MODIFIED:20221202T062712Z
UID:25436-1670327100-1670333400@www.thesangerscene.com
SUMMARY:Sanger Woman's Club Luncheon- Christmas Celebration
DESCRIPTION:
URL:https://www.thesangerscene.com/event/sanger-womans-club-luncheon-christmas-celebration/
LOCATION:Sanger Woman’s Club\, Corner of 7th & P Streets\, Sanger\, 93657
ATTACH;FMTTYPE=image/jpeg:https://www.thesangerscene.com/wp-content/uploads/2022/12/SWC-Lunch-Dec-6.jpg
END:VEVENT
BEGIN:VEVENT
DTSTART;TZID=America/Los_Angeles:20221203T110000
DTEND;TZID=America/Los_Angeles:20221203T130000
DTSTAMP:20260423T162902
CREATED:20221103T232039Z
LAST-MODIFIED:20221103T232039Z
UID:25376-1670065200-1670072400@www.thesangerscene.com
SUMMARY:Sanger District Chamber of Commerce 74th Annual Nation's Christmas Tree City Toyland Parade
DESCRIPTION:Parade Route begins 12th and Academy
URL:https://www.thesangerscene.com/event/sanger-district-chamber-of-commerce-74th-annual-nations-christmas-tree-city-toyland-parade/
LOCATION:Downton Sanger\, Sanger\, CA\, 93657
ATTACH;FMTTYPE=image/jpeg:https://www.thesangerscene.com/wp-content/uploads/2022/11/Toyland-Parade-Flyer-2022.jpg
ORGANIZER;CN="Sanger District Chamber of Commerce":MAILTO:sangerchamber@gmail.com
END:VEVENT
BEGIN:VEVENT
DTSTART;TZID=America/Los_Angeles:20221203T090000
DTEND;TZID=America/Los_Angeles:20221203T140000
DTSTAMP:20260423T162902
CREATED:20221202T062410Z
LAST-MODIFIED:20221202T062410Z
UID:25434-1670058000-1670076000@www.thesangerscene.com
SUMMARY:Sanger Woman's Club presents "A Christmas Bazaar"
DESCRIPTION:
URL:https://www.thesangerscene.com/event/sanger-womans-club-presents-a-christmas-bazaar-2/
LOCATION:Sanger Woman’s Club\, Corner of 7th & P Streets\, Sanger\, 93657
ATTACH;FMTTYPE=image/jpeg:https://www.thesangerscene.com/wp-content/uploads/2022/12/IMG_1244.jpg
END:VEVENT
BEGIN:VEVENT
DTSTART;TZID=America/Los_Angeles:20221202T100000
DTEND;TZID=America/Los_Angeles:20221202T140000
DTSTAMP:20260423T162902
CREATED:20221202T062307Z
LAST-MODIFIED:20221202T062307Z
UID:25429-1669975200-1669989600@www.thesangerscene.com
SUMMARY:Sanger Woman's Club presents "A Christmas Bazaar"
DESCRIPTION:
URL:https://www.thesangerscene.com/event/sanger-womans-club-presents-a-christmas-bazaar/
LOCATION:Sanger Woman’s Club\, 1602 7th St.\, Sanger\, CA\, 93657\, United States
ATTACH;FMTTYPE=image/jpeg:https://www.thesangerscene.com/wp-content/uploads/2022/12/IMG_1244.jpg
END:VEVENT
BEGIN:VEVENT
DTSTART;TZID=America/Los_Angeles:20221130T183000
DTEND;TZID=America/Los_Angeles:20221130T203000
DTSTAMP:20260423T162902
CREATED:20221103T231534Z
LAST-MODIFIED:20221103T231534Z
UID:25372-1669833000-1669840200@www.thesangerscene.com
SUMMARY:Sanger Chamber 39th Annual Christmas Tree Lighting
DESCRIPTION:
URL:https://www.thesangerscene.com/event/sanger-chamber-39th-annual-christmas-tree-lighting/
LOCATION:Downtown 7th Street\, Sanger\, 93657
ATTACH;FMTTYPE=image/jpeg:https://www.thesangerscene.com/wp-content/uploads/2022/11/2022-Tree-Lighting-flyer-Made-with-PosterMyWall.jpg
ORGANIZER;CN="Sanger District Chamber of Commerce":MAILTO:sangerchamber@gmail.com
END:VEVENT
BEGIN:VEVENT
DTSTART;TZID=America/Los_Angeles:20221122T173000
DTEND;TZID=America/Los_Angeles:20221122T193000
DTSTAMP:20260423T162902
CREATED:20221108T010847Z
LAST-MODIFIED:20221108T010847Z
UID:25380-1669138200-1669145400@www.thesangerscene.com
SUMMARY:Sanger Chamber 'After Business Hours' Mixer\, Crowning of Mr. & Mrs. Sanger\, at Definitive Staffing Solutions\, Inc.
DESCRIPTION:Crowning of Mr. & Mrs. Sanger
URL:https://www.thesangerscene.com/event/sanger-chamber-after-business-hours-mixer-crowning-of-mr-mrs-sanger-at-definitive-staffing-solutions-inc/
LOCATION:Definitive Staffing Solutions Inc.\, 1401 7th Street\, Sanger\, 93657\, United States
ATTACH;FMTTYPE=image/jpeg:https://www.thesangerscene.com/wp-content/uploads/2022/11/Definitive-Staffing-Solutions-Made-with-PosterMyWall.jpg
ORGANIZER;CN="Sanger District Chamber of Commerce":MAILTO:sangerchamber@gmail.com
END:VEVENT
BEGIN:VEVENT
DTSTART;TZID=America/Los_Angeles:20221119T193000
DTEND;TZID=America/Los_Angeles:20221119T213000
DTSTAMP:20260423T162902
CREATED:20221103T230606Z
LAST-MODIFIED:20221103T230606Z
UID:25367-1668886200-1668893400@www.thesangerscene.com
SUMMARY:Sanger Apache Theatre presents "Murder on the Orient Express"
DESCRIPTION:Students $8 \nAdults $10
URL:https://www.thesangerscene.com/event/sanger-apache-theatre-presents-murder-on-the-orient-express-4/
LOCATION:Sanger High School MPR\, 1045 Bethel Ave.\, Sanger \, 93657
ATTACH;FMTTYPE=image/jpeg:https://www.thesangerscene.com/wp-content/uploads/2022/11/IMG_0221.jpg
END:VEVENT
BEGIN:VEVENT
DTSTART;TZID=America/Los_Angeles:20221119T170000
DTEND;TZID=America/Los_Angeles:20221119T220000
DTSTAMP:20260423T162902
CREATED:20221103T225322Z
LAST-MODIFIED:20221103T225322Z
UID:25358-1668877200-1668895200@www.thesangerscene.com
SUMMARY:Optimist International Sanger Hawaiian Thanksgiving Bash
DESCRIPTION:
URL:https://www.thesangerscene.com/event/optimist-international-sanger-hawaiian-thanksgiving-bash/
LOCATION:House of Pendragon\, 1849 Industrial Way #103\, Sanger\, 93657
ATTACH;FMTTYPE=image/png:https://www.thesangerscene.com/wp-content/uploads/2022/11/image001.png
END:VEVENT
BEGIN:VEVENT
DTSTART;TZID=America/Los_Angeles:20221117T193000
DTEND;TZID=America/Los_Angeles:20221117T213000
DTSTAMP:20260423T162902
CREATED:20221103T225952Z
LAST-MODIFIED:20221103T225952Z
UID:25365-1668713400-1668720600@www.thesangerscene.com
SUMMARY:Sanger Apache Theatre presents "Murder on the Orient Express"
DESCRIPTION:Students $8 \nAdults $10
URL:https://www.thesangerscene.com/event/sanger-apache-theatre-presents-murder-on-the-orient-express-3/
LOCATION:Sanger High School MPR\, 1045 Bethel Ave.\, Sanger \, 93657
ATTACH;FMTTYPE=image/jpeg:https://www.thesangerscene.com/wp-content/uploads/2022/11/IMG_0221.jpg
END:VEVENT
BEGIN:VEVENT
DTSTART;TZID=America/Los_Angeles:20221112T193000
DTEND;TZID=America/Los_Angeles:20221112T213000
DTSTAMP:20260423T162902
CREATED:20221103T225720Z
LAST-MODIFIED:20221103T225720Z
UID:25363-1668281400-1668288600@www.thesangerscene.com
SUMMARY:Sanger Apache theatre presents "Murder on the Orient Express"
DESCRIPTION:Students $8 \nAdults $10
URL:https://www.thesangerscene.com/event/sanger-apache-theatre-presents-murder-on-the-orient-express-2/
LOCATION:Sanger High School MPR\, 1045 Bethel Ave.\, Sanger \, 93657
ATTACH;FMTTYPE=image/jpeg:https://www.thesangerscene.com/wp-content/uploads/2022/11/IMG_0221.jpg
END:VEVENT
BEGIN:VEVENT
DTSTART;TZID=America/Los_Angeles:20221110T193000
DTEND;TZID=America/Los_Angeles:20221110T213000
DTSTAMP:20260423T162902
CREATED:20221103T225554Z
LAST-MODIFIED:20221103T225554Z
UID:25361-1668108600-1668115800@www.thesangerscene.com
SUMMARY:Sanger Apache theatre presents "Murder on the Orient Express"
DESCRIPTION:Students $8 \nAdults $10
URL:https://www.thesangerscene.com/event/sanger-apache-theatre-presents-murder-on-the-orient-express/
LOCATION:Sanger High School MPR\, 1045 Bethel Ave.\, Sanger \, 93657
ATTACH;FMTTYPE=image/jpeg:https://www.thesangerscene.com/wp-content/uploads/2022/11/IMG_0221.jpg
END:VEVENT
BEGIN:VEVENT
DTSTART;TZID=America/Los_Angeles:20221105T103000
DTEND;TZID=America/Los_Angeles:20221105T123000
DTSTAMP:20260423T162902
CREATED:20221103T224722Z
LAST-MODIFIED:20221103T224722Z
UID:25352-1667644200-1667651400@www.thesangerscene.com
SUMMARY:12th Annual Sanger Veterans Parade
DESCRIPTION:
URL:https://www.thesangerscene.com/event/25352/
LOCATION:Downton Sanger\, Sanger\, CA\, 93657
ATTACH;FMTTYPE=image/jpeg:https://www.thesangerscene.com/wp-content/uploads/2022/11/SANGER-VETERANS-PARADE-APP-2022-Prelim-copy.jpg
END:VEVENT
BEGIN:VEVENT
DTSTART;TZID=America/Los_Angeles:20221104T160000
DTEND;TZID=America/Los_Angeles:20221104T190000
DTSTAMP:20260423T162902
CREATED:20221103T225104Z
LAST-MODIFIED:20221103T225104Z
UID:25356-1667577600-1667588400@www.thesangerscene.com
SUMMARY:Veterans of Foreign Wars Post 7168 Chile Verde Dinner
DESCRIPTION:
URL:https://www.thesangerscene.com/event/veterans-of-foreign-wars-post-7168-chile-verde-dinner/
LOCATION:American Legion Hall\, 1502 "O" Street\, Sanger\, 93657
ATTACH;FMTTYPE=image/jpeg:https://www.thesangerscene.com/wp-content/uploads/2022/11/Chili-Verde-Dinner-Made-with-PosterMyWall.jpg
END:VEVENT
BEGIN:VEVENT
DTSTART;TZID=America/Los_Angeles:20221031T183000
DTEND;TZID=America/Los_Angeles:20221031T200000
DTSTAMP:20260423T162902
CREATED:20220825T003208Z
LAST-MODIFIED:20220825T003208Z
UID:25017-1667241000-1667246400@www.thesangerscene.com
SUMMARY:34th Annual Downtown Trunk or Treat
DESCRIPTION:
URL:https://www.thesangerscene.com/event/34th-annual-downtown-trunk-or-treat/
LOCATION:Downtown Sanger\, 7th & N St.\, Sanger\, CA\, 93657\, United States
ATTACH;FMTTYPE=image/jpeg:https://www.thesangerscene.com/wp-content/uploads/2022/08/IMG_6796.jpg
ORGANIZER;CN="Sanger District Chamber of Commerce":MAILTO:sangerchamber@gmail.com
END:VEVENT
BEGIN:VEVENT
DTSTART;TZID=America/Los_Angeles:20221031T180000
DTEND;TZID=America/Los_Angeles:20221031T200000
DTSTAMP:20260423T162902
CREATED:20221022T004615Z
LAST-MODIFIED:20221022T004615Z
UID:25318-1667239200-1667246400@www.thesangerscene.com
SUMMARY:House of Refuge Trunk or Treat
DESCRIPTION:
URL:https://www.thesangerscene.com/event/house-of-refuge-trunk-or-treat/
LOCATION:House of Refuge\, 2160 Jensen Ave.\, Sanger\, 93657\, United States
ATTACH;FMTTYPE=image/jpeg:https://www.thesangerscene.com/wp-content/uploads/2022/10/IMG_9029.jpg
END:VEVENT
BEGIN:VEVENT
DTSTART;TZID=America/Los_Angeles:20221031T173000
DTEND;TZID=America/Los_Angeles:20221031T190000
DTSTAMP:20260423T162902
CREATED:20221020T234907Z
LAST-MODIFIED:20221020T234907Z
UID:25296-1667237400-1667242800@www.thesangerscene.com
SUMMARY:Sanger Community Church Trunk or Treat
DESCRIPTION:
URL:https://www.thesangerscene.com/event/sanger-community-church-trunk-or-treat-2/
LOCATION:Sanger Community Church\, 1610 Jensen Ave.\, Sanger\, 93657\, United States
ATTACH;FMTTYPE=image/jpeg:https://www.thesangerscene.com/wp-content/uploads/2022/10/TRUNKTREAT2022-pg-1-copy-2.jpg
END:VEVENT
BEGIN:VEVENT
DTSTART;TZID=America/Los_Angeles:20221030T160000
DTEND;TZID=America/Los_Angeles:20221030T190000
DTSTAMP:20260423T162902
CREATED:20221020T235457Z
LAST-MODIFIED:20221020T235457Z
UID:25300-1667145600-1667156400@www.thesangerscene.com
SUMMARY:Grace Community Church Trunk or Treat
DESCRIPTION:
URL:https://www.thesangerscene.com/event/grace-community-church-trunk-or-treat-2/
LOCATION:Grace Community Church\, 1620 Church Ave.\, Sanger\, CA\, 93657\, United States
ATTACH;FMTTYPE=image/jpeg:https://www.thesangerscene.com/wp-content/uploads/2022/10/IMG_9018.jpg
END:VEVENT
BEGIN:VEVENT
DTSTART;TZID=America/Los_Angeles:20221030T160000
DTEND;TZID=America/Los_Angeles:20221030T190000
DTSTAMP:20260423T162903
CREATED:20220803T024743Z
LAST-MODIFIED:20220803T024743Z
UID:24952-1667145600-1667156400@www.thesangerscene.com
SUMMARY:Sanger Rotary BBQ
DESCRIPTION:
URL:https://www.thesangerscene.com/event/sanger-rotary-bbq/
LOCATION:Kings River Winery\, 4276 S. Greenwood\, Sanger\, CA\, 93657
ATTACH;FMTTYPE=image/jpeg:https://www.thesangerscene.com/wp-content/uploads/2022/08/SangerRotaryBBQ-1.jpg
END:VEVENT
BEGIN:VEVENT
DTSTART;TZID=America/Los_Angeles:20221029T193000
DTEND;TZID=America/Los_Angeles:20221029T220000
DTSTAMP:20260423T162903
CREATED:20221021T001143Z
LAST-MODIFIED:20221021T001143Z
UID:25316-1667071800-1667080800@www.thesangerscene.com
SUMMARY:Sanger West Hive Theatre Company presents 'Barefoot in the Park'
DESCRIPTION:Adults $10 \nStudents $8
URL:https://www.thesangerscene.com/event/sanger-west-hive-theatre-company-presents-barefoot-in-the-park-6/
LOCATION:Sanger West High MPR\, 1850 S. Fowler\, Fresno\, 93727\, United States
ATTACH;FMTTYPE=image/jpeg:https://www.thesangerscene.com/wp-content/uploads/2022/10/HTC-Barefoot-in-the-Park-Poster.jpeg
END:VEVENT
BEGIN:VEVENT
DTSTART;TZID=America/Los_Angeles:20221029T140000
DTEND;TZID=America/Los_Angeles:20221029T160000
DTSTAMP:20260423T162903
CREATED:20221021T001025Z
LAST-MODIFIED:20221021T001025Z
UID:25314-1667052000-1667059200@www.thesangerscene.com
SUMMARY:Sanger West Hive Theatre Company presents 'Barefoot in the Park'
DESCRIPTION:Adults $10 \nStudents $8
URL:https://www.thesangerscene.com/event/sanger-west-hive-theatre-company-presents-barefoot-in-the-park-5/
LOCATION:Sanger West High MPR\, 1850 S. Fowler\, Fresno\, 93727\, United States
ATTACH;FMTTYPE=image/jpeg:https://www.thesangerscene.com/wp-content/uploads/2022/10/HTC-Barefoot-in-the-Park-Poster.jpeg
END:VEVENT
BEGIN:VEVENT
DTSTART;TZID=America/Los_Angeles:20221027T193000
DTEND;TZID=America/Los_Angeles:20221027T220000
DTSTAMP:20260423T162903
CREATED:20221021T000719Z
LAST-MODIFIED:20221021T000719Z
UID:25312-1666899000-1666908000@www.thesangerscene.com
SUMMARY:Sanger West Hive Theatre Company presents 'Barefoot in the Park'
DESCRIPTION:Adults $10 \nStudents $8
URL:https://www.thesangerscene.com/event/sanger-west-hive-theatre-company-presents-barefoot-in-the-park-4/
LOCATION:Sanger West High MPR\, 1850 S. Fowler\, Fresno\, 93727\, United States
ATTACH;FMTTYPE=image/jpeg:https://www.thesangerscene.com/wp-content/uploads/2022/10/HTC-Barefoot-in-the-Park-Poster.jpeg
END:VEVENT
BEGIN:VEVENT
DTSTART;TZID=America/Los_Angeles:20221025T173000
DTEND;TZID=America/Los_Angeles:20221025T190000
DTSTAMP:20260423T162903
CREATED:20221010T224804Z
LAST-MODIFIED:20221010T224804Z
UID:25220-1666719000-1666724400@www.thesangerscene.com
SUMMARY:Sanger Chamber 'After Hours Mixer' hosted by Reyna's Business Center Tax Preparation & Insurance
DESCRIPTION:
URL:https://www.thesangerscene.com/event/sanger-chamber-after-hours-mixer-hosted-by-reynas-business-center-tax-preparation-insurance/
LOCATION:Reyna’s Business Center\, 619 N. Street St# "C"\, Sanger\, CA\, 93657\, United States
ATTACH;FMTTYPE=image/jpeg:https://www.thesangerscene.com/wp-content/uploads/2022/10/Reynas-Mixer-Made-with-PosterMyWall.jpg
ORGANIZER;CN="Sanger District Chamber of Commerce":MAILTO:sanger.org
END:VEVENT
BEGIN:VEVENT
DTSTART;TZID=America/Los_Angeles:20221022T193000
DTEND;TZID=America/Los_Angeles:20221022T220000
DTSTAMP:20260423T162903
CREATED:20221021T000137Z
LAST-MODIFIED:20221021T000137Z
UID:25308-1666467000-1666476000@www.thesangerscene.com
SUMMARY:Sanger West Hive Theatre Company presents 'Barefoot in the Park'
DESCRIPTION:Adults $10 \nStudents $8
URL:https://www.thesangerscene.com/event/sanger-west-hive-theatre-company-presents-barefoot-in-the-park-2/
LOCATION:Sanger West High MPR\, 1850 S. Fowler\, Fresno\, 93727\, United States
ATTACH;FMTTYPE=image/jpeg:https://www.thesangerscene.com/wp-content/uploads/2022/10/HTC-Barefoot-in-the-Park-Poster.jpeg
END:VEVENT
BEGIN:VEVENT
DTSTART;TZID=America/Los_Angeles:20221022T140000
DTEND;TZID=America/Los_Angeles:20221022T160000
DTSTAMP:20260423T162903
CREATED:20221021T000306Z
LAST-MODIFIED:20221021T000306Z
UID:25310-1666447200-1666454400@www.thesangerscene.com
SUMMARY:Sanger West Hive Theatre Company presents 'Barefoot in the Park'
DESCRIPTION:Adults $10 \nStudents $8
URL:https://www.thesangerscene.com/event/sanger-west-hive-theatre-company-presents-barefoot-in-the-park-3/
LOCATION:Sanger West High MPR\, 1850 S. Fowler\, Fresno\, 93727\, United States
ATTACH;FMTTYPE=image/jpeg:https://www.thesangerscene.com/wp-content/uploads/2022/10/HTC-Barefoot-in-the-Park-Poster.jpeg
END:VEVENT
BEGIN:VEVENT
DTSTART;TZID=America/Los_Angeles:20221021T150000
DTEND;TZID=America/Los_Angeles:20221021T160000
DTSTAMP:20260423T162903
CREATED:20221020T234517Z
LAST-MODIFIED:20221020T234517Z
UID:25292-1666364400-1666368000@www.thesangerscene.com
SUMMARY:Sanger Chamber Ribbon Cutting for Apache Truck Training Service
DESCRIPTION:
URL:https://www.thesangerscene.com/event/sanger-chamber-ribbon-cutting-for-apache-truck-training-service/
LOCATION:Apache Truck Training Service\, 1117 K Street\, Sanger\, CA\, 93657\, United States
ATTACH;FMTTYPE=image/jpeg:https://www.thesangerscene.com/wp-content/uploads/2022/10/Apache-Truck-Ribbon-Cutting.jpg
ORGANIZER;CN="Sanger District Chamber of Commerce":MAILTO:sangerchamber@gmail.com
END:VEVENT
BEGIN:VEVENT
DTSTART;TZID=America/Los_Angeles:20221020T193000
DTEND;TZID=America/Los_Angeles:20221020T220000
DTSTAMP:20260423T162903
CREATED:20221020T235958Z
LAST-MODIFIED:20221020T235958Z
UID:25303-1666294200-1666303200@www.thesangerscene.com
SUMMARY:Sanger West Hive Theatre Company presents 'Barefoot in the Park'
DESCRIPTION:Adults $10 \nStudents $8
URL:https://www.thesangerscene.com/event/sanger-west-hive-theatre-company-presents-barefoot-in-the-park/
LOCATION:Sanger West High MPR\, 1850 S. Fowler\, Fresno\, 93727\, United States
ATTACH;FMTTYPE=image/jpeg:https://www.thesangerscene.com/wp-content/uploads/2022/10/HTC-Barefoot-in-the-Park-Poster.jpeg
END:VEVENT
BEGIN:VEVENT
DTSTART;TZID=America/Los_Angeles:20221004T140000
DTEND;TZID=America/Los_Angeles:20221004T170000
DTSTAMP:20260423T162903
CREATED:20220916T003743Z
LAST-MODIFIED:20220916T003743Z
UID:25175-1664892000-1664902800@www.thesangerscene.com
SUMMARY:Annual Sanger Job & Resource Fair
DESCRIPTION:
URL:https://www.thesangerscene.com/event/annual-sanger-job-resource-fair-2/
LOCATION:Sanger Community Center\, 1234 
ATTACH;FMTTYPE=image/jpeg:https://www.thesangerscene.com/wp-content/uploads/2022/09/Sanger-Job-and-Resource-Fair-2022-Yellow.jpg
ORGANIZER;CN="City of Sanger":MAILTO:ctamez@ci.sanger.ca.us
END:VEVENT
END:VCALENDAR