BEGIN:VCALENDAR
VERSION:2.0
PRODID:-//The Sanger Scene - ECPv6.5.1.6//NONSGML v1.0//EN
CALSCALE:GREGORIAN
METHOD:PUBLISH
X-WR-CALNAME:The Sanger Scene
X-ORIGINAL-URL:https://www.thesangerscene.com
X-WR-CALDESC:Events for The Sanger Scene
REFRESH-INTERVAL;VALUE=DURATION:PT1H
X-Robots-Tag:noindex
X-PUBLISHED-TTL:PT1H
BEGIN:VTIMEZONE
TZID:America/Los_Angeles
BEGIN:DAYLIGHT
TZOFFSETFROM:-0800
TZOFFSETTO:-0700
TZNAME:PDT
DTSTART:20220313T100000
END:DAYLIGHT
BEGIN:STANDARD
TZOFFSETFROM:-0700
TZOFFSETTO:-0800
TZNAME:PST
DTSTART:20221106T090000
END:STANDARD
END:VTIMEZONE
BEGIN:VEVENT
DTSTART;TZID=America/Los_Angeles:20221030T160000
DTEND;TZID=America/Los_Angeles:20221030T190000
DTSTAMP:20260423T193924
CREATED:20220803T024743Z
LAST-MODIFIED:20220803T024743Z
UID:24952-1667145600-1667156400@www.thesangerscene.com
SUMMARY:Sanger Rotary BBQ
DESCRIPTION:
URL:https://www.thesangerscene.com/event/sanger-rotary-bbq/
LOCATION:Kings River Winery\, 4276 S. Greenwood\, Sanger\, CA\, 93657
ATTACH;FMTTYPE=image/jpeg:https://www.thesangerscene.com/wp-content/uploads/2022/08/SangerRotaryBBQ-1.jpg
END:VEVENT
BEGIN:VEVENT
DTSTART;TZID=America/Los_Angeles:20221029T193000
DTEND;TZID=America/Los_Angeles:20221029T220000
DTSTAMP:20260423T193924
CREATED:20221021T001143Z
LAST-MODIFIED:20221021T001143Z
UID:25316-1667071800-1667080800@www.thesangerscene.com
SUMMARY:Sanger West Hive Theatre Company presents 'Barefoot in the Park'
DESCRIPTION:Adults $10 \nStudents $8
URL:https://www.thesangerscene.com/event/sanger-west-hive-theatre-company-presents-barefoot-in-the-park-6/
LOCATION:Sanger West High MPR\, 1850 S. Fowler\, Fresno\, 93727\, United States
ATTACH;FMTTYPE=image/jpeg:https://www.thesangerscene.com/wp-content/uploads/2022/10/HTC-Barefoot-in-the-Park-Poster.jpeg
END:VEVENT
BEGIN:VEVENT
DTSTART;TZID=America/Los_Angeles:20221029T140000
DTEND;TZID=America/Los_Angeles:20221029T160000
DTSTAMP:20260423T193924
CREATED:20221021T001025Z
LAST-MODIFIED:20221021T001025Z
UID:25314-1667052000-1667059200@www.thesangerscene.com
SUMMARY:Sanger West Hive Theatre Company presents 'Barefoot in the Park'
DESCRIPTION:Adults $10 \nStudents $8
URL:https://www.thesangerscene.com/event/sanger-west-hive-theatre-company-presents-barefoot-in-the-park-5/
LOCATION:Sanger West High MPR\, 1850 S. Fowler\, Fresno\, 93727\, United States
ATTACH;FMTTYPE=image/jpeg:https://www.thesangerscene.com/wp-content/uploads/2022/10/HTC-Barefoot-in-the-Park-Poster.jpeg
END:VEVENT
BEGIN:VEVENT
DTSTART;TZID=America/Los_Angeles:20221027T193000
DTEND;TZID=America/Los_Angeles:20221027T220000
DTSTAMP:20260423T193924
CREATED:20221021T000719Z
LAST-MODIFIED:20221021T000719Z
UID:25312-1666899000-1666908000@www.thesangerscene.com
SUMMARY:Sanger West Hive Theatre Company presents 'Barefoot in the Park'
DESCRIPTION:Adults $10 \nStudents $8
URL:https://www.thesangerscene.com/event/sanger-west-hive-theatre-company-presents-barefoot-in-the-park-4/
LOCATION:Sanger West High MPR\, 1850 S. Fowler\, Fresno\, 93727\, United States
ATTACH;FMTTYPE=image/jpeg:https://www.thesangerscene.com/wp-content/uploads/2022/10/HTC-Barefoot-in-the-Park-Poster.jpeg
END:VEVENT
BEGIN:VEVENT
DTSTART;TZID=America/Los_Angeles:20221025T173000
DTEND;TZID=America/Los_Angeles:20221025T190000
DTSTAMP:20260423T193924
CREATED:20221010T224804Z
LAST-MODIFIED:20221010T224804Z
UID:25220-1666719000-1666724400@www.thesangerscene.com
SUMMARY:Sanger Chamber 'After Hours Mixer' hosted by Reyna's Business Center Tax Preparation & Insurance
DESCRIPTION:
URL:https://www.thesangerscene.com/event/sanger-chamber-after-hours-mixer-hosted-by-reynas-business-center-tax-preparation-insurance/
LOCATION:Reyna’s Business Center\, 619 N. Street St# "C"\, Sanger\, CA\, 93657\, United States
ATTACH;FMTTYPE=image/jpeg:https://www.thesangerscene.com/wp-content/uploads/2022/10/Reynas-Mixer-Made-with-PosterMyWall.jpg
ORGANIZER;CN="Sanger District Chamber of Commerce":MAILTO:sanger.org
END:VEVENT
BEGIN:VEVENT
DTSTART;TZID=America/Los_Angeles:20221022T193000
DTEND;TZID=America/Los_Angeles:20221022T220000
DTSTAMP:20260423T193924
CREATED:20221021T000137Z
LAST-MODIFIED:20221021T000137Z
UID:25308-1666467000-1666476000@www.thesangerscene.com
SUMMARY:Sanger West Hive Theatre Company presents 'Barefoot in the Park'
DESCRIPTION:Adults $10 \nStudents $8
URL:https://www.thesangerscene.com/event/sanger-west-hive-theatre-company-presents-barefoot-in-the-park-2/
LOCATION:Sanger West High MPR\, 1850 S. Fowler\, Fresno\, 93727\, United States
ATTACH;FMTTYPE=image/jpeg:https://www.thesangerscene.com/wp-content/uploads/2022/10/HTC-Barefoot-in-the-Park-Poster.jpeg
END:VEVENT
BEGIN:VEVENT
DTSTART;TZID=America/Los_Angeles:20221022T140000
DTEND;TZID=America/Los_Angeles:20221022T160000
DTSTAMP:20260423T193924
CREATED:20221021T000306Z
LAST-MODIFIED:20221021T000306Z
UID:25310-1666447200-1666454400@www.thesangerscene.com
SUMMARY:Sanger West Hive Theatre Company presents 'Barefoot in the Park'
DESCRIPTION:Adults $10 \nStudents $8
URL:https://www.thesangerscene.com/event/sanger-west-hive-theatre-company-presents-barefoot-in-the-park-3/
LOCATION:Sanger West High MPR\, 1850 S. Fowler\, Fresno\, 93727\, United States
ATTACH;FMTTYPE=image/jpeg:https://www.thesangerscene.com/wp-content/uploads/2022/10/HTC-Barefoot-in-the-Park-Poster.jpeg
END:VEVENT
BEGIN:VEVENT
DTSTART;TZID=America/Los_Angeles:20221021T150000
DTEND;TZID=America/Los_Angeles:20221021T160000
DTSTAMP:20260423T193924
CREATED:20221020T234517Z
LAST-MODIFIED:20221020T234517Z
UID:25292-1666364400-1666368000@www.thesangerscene.com
SUMMARY:Sanger Chamber Ribbon Cutting for Apache Truck Training Service
DESCRIPTION:
URL:https://www.thesangerscene.com/event/sanger-chamber-ribbon-cutting-for-apache-truck-training-service/
LOCATION:Apache Truck Training Service\, 1117 K Street\, Sanger\, CA\, 93657\, United States
ATTACH;FMTTYPE=image/jpeg:https://www.thesangerscene.com/wp-content/uploads/2022/10/Apache-Truck-Ribbon-Cutting.jpg
ORGANIZER;CN="Sanger District Chamber of Commerce":MAILTO:sangerchamber@gmail.com
END:VEVENT
BEGIN:VEVENT
DTSTART;TZID=America/Los_Angeles:20221020T193000
DTEND;TZID=America/Los_Angeles:20221020T220000
DTSTAMP:20260423T193924
CREATED:20221020T235958Z
LAST-MODIFIED:20221020T235958Z
UID:25303-1666294200-1666303200@www.thesangerscene.com
SUMMARY:Sanger West Hive Theatre Company presents 'Barefoot in the Park'
DESCRIPTION:Adults $10 \nStudents $8
URL:https://www.thesangerscene.com/event/sanger-west-hive-theatre-company-presents-barefoot-in-the-park/
LOCATION:Sanger West High MPR\, 1850 S. Fowler\, Fresno\, 93727\, United States
ATTACH;FMTTYPE=image/jpeg:https://www.thesangerscene.com/wp-content/uploads/2022/10/HTC-Barefoot-in-the-Park-Poster.jpeg
END:VEVENT
BEGIN:VEVENT
DTSTART;TZID=America/Los_Angeles:20221004T140000
DTEND;TZID=America/Los_Angeles:20221004T170000
DTSTAMP:20260423T193924
CREATED:20220916T003743Z
LAST-MODIFIED:20220916T003743Z
UID:25175-1664892000-1664902800@www.thesangerscene.com
SUMMARY:Annual Sanger Job & Resource Fair
DESCRIPTION:
URL:https://www.thesangerscene.com/event/annual-sanger-job-resource-fair-2/
LOCATION:Sanger Community Center\, 1234 
ATTACH;FMTTYPE=image/jpeg:https://www.thesangerscene.com/wp-content/uploads/2022/09/Sanger-Job-and-Resource-Fair-2022-Yellow.jpg
ORGANIZER;CN="City of Sanger":MAILTO:ctamez@ci.sanger.ca.us
END:VEVENT
BEGIN:VEVENT
DTSTART;TZID=America/Los_Angeles:20221001T100000
DTEND;TZID=America/Los_Angeles:20221001T170000
DTSTAMP:20260423T193924
CREATED:20220803T001750Z
LAST-MODIFIED:20220803T001750Z
UID:24931-1664618400-1664643600@www.thesangerscene.com
SUMMARY:Kings River Conservancy 'Kings River Quest'
DESCRIPTION:
URL:https://www.thesangerscene.com/event/kings-river-conservancy-kings-river-quest/
LOCATION:Kings River Wildlife Area\, Below Rine Flat Dam\, CA\, United States
ATTACH;FMTTYPE=image/png:https://www.thesangerscene.com/wp-content/uploads/2022/08/KRCKings-RiverQuest.png
END:VEVENT
BEGIN:VEVENT
DTSTART;TZID=America/Los_Angeles:20220924T170000
DTEND;TZID=America/Los_Angeles:20220924T210000
DTSTAMP:20260423T193924
CREATED:20220804T015738Z
LAST-MODIFIED:20220804T015738Z
UID:24961-1664038800-1664053200@www.thesangerscene.com
SUMMARY:Sanger Chamber Street Fair & Farmers Market "Country Night"
DESCRIPTION:Featuring Live Music by South 65 \nMechanical Bull Riding\,  Beer Garden by House of Pendragon\, & Petting Zoo \nFresh Produce\, food vendors\, crafts\, information booths\, Kid Zone\, family fun & much more. 
URL:https://www.thesangerscene.com/event/sanger-chamber-street-fair-farmers-market-country-night/
LOCATION:Downton Sanger\, Sanger\, CA\, 93657
ATTACH;FMTTYPE=image/jpeg:https://www.thesangerscene.com/wp-content/uploads/2022/08/FM-Country-Night-Flyer-2022-Made-with-PosterMyWall.jpg
ORGANIZER;CN="Sanger District Chamber of Commerce":MAILTO:sangerchamber@gmail.com
END:VEVENT
BEGIN:VEVENT
DTSTART;TZID=America/Los_Angeles:20220924T090000
DTEND;TZID=America/Los_Angeles:20220924T130000
DTSTAMP:20260423T193924
CREATED:20220831T205805Z
LAST-MODIFIED:20220831T205805Z
UID:25080-1664010000-1664024400@www.thesangerscene.com
SUMMARY:Grace Community Church Fall Vendor Fair
DESCRIPTION:Featuring: Food Trucks\, Handmade Crafts and Clothing\, Candies\, Homemade Baked Goods and much more. \nIf you would like to be a vendor  contact Jessica at (559) 273-1051
URL:https://www.thesangerscene.com/event/grace-community-church-fall-vendor-fair/
LOCATION:Grace Community Church\, 1620 Church Ave.\, Sanger\, CA\, 93657\, United States
ATTACH;FMTTYPE=image/jpeg:https://www.thesangerscene.com/wp-content/uploads/2022/08/IMG_7210.jpg
END:VEVENT
BEGIN:VEVENT
DTSTART;TZID=America/Los_Angeles:20220918T150000
DTEND;TZID=America/Los_Angeles:20220918T180000
DTSTAMP:20260423T193924
CREATED:20220810T164330Z
LAST-MODIFIED:20220810T164330Z
UID:25002-1663513200-1663524000@www.thesangerscene.com
SUMMARY:Sanger Police & Fire's National Night Out
DESCRIPTION:
URL:https://www.thesangerscene.com/event/sanger-police-fires-national-night-out/
LOCATION:Sanger City Park\, 477 Academy Avenue\, Sanger\, CA\, 93657
ATTACH;FMTTYPE=image/jpeg:https://www.thesangerscene.com/wp-content/uploads/2022/08/NNO-Poster-2022-copy.jpg
END:VEVENT
BEGIN:VEVENT
DTSTART;TZID=America/Los_Angeles:20220917T170000
DTEND;TZID=America/Los_Angeles:20220917T210000
DTSTAMP:20260423T193924
CREATED:20220804T015615Z
LAST-MODIFIED:20220804T015615Z
UID:24959-1663434000-1663448400@www.thesangerscene.com
SUMMARY:Sanger Chamber Street Fair & Farmers Market "Disney Night"
DESCRIPTION:Featuring Live Music by Shantel \nSomething Enchanted bringing Disney Princesses & Prince Charming \nFresh Produce\, Food Vendors\, Crafts\, Information Booths\, Kid Zone\, Live Music\, Family Fun & More. 
URL:https://www.thesangerscene.com/event/sanger-chamber-street-fair-farmers-market-disney-night/
LOCATION:Downtown 7th Street\, Sanger\, 93657
ATTACH;FMTTYPE=image/jpeg:https://www.thesangerscene.com/wp-content/uploads/2022/08/Farmers-Market-Disney-Night-Sponsorship-2022-1-Made-with-PosterMyWall.jpg
ORGANIZER;CN="Sanger District Chamber of Commerce":MAILTO:sangerchamber@gmail.com
END:VEVENT
BEGIN:VEVENT
DTSTART;TZID=America/Los_Angeles:20220910T170000
DTEND;TZID=America/Los_Angeles:20220910T210000
DTSTAMP:20260423T193924
CREATED:20220804T015447Z
LAST-MODIFIED:20220804T015447Z
UID:24957-1662829200-1662843600@www.thesangerscene.com
SUMMARY:Sanger Chamber Street Fair & Farmers Market "Military and First Responder-Heroes Night"
DESCRIPTION:Featuring Live Music for Monsanto Band \n  \nFood Vendors\, Fresh Produce\, Beer Garden\, Kid Zone\, Crafts\, Information Booths and more. 
URL:https://www.thesangerscene.com/event/sanger-chamber-street-fair-farmers-market-military-and-first-responder-heroes-night/
LOCATION:Downtown 7th Street\, Sanger\, 93657
ATTACH;FMTTYPE=image/jpeg:https://www.thesangerscene.com/wp-content/uploads/2022/08/FM-Heroes-Night-Flyer-2022-1-Made-with-PosterMyWall-2.jpg
END:VEVENT
BEGIN:VEVENT
DTSTART;TZID=America/Los_Angeles:20220910T070000
DTEND;TZID=America/Los_Angeles:20220910T203000
DTSTAMP:20260423T193924
CREATED:20220831T204956Z
LAST-MODIFIED:20220831T204956Z
UID:25077-1662793200-1662841800@www.thesangerscene.com
SUMMARY:Patriot Day
DESCRIPTION:7 AM Patriot Day\, 9/11 Remembrance & Memorial  \n8 AM Community Breakfast – $8 Donation 
URL:https://www.thesangerscene.com/event/patriot-day/
LOCATION:American Legion Hall\, 1502 "O" Street\, Sanger\, 93657
ATTACH;FMTTYPE=image/jpeg:https://www.thesangerscene.com/wp-content/uploads/2022/08/Patriot-Day-2022-Made-with-PosterMyWall-1.jpg
END:VEVENT
BEGIN:VEVENT
DTSTART;TZID=America/Los_Angeles:20220909T074500
DTEND;TZID=America/Los_Angeles:20220909T083000
DTSTAMP:20260423T193924
CREATED:20220905T184437Z
LAST-MODIFIED:20220905T184437Z
UID:25115-1662709500-1662712200@www.thesangerscene.com
SUMMARY:Sanger High School
DESCRIPTION:
URL:https://www.thesangerscene.com/event/sanger-high-school/
LOCATION:Sanger High School\, 1045 Bethel Ave.\, Sanger \, 93657
ATTACH;FMTTYPE=image/jpeg:https://www.thesangerscene.com/wp-content/uploads/2022/09/SHS-9_11-Flyer.jpg
END:VEVENT
BEGIN:VEVENT
DTSTART;TZID=America/Los_Angeles:20220903T170000
DTEND;TZID=America/Los_Angeles:20220903T210000
DTSTAMP:20260423T193924
CREATED:20220804T015149Z
LAST-MODIFIED:20220804T015149Z
UID:24954-1662224400-1662238800@www.thesangerscene.com
SUMMARY:Sanger Chamber Street Fair & Farmers Market "Vegas Night"   !! CANCELLED DUE TO EXCESSIVE HEAT!!
DESCRIPTION:
URL:https://www.thesangerscene.com/event/sanger-chamber-street-fair-farmers-market-vegas-night/
LOCATION:Downtown 7th Street\, Sanger\, 93657
ATTACH;FMTTYPE=image/jpeg:https://www.thesangerscene.com/wp-content/uploads/2022/08/FM-Vegas-Night-Flyer-2022-Made-with-PosterMyWall-1.jpg
END:VEVENT
BEGIN:VEVENT
DTSTART;TZID=America/Los_Angeles:20220903T100000
DTEND;TZID=America/Los_Angeles:20220903T153000
DTSTAMP:20260423T193924
CREATED:20220831T203852Z
LAST-MODIFIED:20220831T203852Z
UID:25074-1662199200-1662219000@www.thesangerscene.com
SUMMARY:Sanger Friends of the Library Pop-Up Book Sale
DESCRIPTION:$5 bag or box
URL:https://www.thesangerscene.com/event/sanger-friends-of-the-library-pop-up-book-sale/
LOCATION:Sanger Library\, 1812 7th Street\, Sanger\, CA\, 93657\, United States
ATTACH;FMTTYPE=image/jpeg:https://www.thesangerscene.com/wp-content/uploads/2022/08/IMG_7169.jpg
END:VEVENT
BEGIN:VEVENT
DTSTART;TZID=America/Los_Angeles:20220903T090000
DTEND;TZID=America/Los_Angeles:20220903T150000
DTSTAMP:20260423T193924
CREATED:20220831T203440Z
LAST-MODIFIED:20220831T203440Z
UID:25070-1662195600-1662217200@www.thesangerscene.com
SUMMARY:Huge Fundraiser Yard Sale by Sanger Depot Museum- CANCELED
DESCRIPTION:EVENT CANCELED DUE TO HEAT ADVISORY \nYard Sale will be in the grass area in front of the brick building behind the Sanger Depot Museum and the Library. 
URL:https://www.thesangerscene.com/event/huge-fundraiser-yard-sale-by-sanger-depot-museum/
LOCATION:Sanger Depot Museum\, 1710 7th St.\, Sanger\, 93657
ATTACH;FMTTYPE=image/jpeg:https://www.thesangerscene.com/wp-content/uploads/2022/08/IMG_7168.jpg
END:VEVENT
BEGIN:VEVENT
DTSTART;TZID=America/Los_Angeles:20220902T201500
DTEND;TZID=America/Los_Angeles:20220902T221500
DTSTAMP:20260423T193924
CREATED:20220620T140818Z
LAST-MODIFIED:20220620T140818Z
UID:24847-1662149700-1662156900@www.thesangerscene.com
SUMMARY:City of Sanger 'Movies in the Park' - "Sonic the Hedgehog 2"
DESCRIPTION:
URL:https://www.thesangerscene.com/event/city-of-sanger-movies-in-the-park-sonic-the-hedgehog-2/
LOCATION:Sanger Community Center Park\, 730 Recreation Ave.\, Sanger \, 93657
ATTACH;FMTTYPE=image/jpeg:https://www.thesangerscene.com/wp-content/uploads/2022/06/71p-N52eLzL._AC_SY679_.jpg
END:VEVENT
BEGIN:VEVENT
DTSTART;TZID=America/Los_Angeles:20220827T201500
DTEND;TZID=America/Los_Angeles:20220827T221500
DTSTAMP:20260423T193924
CREATED:20220620T140615Z
LAST-MODIFIED:20220620T140615Z
UID:24845-1661631300-1661638500@www.thesangerscene.com
SUMMARY:City of Sanger 'Movies in the Park'- "No Time To Die"
DESCRIPTION:
URL:https://www.thesangerscene.com/event/city-of-sanger-movies-in-the-park-the-art-of-racing-in-the-rain/
LOCATION:Sanger Community Center Park\, 730 Recreation Ave.\, Sanger \, 93657
ATTACH;FMTTYPE=image/jpeg:https://www.thesangerscene.com/wp-content/uploads/2022/06/No_Time_to_Die-525355918-large.jpg
END:VEVENT
BEGIN:VEVENT
DTSTART;TZID=America/Los_Angeles:20220820T201500
DTEND;TZID=America/Los_Angeles:20220820T221500
DTSTAMP:20260423T193924
CREATED:20220620T013507Z
LAST-MODIFIED:20220620T013507Z
UID:24842-1661026500-1661033700@www.thesangerscene.com
SUMMARY:City of Sanger 'Movies in the Park' - "Shazam!"
DESCRIPTION:
URL:https://www.thesangerscene.com/event/city-of-sanger-movies-in-the-park-shazam/
LOCATION:Sanger Community Center Park\, CA\, United States
ATTACH;FMTTYPE=image/jpeg:https://www.thesangerscene.com/wp-content/uploads/2022/06/91o3VNMOp-L._SL1500_.jpg
END:VEVENT
BEGIN:VEVENT
DTSTART;TZID=America/Los_Angeles:20220820T170000
DTEND;TZID=America/Los_Angeles:20220820T193000
DTSTAMP:20260423T193924
CREATED:20220803T003832Z
LAST-MODIFIED:20220803T003832Z
UID:24939-1661014800-1661023800@www.thesangerscene.com
SUMMARY:Shrimp Boil
DESCRIPTION:
URL:https://www.thesangerscene.com/event/shrimp-boil/
LOCATION:Sanger Eagles Hall\, 225 J. St.\, Sanger\, CA\, 93657\, United States
ATTACH;FMTTYPE=image/jpeg:https://www.thesangerscene.com/wp-content/uploads/2022/08/SHRIMP-boil-Made-with-PosterMyWall-2.jpg
END:VEVENT
BEGIN:VEVENT
DTSTART;TZID=America/Los_Angeles:20220813T110000
DTEND;TZID=America/Los_Angeles:20220813T130000
DTSTAMP:20260423T193924
CREATED:20220802T234503Z
LAST-MODIFIED:20220802T234503Z
UID:24921-1660388400-1660395600@www.thesangerscene.com
SUMMARY:Sanger Community Church Back to School
DESCRIPTION:Backpack Raffle\, Water Slide Bingo \nSnow Cones\, Popcorn\, and Nachos
URL:https://www.thesangerscene.com/event/sanger-community-church-back-to-school/
LOCATION:Sanger Community Church\, 1610 Jensen Ave.\, Sanger\, CA\, 93657\, United States
ATTACH;FMTTYPE=image/jpeg:https://www.thesangerscene.com/wp-content/uploads/2022/08/back-to-school-flyer-2022.jpg
END:VEVENT
BEGIN:VEVENT
DTSTART;TZID=America/Los_Angeles:20220813T080000
DTEND;TZID=America/Los_Angeles:20220813T170000
DTSTAMP:20260423T193924
CREATED:20220620T012950Z
LAST-MODIFIED:20220620T012950Z
UID:24839-1660377600-1660410000@www.thesangerscene.com
SUMMARY:City of Sanger 'Movies in the Park' - "Ghostbusters: Afterlife"
DESCRIPTION:
URL:https://www.thesangerscene.com/event/city-of-sanger-movies-in-the-park-ghostbusters-afterlife/
LOCATION:Sanger Community Center Park\, CA\, United States
ATTACH;FMTTYPE=image/jpeg:https://www.thesangerscene.com/wp-content/uploads/2022/06/MV5BMmZiMjdlN2UtYzdiZS00YjgxLTgyZGMtYzE4ZGU5NTlkNjhhXkEyXkFqcGdeQXVyMTEyMjM2NDc2._V1_.jpg
END:VEVENT
BEGIN:VEVENT
DTSTART;TZID=America/Los_Angeles:20220807T150000
DTEND;TZID=America/Los_Angeles:20220807T220000
DTSTAMP:20260423T193924
CREATED:20220520T155424Z
LAST-MODIFIED:20220520T155424Z
UID:24744-1659884400-1659909600@www.thesangerscene.com
SUMMARY:St. Mary's Catholic Church Community Summer Festival
DESCRIPTION:Sunday \n4pm to 6pm – Mariachi Honor De Mexico \n6pm to 10pm – Califas \nDJ David \nMestizos Del Valle Dancers
URL:https://www.thesangerscene.com/event/st-marys-catholic-church-community-summer-festival-2/
LOCATION:ST. Mary’s Catholic Church\, North & Bethel Ave\, Sanger \, 93657
ATTACH;FMTTYPE=image/jpeg:https://www.thesangerscene.com/wp-content/uploads/2022/05/St.-Marys-Festival-Aug-6-7.jpg
ORGANIZER;CN="St. Mary's Catholic Church":MAILTO:jgaza999@gmail.com
END:VEVENT
BEGIN:VEVENT
DTSTART;TZID=America/Los_Angeles:20220806T201500
DTEND;TZID=America/Los_Angeles:20220806T221500
DTSTAMP:20260423T193924
CREATED:20220620T012650Z
LAST-MODIFIED:20220620T012650Z
UID:24832-1659816900-1659824100@www.thesangerscene.com
SUMMARY:City of Sanger 'Movies in the Park' - "School of Rock"
DESCRIPTION:
URL:https://www.thesangerscene.com/event/city-of-sanger-movies-in-the-park-school-of-rock/
LOCATION:Sanger Community Center Park\, CA\, United States
ATTACH;FMTTYPE=image/jpeg:https://www.thesangerscene.com/wp-content/uploads/2022/06/school-of-rock.jpg
END:VEVENT
BEGIN:VEVENT
DTSTART;TZID=America/Los_Angeles:20220806T163000
DTEND;TZID=America/Los_Angeles:20220806T193000
DTSTAMP:20260423T193924
CREATED:20220802T235913Z
LAST-MODIFIED:20220802T235913Z
UID:24925-1659803400-1659814200@www.thesangerscene.com
SUMMARY:Sanger West Football 1st Annual KickOff Dinner
DESCRIPTION:
URL:https://www.thesangerscene.com/event/sanger-west-football-1st-annual-kickoff-dinner/
LOCATION:Sanger West High School\, 1850 S. Fowler Ave.\, Fresno\, CA\, 93727\, United States
ATTACH;FMTTYPE=image/jpeg:https://www.thesangerscene.com/wp-content/uploads/2022/08/IMG_4632.jpg
END:VEVENT
END:VCALENDAR