BEGIN:VCALENDAR
VERSION:2.0
PRODID:-//The Sanger Scene - ECPv6.5.1.6//NONSGML v1.0//EN
CALSCALE:GREGORIAN
METHOD:PUBLISH
X-WR-CALNAME:The Sanger Scene
X-ORIGINAL-URL:https://www.thesangerscene.com
X-WR-CALDESC:Events for The Sanger Scene
REFRESH-INTERVAL;VALUE=DURATION:PT1H
X-Robots-Tag:noindex
X-PUBLISHED-TTL:PT1H
BEGIN:VTIMEZONE
TZID:America/Los_Angeles
BEGIN:DAYLIGHT
TZOFFSETFROM:-0800
TZOFFSETTO:-0700
TZNAME:PDT
DTSTART:20220313T100000
END:DAYLIGHT
BEGIN:STANDARD
TZOFFSETFROM:-0700
TZOFFSETTO:-0800
TZNAME:PST
DTSTART:20221106T090000
END:STANDARD
END:VTIMEZONE
BEGIN:VEVENT
DTSTART;TZID=America/Los_Angeles:20220806T150000
DTEND;TZID=America/Los_Angeles:20220806T230000
DTSTAMP:20260424T035930
CREATED:20220520T155047Z
LAST-MODIFIED:20220520T155047Z
UID:24740-1659798000-1659826800@www.thesangerscene.com
SUMMARY:St. Mary's Catholic Church Community Summer Festival
DESCRIPTION:Saturday 7pm to 11pm Monsanto Band
URL:https://www.thesangerscene.com/event/st-marys-catholic-church-community-summer-festival/
LOCATION:ST. Mary’s Catholic Church\, North & Bethel Ave\, Sanger \, 93657
ATTACH;FMTTYPE=image/jpeg:https://www.thesangerscene.com/wp-content/uploads/2022/05/St.-Marys-Festival-Aug-6-7.jpg
ORGANIZER;CN="St. Mary's Church":MAILTO:jgarza999@gmail.com
END:VEVENT
BEGIN:VEVENT
DTSTART;TZID=America/Los_Angeles:20220806T110000
DTEND;TZID=America/Los_Angeles:20220806T120000
DTSTAMP:20260424T035930
CREATED:20220803T002434Z
LAST-MODIFIED:20220803T002434Z
UID:24935-1659783600-1659787200@www.thesangerscene.com
SUMMARY:Sanger Chamber Ribbon Cutting for Styles & Files Spa Salon Ribbon Cutting
DESCRIPTION:
URL:https://www.thesangerscene.com/event/sanger-chamber-ribbon-cutting-for-styles-files-spa-salon-ribbon-cutting/
LOCATION:Styles & Files Spa Salon\, 2535 Jensen Ave.\, Sanger\, CA\, 93657\, United States
ATTACH;FMTTYPE=image/jpeg:https://www.thesangerscene.com/wp-content/uploads/2022/08/SF-Ribbon-Cutting.jpg
END:VEVENT
BEGIN:VEVENT
DTSTART;TZID=America/Los_Angeles:20220730T201500
DTEND;TZID=America/Los_Angeles:20220730T221500
DTSTAMP:20260424T035930
CREATED:20220620T010426Z
LAST-MODIFIED:20220620T010426Z
UID:24826-1659212100-1659219300@www.thesangerscene.com
SUMMARY:City of Sanger 'Movies in the Park' - "Encanto"
DESCRIPTION:
URL:https://www.thesangerscene.com/event/city-of-sanger-movies-in-the-park-encanto/
LOCATION:Sanger Community Center Park\, CA\, United States
ATTACH;FMTTYPE=image/jpeg:https://www.thesangerscene.com/wp-content/uploads/2022/06/p_encanto_homeent_22359_4892ae1c.jpeg
END:VEVENT
BEGIN:VEVENT
DTSTART;TZID=America/Los_Angeles:20220723T201500
DTEND;TZID=America/Los_Angeles:20220723T221500
DTSTAMP:20260424T035930
CREATED:20220620T010111Z
LAST-MODIFIED:20220620T010111Z
UID:24822-1658607300-1658614500@www.thesangerscene.com
SUMMARY:City of Sanger 'Movies in the Park'- "Spider-man: No Way Home"
DESCRIPTION:
URL:https://www.thesangerscene.com/event/city-of-sanger-movies-in-the-park-spider-man-no-way-home/
LOCATION:Sanger Community Center Park\, CA\, United States
ATTACH;FMTTYPE=image/jpeg:https://www.thesangerscene.com/wp-content/uploads/2022/06/spidermannowayhome_onesheet_rating.jpg
END:VEVENT
BEGIN:VEVENT
DTSTART;TZID=America/Los_Angeles:20220716T201500
DTEND;TZID=America/Los_Angeles:20220716T221500
DTSTAMP:20260424T035930
CREATED:20220620T005438Z
LAST-MODIFIED:20220620T005438Z
UID:24818-1658002500-1658009700@www.thesangerscene.com
SUMMARY:City of Sanger 'Movies in the Park'- "Pokémon Detective Pikachu"
DESCRIPTION:
URL:https://www.thesangerscene.com/event/city-of-sanger-movies-in-the-park-pokemon-detective-pikachu/
LOCATION:Sanger Community Center Park\, 730 Recreation Ave.\, Sanger\, CA\, 93657\, United States
ATTACH;FMTTYPE=image/jpeg:https://www.thesangerscene.com/wp-content/uploads/2022/06/91NC70-1vLL._SL1500_.jpg
END:VEVENT
BEGIN:VEVENT
DTSTART;TZID=America/Los_Angeles:20220704T173000
DTEND;TZID=America/Los_Angeles:20220704T213000
DTSTAMP:20260424T035930
CREATED:20220617T064940Z
LAST-MODIFIED:20220617T064940Z
UID:24800-1656955800-1656970200@www.thesangerscene.com
SUMMARY:City of Sanger & Sanger District Chamber of Commerce "4th of July Spectacular
DESCRIPTION:
URL:https://www.thesangerscene.com/event/city-of-sanger-sanger-district-chamber-of-commerce-4th-of-july-spectacular-2/
LOCATION:Sanger High School Practice Field\, 1045 Bethel Avenue\, Sanger\, 93657
ATTACH;FMTTYPE=image/jpeg:https://www.thesangerscene.com/wp-content/uploads/2022/06/4th-of-july-spectacular-flyer-copy.jpg
END:VEVENT
BEGIN:VEVENT
DTSTART;TZID=America/Los_Angeles:20220628T173000
DTEND;TZID=America/Los_Angeles:20220628T193000
DTSTAMP:20260424T035930
CREATED:20220617T065356Z
LAST-MODIFIED:20220617T065356Z
UID:24805-1656437400-1656444600@www.thesangerscene.com
SUMMARY:Sanger Chamber 'After Business Hours Mixer' hosted by Kings River Winery
DESCRIPTION:
URL:https://www.thesangerscene.com/event/sanger-chamber-after-business-hours-mixer-hosted-by-kings-river-winery/
LOCATION:Kings River Winery\, 4276 S. Greenwood\, Sanger\, CA\, 93657
ATTACH;FMTTYPE=image/jpeg:https://www.thesangerscene.com/wp-content/uploads/2022/06/KRW-MIXER-2022.jpg
ORGANIZER;CN="Sanger District Chamber of Commerce":MAILTO:sangerchamber@gmail.com
END:VEVENT
BEGIN:VEVENT
DTSTART;TZID=America/Los_Angeles:20220626T140000
DTEND;TZID=America/Los_Angeles:20220626T170000
DTSTAMP:20260424T035930
CREATED:20220620T011809Z
LAST-MODIFIED:20220620T011809Z
UID:24830-1656252000-1656262800@www.thesangerscene.com
SUMMARY:Blossom Trail Players presents "Into the Woods"
DESCRIPTION:Adults $15 \nStudents/Seniors $10
URL:https://www.thesangerscene.com/event/blossom-trail-players-presents-into-the-woods-5/
LOCATION:Sanger High MPR\, 1045 Bethel Ave.\, Sanger\, CA\, 93657\, United States
ATTACH;FMTTYPE=image/jpeg:https://www.thesangerscene.com/wp-content/uploads/2022/06/287099832_2254854411356637_6396636958016335796_n.jpg
END:VEVENT
BEGIN:VEVENT
DTSTART;TZID=America/Los_Angeles:20220625T193000
DTEND;TZID=America/Los_Angeles:20220625T223000
DTSTAMP:20260424T035930
CREATED:20220620T011448Z
LAST-MODIFIED:20220620T011448Z
UID:24828-1656185400-1656196200@www.thesangerscene.com
SUMMARY:Blossom Trail Players presents "Into the Woods"
DESCRIPTION:Adults $15 \nStudents/Seniors $10
URL:https://www.thesangerscene.com/event/blossom-trail-players-presents-into-the-woods-4/
LOCATION:Sanger High MPR\, 1045 Bethel Ave.\, Sanger\, CA\, 93657\, United States
ATTACH;FMTTYPE=image/jpeg:https://www.thesangerscene.com/wp-content/uploads/2022/06/287099832_2254854411356637_6396636958016335796_n.jpg
END:VEVENT
BEGIN:VEVENT
DTSTART;TZID=America/Los_Angeles:20220625T170000
DTEND;TZID=America/Los_Angeles:20220625T200000
DTSTAMP:20260424T035930
CREATED:20220519T024022Z
LAST-MODIFIED:20220519T024022Z
UID:24724-1656176400-1656187200@www.thesangerscene.com
SUMMARY:Sanger District Chamber of Commerce Annual Awards Banquet
DESCRIPTION:
URL:https://www.thesangerscene.com/event/sanger-district-chamber-of-commerce-annual-awards-banquet/
LOCATION:Sunnyside Country Club\, 5704 E. Butler Ave.\, Fresno\, CA\, 93727\, United States
ATTACH;FMTTYPE=image/jpeg:https://www.thesangerscene.com/wp-content/uploads/2022/05/2022-Awards-Banquet-Save-the-date-Made-with-PosterMyWall-1-1.jpg
ORGANIZER;CN="Sanger District Chamber of Commerce":MAILTO:sangerchamber@gmail.com
END:VEVENT
BEGIN:VEVENT
DTSTART;TZID=America/Los_Angeles:20220624T193000
DTEND;TZID=America/Los_Angeles:20220624T223000
DTSTAMP:20260424T035930
CREATED:20220617T220141Z
LAST-MODIFIED:20220617T220141Z
UID:24816-1656099000-1656109800@www.thesangerscene.com
SUMMARY:Blossom Trail Players presents "Into the Woods"
DESCRIPTION:Adults $15 \nStudents/Seniors $10
URL:https://www.thesangerscene.com/event/blossom-trail-players-presents-into-the-woods-3/
LOCATION:Sanger High MPR\, 1045 Bethel Ave.\, Sanger\, CA\, 93657\, United States
ATTACH;FMTTYPE=image/jpeg:https://www.thesangerscene.com/wp-content/uploads/2022/06/287099832_2254854411356637_6396636958016335796_n.jpg
END:VEVENT
BEGIN:VEVENT
DTSTART;TZID=America/Los_Angeles:20220618T193000
DTEND;TZID=America/Los_Angeles:20220618T223000
DTSTAMP:20260424T035930
CREATED:20220617T215957Z
LAST-MODIFIED:20220617T215957Z
UID:24814-1655580600-1655591400@www.thesangerscene.com
SUMMARY:Blossom Trail Players presents "Into the Woods"
DESCRIPTION:Adults $15 \nStudents/Seniors $10
URL:https://www.thesangerscene.com/event/blossom-trail-players-presents-into-the-woods-2/
LOCATION:Sanger High MPR\, 1045 Bethel Ave.\, Sanger\, CA\, 93657\, United States
ATTACH;FMTTYPE=image/jpeg:https://www.thesangerscene.com/wp-content/uploads/2022/06/287099832_2254854411356637_6396636958016335796_n.jpg
END:VEVENT
BEGIN:VEVENT
DTSTART;TZID=America/Los_Angeles:20220617T193000
DTEND;TZID=America/Los_Angeles:20220617T223000
DTSTAMP:20260424T035930
CREATED:20220617T215810Z
LAST-MODIFIED:20220617T215810Z
UID:24811-1655494200-1655505000@www.thesangerscene.com
SUMMARY:Blossom Trail Players presents "Into the Woods"
DESCRIPTION:Adults $15 \nStudents/Seniors $10
URL:https://www.thesangerscene.com/event/blossom-trail-players-presents-into-the-woods/
LOCATION:Sanger High School MPR\, 1045 Bethel Ave.\, Sanger \, 93657
ATTACH;FMTTYPE=image/jpeg:https://www.thesangerscene.com/wp-content/uploads/2022/06/287099832_2254854411356637_6396636958016335796_n.jpg
END:VEVENT
BEGIN:VEVENT
DTSTART;TZID=America/Los_Angeles:20220611T110000
DTEND;TZID=America/Los_Angeles:20220611T120000
DTSTAMP:20260424T035930
CREATED:20220517T180032Z
LAST-MODIFIED:20220517T180032Z
UID:24705-1654945200-1654948800@www.thesangerscene.com
SUMMARY:Nova Mental Health Therapy Ribbon Cutting
DESCRIPTION:
URL:https://www.thesangerscene.com/event/nova-mental-health-therapy-ribbon-cutting/
LOCATION:Nova Mental Health therapy\, 1533 7th Street #111\, Sanger\, CA\, 93657\, United States
ATTACH;FMTTYPE=image/jpeg:https://www.thesangerscene.com/wp-content/uploads/2022/05/Nova-RIBBON-CUTTING-CEREMONY-Made-with-PosterMyWall-5.jpg
ORGANIZER;CN="Sanger District Chamber of Commerce":MAILTO:sangerchamber@gmail.com
END:VEVENT
BEGIN:VEVENT
DTSTART;TZID=America/Los_Angeles:20220603T170000
DTEND;TZID=America/Los_Angeles:20220603T220000
DTSTAMP:20260424T035930
CREATED:20220519T234140Z
LAST-MODIFIED:20220519T234140Z
UID:24736-1654275600-1654293600@www.thesangerscene.com
SUMMARY:American Legion Baseball Gala
DESCRIPTION:Dinner\, Drinks\, Music\, Raffles\, Auction 
URL:https://www.thesangerscene.com/event/american-legion-baseball-gala/
LOCATION:Grace Barn\, 4219 S. Highland Ave.\, Del Rey\, CA\, 93616\, United States
ATTACH;FMTTYPE=image/jpeg:https://www.thesangerscene.com/wp-content/uploads/2022/05/DD_Event-Flyer_Baseball_No-Diamonds_QRC_Front.jpg
ORGANIZER;CN="American Legion Baseball":MAILTO:baseball@calegion.org
END:VEVENT
BEGIN:VEVENT
DTSTART;TZID=America/Los_Angeles:20220530T110000
DTEND;TZID=America/Los_Angeles:20220530T120000
DTSTAMP:20260424T035930
CREATED:20220501T221149Z
LAST-MODIFIED:20220501T221149Z
UID:24642-1653908400-1653912000@www.thesangerscene.com
SUMMARY:Sanger Memorial Day Observance
DESCRIPTION:
URL:https://www.thesangerscene.com/event/sanger-memorial-day-observance/
LOCATION:Sanger Cemetery\, 568 S. Rainbow Ave.\, Sanger\, CA\, 93657\, United States
ATTACH;FMTTYPE=image/jpeg:https://www.thesangerscene.com/wp-content/uploads/2022/05/Memorial-Day-Wishes-Facebook-Post.jpg
END:VEVENT
BEGIN:VEVENT
DTSTART;TZID=America/Los_Angeles:20220526T170000
DTEND;TZID=America/Los_Angeles:20220526T190000
DTSTAMP:20260424T035930
CREATED:20220510T230839Z
LAST-MODIFIED:20220510T230839Z
UID:24680-1653584400-1653591600@www.thesangerscene.com
SUMMARY:ESJ Services Ribbon Cutting by the Sanger District Chamber of Commerce
DESCRIPTION:
URL:https://www.thesangerscene.com/event/esj-services-ribbon-cutting-by-the-sanger-district-chamber-of-commerce/
LOCATION:ESJ Services\, 1626 7th St. #107\, Sanger\, CA\, 93657\, United States
ATTACH;FMTTYPE=image/jpeg:https://www.thesangerscene.com/wp-content/uploads/2022/05/ESJ-Ribbon-Cutting.jpg
ORGANIZER;CN="Sanger District Chamber of Commerce":MAILTO:sangerchamber@gmail.com
END:VEVENT
BEGIN:VEVENT
DTSTART;TZID=America/Los_Angeles:20220524T073000
DTEND;TZID=America/Los_Angeles:20220524T093000
DTSTAMP:20260424T035930
CREATED:20220519T232942Z
LAST-MODIFIED:20220519T232942Z
UID:24729-1653377400-1653384600@www.thesangerscene.com
SUMMARY:Coffee with the Chiefs
DESCRIPTION:Stop by Starbucks for some coffee & conversation with Sanger Fire Chief Greg Tarascou and Sanger Police Chief Greg Garner.
URL:https://www.thesangerscene.com/event/coffee-with-the-chiefs-5/
LOCATION:Sanger Starbucks\, Sanger\, 93657
ATTACH;FMTTYPE=image/jpeg:https://www.thesangerscene.com/wp-content/uploads/2022/05/Coffee-with-the-Chiefs-.jpg
END:VEVENT
BEGIN:VEVENT
DTSTART;TZID=America/Los_Angeles:20220521T120000
DTEND;TZID=America/Los_Angeles:20220521T163000
DTSTAMP:20260424T035930
CREATED:20220519T233345Z
LAST-MODIFIED:20220519T233345Z
UID:24732-1653134400-1653150600@www.thesangerscene.com
SUMMARY:Family Craft Day at RIDE Ranch
DESCRIPTION:
URL:https://www.thesangerscene.com/event/family-craft-day-at-ride-ranch/
LOCATION:RIDE Ranch\, 24768 E. Kings Canyon Rd\, Reedley\, CA\, 93654\, United States
ATTACH;FMTTYPE=image/jpeg:https://www.thesangerscene.com/wp-content/uploads/2022/05/Family-Craft-Day-May-21-.jpg
END:VEVENT
BEGIN:VEVENT
DTSTART;TZID=America/Los_Angeles:20220518T173000
DTEND;TZID=America/Los_Angeles:20220518T190000
DTSTAMP:20260424T035930
CREATED:20220517T051054Z
LAST-MODIFIED:20220517T051054Z
UID:24700-1652895000-1652900400@www.thesangerscene.com
SUMMARY:SUSD Building Healthy Relationships Worshop
DESCRIPTION:
URL:https://www.thesangerscene.com/event/susd-building-healthy-relationships-worshop/
LOCATION:Washington Academic Middle School\, 1705 10th St.\, Sanger\, CA\, 93657\, United States
ATTACH;FMTTYPE=image/jpeg:https://www.thesangerscene.com/wp-content/uploads/2022/05/Healthy-Relationshiops-Flyer-pg-1-copy.jpg
ORGANIZER;CN="Sanger Unified School District CARE":MAILTO:angela_alcorn@sangerusd.net
END:VEVENT
BEGIN:VEVENT
DTSTART;TZID=America/Los_Angeles:20220517T173000
DTEND;TZID=America/Los_Angeles:20220517T190000
DTSTAMP:20260424T035930
CREATED:20220430T204916Z
LAST-MODIFIED:20220430T204916Z
UID:24639-1652808600-1652814000@www.thesangerscene.com
SUMMARY:Sanger Chamber After Business Hours Mixer at Sanger Depot Museum
DESCRIPTION:
URL:https://www.thesangerscene.com/event/sanger-chamber-after-business-hours-mixer-at-sanger-depot-museum/
LOCATION:Sanger Depot Museum\, 1710 7th St.\, Sanger\, 93657
ATTACH;FMTTYPE=image/jpeg:https://www.thesangerscene.com/wp-content/uploads/2022/04/Sanger-Depot-Museum-Mixer.jpg
ORGANIZER;CN="Sanger District Chamber of Commerce":MAILTO:sangerchamber@gmail.com
END:VEVENT
BEGIN:VEVENT
DTSTART;TZID=America/Los_Angeles:20220506T150000
DTEND;TZID=America/Los_Angeles:20220506T183000
DTSTAMP:20260424T035930
CREATED:20220418T234147Z
LAST-MODIFIED:20220418T234147Z
UID:24581-1651849200-1651861800@www.thesangerscene.com
SUMMARY:American Legion Post 23 Fundraising Dinner
DESCRIPTION:Chile Verde Dinner \nDesserts for sale by Unit 23 Auxillary
URL:https://www.thesangerscene.com/event/american-legion-post-23-fundraising-dinner-4/
LOCATION:American Legion Post 23\, 1502 "O" St\, Sanger\, 93657
ATTACH;FMTTYPE=image/jpeg:https://www.thesangerscene.com/wp-content/uploads/2022/04/Post-23-Fundraiser-Dinner-May-6-2022-copy.jpg
END:VEVENT
BEGIN:VEVENT
DTSTART;TZID=America/Los_Angeles:20220506T110000
DTEND;TZID=America/Los_Angeles:20220506T120000
DTSTAMP:20260424T035930
CREATED:20220430T204647Z
LAST-MODIFIED:20220430T204647Z
UID:24633-1651834800-1651838400@www.thesangerscene.com
SUMMARY:The Healthy Spot Ribbon Cutting
DESCRIPTION:
URL:https://www.thesangerscene.com/event/the-healthy-spot-ribbon-cutting/
LOCATION:The Healthy Spot\, 1501 Academy Ave.\, Sanger\, CA\, 93657\, United States
ATTACH;FMTTYPE=image/jpeg:https://www.thesangerscene.com/wp-content/uploads/2022/04/THE-HEALTHY-SPOT.jpg
ORGANIZER;CN="Sanger District Chamber of Commerce":MAILTO:sangerchamber@gmail.com
END:VEVENT
BEGIN:VEVENT
DTSTART;TZID=America/Los_Angeles:20220505T103000
DTEND;TZID=America/Los_Angeles:20220505T130000
DTSTAMP:20260424T035930
CREATED:20220418T233336Z
LAST-MODIFIED:20220418T233336Z
UID:24575-1651746600-1651755600@www.thesangerscene.com
SUMMARY:City of Sanger Cinco de Mayo Senior Luncheon
DESCRIPTION:Lunch served at 11am \n$5 Seniors (55+) \n$10 General
URL:https://www.thesangerscene.com/event/city-of-sanger-cinco-de-mayo-senior-luncheon/
LOCATION:Sanger Community Center\, 1234 
ATTACH;FMTTYPE=image/jpeg:https://www.thesangerscene.com/wp-content/uploads/2022/04/IMG_0948.jpg
END:VEVENT
BEGIN:VEVENT
DTSTART;TZID=America/Los_Angeles:20220430T163000
DTEND;TZID=America/Los_Angeles:20220430T190000
DTSTAMP:20260424T035930
CREATED:20220418T233819Z
LAST-MODIFIED:20220418T233819Z
UID:24578-1651336200-1651345200@www.thesangerscene.com
SUMMARY:Sanger Woman's Club Fish Fry Dinner Fundraiser
DESCRIPTION:
URL:https://www.thesangerscene.com/event/sanger-womans-club-fish-fry-dinner-fundraiser/
LOCATION:Sanger Woman’s Club\, Corner of 7th & P Streets\, Sanger\, 93657
ATTACH;FMTTYPE=image/png:https://www.thesangerscene.com/wp-content/uploads/2022/04/IMG_0954.png
END:VEVENT
BEGIN:VEVENT
DTSTART;TZID=America/Los_Angeles:20220424T140000
DTEND;TZID=America/Los_Angeles:20220424T170000
DTSTAMP:20260424T035930
CREATED:20220418T232958Z
LAST-MODIFIED:20220418T232958Z
UID:24572-1650808800-1650819600@www.thesangerscene.com
SUMMARY:Honoring Sanger 5th Annual Awards
DESCRIPTION:
URL:https://www.thesangerscene.com/event/honoring-sanger-5th-annual-awards/
LOCATION:American Legion Post 23\, 1502 "O" St\, Sanger\, 93657
ATTACH;FMTTYPE=image/jpeg:https://www.thesangerscene.com/wp-content/uploads/2022/04/IMG_0383.jpg
ORGANIZER;CN="Honoring Sanger":MAILTO:adamalbrecht@yahoo.com
END:VEVENT
BEGIN:VEVENT
DTSTART;TZID=America/Los_Angeles:20220419T173000
DTEND;TZID=America/Los_Angeles:20220419T190000
DTSTAMP:20260424T035930
CREATED:20220321T224644Z
LAST-MODIFIED:20220321T224644Z
UID:24466-1650389400-1650394800@www.thesangerscene.com
SUMMARY:After Hours Mixer hosted by Farmers Insurance
DESCRIPTION:
URL:https://www.thesangerscene.com/event/after-hours-mixer-hosted-by-farmers-insurance/
LOCATION:Farmers Insurance-Alfredo Martinez-Villa\, 1626 7th St. Suite #105\, Sanger\, CA\, 93657\, United States
ATTACH;FMTTYPE=image/jpeg:https://www.thesangerscene.com/wp-content/uploads/2022/03/Copy-of-Copy-of-BUSINESS-Made-with-PosterMyWall.jpg
ORGANIZER;CN="Sanger District Chamber of Commerce":MAILTO:sangerchamber@gmail.com
END:VEVENT
BEGIN:VEVENT
DTSTART;TZID=America/Los_Angeles:20220409T080000
DTEND;TZID=America/Los_Angeles:20220409T120000
DTSTAMP:20260424T035930
CREATED:20220306T023026Z
LAST-MODIFIED:20220306T023026Z
UID:24390-1649491200-1649505600@www.thesangerscene.com
SUMMARY:Jensen Avenue Clean Up
DESCRIPTION:
URL:https://www.thesangerscene.com/event/jensen-avenue-clean-up-3/
LOCATION:Sanger Veterans Park\, Corner of Jensen & Indianola\, Sanger\, CA\, 93657\, United States
ATTACH;FMTTYPE=image/jpeg:https://www.thesangerscene.com/wp-content/uploads/2022/03/Jensen-Ave-4.9.22.jpg
END:VEVENT
BEGIN:VEVENT
DTSTART;TZID=America/Los_Angeles:20220402T193000
DTEND;TZID=America/Los_Angeles:20220402T213000
DTSTAMP:20260424T035930
CREATED:20220323T210725Z
LAST-MODIFIED:20220323T210725Z
UID:24502-1648927800-1648935000@www.thesangerscene.com
SUMMARY:Sanger Area High Schools present "Fiddler on the Roof"
DESCRIPTION:Tickets \n$10 Adults \n$8 Students 
URL:https://www.thesangerscene.com/event/sanger-area-high-schools-present-fiddler-on-the-roof-6/
LOCATION:Sanger High MPR\, 1045 Bethel Ave.\, Sanger\, CA\, 93657\, United States
ATTACH;FMTTYPE=image/jpeg:https://www.thesangerscene.com/wp-content/uploads/2022/03/Fiddler-Poster.jpeg
END:VEVENT
BEGIN:VEVENT
DTSTART;TZID=America/Los_Angeles:20220401T193000
DTEND;TZID=America/Los_Angeles:20220401T213000
DTSTAMP:20260424T035930
CREATED:20220323T210552Z
LAST-MODIFIED:20220323T210552Z
UID:24500-1648841400-1648848600@www.thesangerscene.com
SUMMARY:Sanger Area High Schools present "Fiddler on the Roof"
DESCRIPTION:Tickets \n$10 Adults \n$8 Students
URL:https://www.thesangerscene.com/event/sanger-area-high-schools-present-fiddler-on-the-roof-5/
LOCATION:Sanger High MPR\, 1045 Bethel Ave.\, Sanger\, CA\, 93657\, United States
ATTACH;FMTTYPE=image/jpeg:https://www.thesangerscene.com/wp-content/uploads/2022/03/Fiddler-Poster.jpeg
END:VEVENT
END:VCALENDAR