BEGIN:VCALENDAR
VERSION:2.0
PRODID:-//The Sanger Scene - ECPv6.5.1.6//NONSGML v1.0//EN
CALSCALE:GREGORIAN
METHOD:PUBLISH
X-WR-CALNAME:The Sanger Scene
X-ORIGINAL-URL:https://www.thesangerscene.com
X-WR-CALDESC:Events for The Sanger Scene
REFRESH-INTERVAL;VALUE=DURATION:PT1H
X-Robots-Tag:noindex
X-PUBLISHED-TTL:PT1H
BEGIN:VTIMEZONE
TZID:America/Los_Angeles
BEGIN:DAYLIGHT
TZOFFSETFROM:-0800
TZOFFSETTO:-0700
TZNAME:PDT
DTSTART:20210314T100000
END:DAYLIGHT
BEGIN:STANDARD
TZOFFSETFROM:-0700
TZOFFSETTO:-0800
TZNAME:PST
DTSTART:20211107T090000
END:STANDARD
END:VTIMEZONE
BEGIN:VEVENT
DTSTART;TZID=America/Los_Angeles:20211103T193000
DTEND;TZID=America/Los_Angeles:20211103T220000
DTSTAMP:20260424T193954
CREATED:20211028T164600Z
LAST-MODIFIED:20211028T164600Z
UID:23848-1635967800-1635976800@www.thesangerscene.com
SUMMARY:Sanger High School's Theatre Presents Disney "Frozen Jr"
DESCRIPTION:Adults $10 \nStudent $8
URL:https://www.thesangerscene.com/event/sanger-high-schools-theatre-presents-disney-frozen-jr-3/
LOCATION:Sanger High MPR\, 1045 Bethel Ave.\, Sanger\, CA\, 93657\, United States
ATTACH;FMTTYPE=image/jpeg:https://www.thesangerscene.com/wp-content/uploads/2021/10/Frozen-Poster.jpeg
END:VEVENT
BEGIN:VEVENT
DTSTART;TZID=America/Los_Angeles:20211102T053000
DTEND;TZID=America/Los_Angeles:20211102T193000
DTSTAMP:20260424T193954
CREATED:20211024T191554Z
LAST-MODIFIED:20211024T191554Z
UID:23809-1635831000-1635881400@www.thesangerscene.com
SUMMARY:Sanger Chamber After Hours Mixer hosted by Goosehead Insurance
DESCRIPTION:Victor Echeverria Agency
URL:https://www.thesangerscene.com/event/sanger-chamber-after-hours-mixer-hosted-by-goosehead-insurance/
LOCATION:Goosehead Insurance\, 1626 7th Street Suite112\, Sanger\, CA\, 93657\, United States
ATTACH;FMTTYPE=image/jpeg:https://www.thesangerscene.com/wp-content/uploads/2021/10/IMG_9625.jpg
END:VEVENT
BEGIN:VEVENT
DTSTART;TZID=America/Los_Angeles:20211031T180000
DTEND;TZID=America/Los_Angeles:20211031T210000
DTSTAMP:20260424T193954
CREATED:20211014T014014Z
LAST-MODIFIED:20211014T014014Z
UID:23798-1635703200-1635714000@www.thesangerscene.com
SUMMARY:Harvest Festival hosted by Tabernacle of Praise Christian Center
DESCRIPTION:
URL:https://www.thesangerscene.com/event/harvest-festival-hosted-by-tabernacle-of-praise-christian-center/
LOCATION:Greenwood & Holt\, corner of Greenwood & Holt Ave.\, Sanger\, CA\, 93657\, United States
ATTACH;FMTTYPE=image/jpeg:https://www.thesangerscene.com/wp-content/uploads/2021/10/largeflyer.jpg
END:VEVENT
BEGIN:VEVENT
DTSTART;TZID=America/Los_Angeles:20211031T180000
DTEND;TZID=America/Los_Angeles:20211031T200000
DTSTAMP:20260424T193954
CREATED:20211001T180811Z
LAST-MODIFIED:20211001T180811Z
UID:23726-1635703200-1635710400@www.thesangerscene.com
SUMMARY:Sanger Community Church Trunk or Treat
DESCRIPTION:
URL:https://www.thesangerscene.com/event/sanger-community-church-trunk-or-treat/
LOCATION:Sanger Community Church\, 1610 Jensen Ave.\, Sanger\, CA\, 93657\, United States
ATTACH;FMTTYPE=image/jpeg:https://www.thesangerscene.com/wp-content/uploads/2021/09/Sanger-Community-Church-Trunk-or-Trreat.jpg
END:VEVENT
BEGIN:VEVENT
DTSTART;TZID=America/Los_Angeles:20211030T193000
DTEND;TZID=America/Los_Angeles:20211030T220000
DTSTAMP:20260424T193954
CREATED:20211028T164134Z
LAST-MODIFIED:20211028T164134Z
UID:23842-1635622200-1635631200@www.thesangerscene.com
SUMMARY:Sanger High School's Theatre Presents Disney "Frozen Jr"
DESCRIPTION:Adults $10 \nStudents $8
URL:https://www.thesangerscene.com/event/sanger-high-schools-theatre-presents-disney-frozen-jr-2/
LOCATION:Sanger High MPR\, 1045 Bethel Ave.\, Sanger\, CA\, 93657\, United States
ATTACH;FMTTYPE=image/jpeg:https://www.thesangerscene.com/wp-content/uploads/2021/10/Frozen-Poster.jpeg
END:VEVENT
BEGIN:VEVENT
DTSTART;TZID=America/Los_Angeles:20211030T140000
DTEND;TZID=America/Los_Angeles:20211030T170000
DTSTAMP:20260424T193954
CREATED:20211028T164312Z
LAST-MODIFIED:20211028T164312Z
UID:23844-1635602400-1635613200@www.thesangerscene.com
SUMMARY:Sanger High School's Theatre Presents Disney "Frozen Jr"-Matinee
DESCRIPTION:Adults $10 \nStudents $8
URL:https://www.thesangerscene.com/event/sanger-high-schools-theatre-presents-disney-frozen-jr-matinee/
LOCATION:Sanger High MPR\, 1045 Bethel Ave.\, Sanger\, CA\, 93657\, United States
ATTACH;FMTTYPE=image/jpeg:https://www.thesangerscene.com/wp-content/uploads/2021/10/Frozen-Poster.jpeg
END:VEVENT
BEGIN:VEVENT
DTSTART;TZID=America/Los_Angeles:20211028T193000
DTEND;TZID=America/Los_Angeles:20211028T220000
DTSTAMP:20260424T193954
CREATED:20211028T163952Z
LAST-MODIFIED:20211028T163952Z
UID:23839-1635449400-1635458400@www.thesangerscene.com
SUMMARY:Sanger High School's Theatre Presents Disney "Frozen Jr"
DESCRIPTION:Adults $10 \nStudents $8
URL:https://www.thesangerscene.com/event/sanger-high-schools-theatre-presents-disney-frozen-jr/
LOCATION:Sanger High MPR\, 1045 Bethel Ave.\, Sanger\, CA\, 93657\, United States
ATTACH;FMTTYPE=image/jpeg:https://www.thesangerscene.com/wp-content/uploads/2021/10/Frozen-Poster.jpeg
END:VEVENT
BEGIN:VEVENT
DTSTART;TZID=America/Los_Angeles:20211028T183000
DTEND;TZID=America/Los_Angeles:20211028T200000
DTSTAMP:20260424T193954
CREATED:20211014T013646Z
LAST-MODIFIED:20211014T013646Z
UID:23794-1635445800-1635451200@www.thesangerscene.com
SUMMARY:Sanger Chamber of Commerce w/City of Sanger presents 33rd Annual Halloween Trunk or Treat
DESCRIPTION:
URL:https://www.thesangerscene.com/event/sanger-chamber-of-commerce-w-city-of-sanger-presents-33rd-annual-halloween-trunk-or-treat/
LOCATION:Downtown 7th Street\, Sanger\, 93657
ATTACH;FMTTYPE=image/jpeg:https://www.thesangerscene.com/wp-content/uploads/2021/10/243230662_2016563068537656_7459412134889976179_n.jpg
ORGANIZER;CN="Sanger District Chamber of Commerce":MAILTO:sangerchamber@gmail.com
END:VEVENT
BEGIN:VEVENT
DTSTART;TZID=America/Los_Angeles:20211024T160000
DTEND;TZID=America/Los_Angeles:20211024T190000
DTSTAMP:20260424T193954
CREATED:20211007T015848Z
LAST-MODIFIED:20211007T015848Z
UID:23756-1635091200-1635102000@www.thesangerscene.com
SUMMARY:Grace Community Church Trunk or Treat
DESCRIPTION:
URL:https://www.thesangerscene.com/event/grace-community-church-trunk-or-treat/
LOCATION:Grace Community Church\, 1620 Church Ave.\, Sanger\, CA\, 93657\, United States
ATTACH;FMTTYPE=image/jpeg:https://www.thesangerscene.com/wp-content/uploads/2021/10/Trunk-or-Treat-2021-Full-copy.jpg
END:VEVENT
BEGIN:VEVENT
DTSTART;TZID=America/Los_Angeles:20211019T173000
DTEND;TZID=America/Los_Angeles:20211019T203000
DTSTAMP:20260424T193954
CREATED:20210813T063840Z
LAST-MODIFIED:20210813T063840Z
UID:23552-1634664600-1634675400@www.thesangerscene.com
SUMMARY:Sanger Police Dept & Sanger Fire Dept sponsor "National Night Out"
DESCRIPTION:
URL:https://www.thesangerscene.com/event/sanger-police-dept-sanger-fire-dept-sponsor-national-night-out/
LOCATION:Sanger City Park\, 477 Academy Avenue\, Sanger\, CA\, 93657
ATTACH;FMTTYPE=image/jpeg:https://www.thesangerscene.com/wp-content/uploads/2021/08/NNO-Poster-2021-copy.jpg
END:VEVENT
BEGIN:VEVENT
DTSTART;TZID=America/Los_Angeles:20211009T120000
DTEND;TZID=America/Los_Angeles:20211009T160000
DTSTAMP:20260424T193954
CREATED:20210813T191535Z
LAST-MODIFIED:20210813T191535Z
UID:23562-1633780800-1633795200@www.thesangerscene.com
SUMMARY:8th annual Sanger Fire Department & Sanger Police Department Open House
DESCRIPTION:
URL:https://www.thesangerscene.com/event/8th-annual-sanger-fire-department-sanger-police-department-open-house/
LOCATION:Sanger Fire & Police Departments\, 601 West Ave. & Jensen Ave.\, Sanger\, 93657
ATTACH;FMTTYPE=image/jpeg:https://www.thesangerscene.com/wp-content/uploads/2021/08/Photo-Aug-13-11-11-59-AM.jpg
END:VEVENT
BEGIN:VEVENT
DTSTART;TZID=America/Los_Angeles:20211005T140000
DTEND;TZID=America/Los_Angeles:20211005T170000
DTSTAMP:20260424T193954
CREATED:20210917T185540Z
LAST-MODIFIED:20210917T185540Z
UID:23717-1633442400-1633453200@www.thesangerscene.com
SUMMARY:Annual Sanger Job & Resource Fair
DESCRIPTION:
URL:https://www.thesangerscene.com/event/annual-sanger-job-resource-fair/
LOCATION:Sanger Community Center\, 1234 
ATTACH;FMTTYPE=image/jpeg:https://www.thesangerscene.com/wp-content/uploads/2021/09/Sanger-Job-and-Resource-Fair-2021-Ad-9-8-2021.jpg
ORGANIZER;CN="City of Sanger":MAILTO:ctamez@ci.sanger.ca.us
END:VEVENT
BEGIN:VEVENT
DTSTART;TZID=America/Los_Angeles:20210918T170000
DTEND;TZID=America/Los_Angeles:20210918T210000
DTSTAMP:20260424T193954
CREATED:20210917T185806Z
LAST-MODIFIED:20210917T185806Z
UID:23720-1631984400-1631998800@www.thesangerscene.com
SUMMARY:Welcome Home Celebration for Tom Flores by Sanger Chamber
DESCRIPTION:
URL:https://www.thesangerscene.com/event/welcome-home-celebration-for-tom-flores-by-sanger-chamber/
LOCATION:Downtown Sanger\, 7th & N St.\, Sanger\, CA\, 93657\, United States
ATTACH;FMTTYPE=image/jpeg:https://www.thesangerscene.com/wp-content/uploads/2021/09/TomFlores-Flyer_COORSLIGHT.jpg
ORGANIZER;CN="Sanger District Chamber of Commerce":MAILTO:sangerchamber@gmail.com
END:VEVENT
BEGIN:VEVENT
DTSTART;TZID=America/Los_Angeles:20210911T170000
DTEND;TZID=America/Los_Angeles:20210911T210000
DTSTAMP:20260424T193954
CREATED:20210907T230353Z
LAST-MODIFIED:20210907T230353Z
UID:23685-1631379600-1631394000@www.thesangerscene.com
SUMMARY:Sanger Chamber Honoring Military & Frontline Heroes
DESCRIPTION:
URL:https://www.thesangerscene.com/event/sanger-chamber-honoring-military-frontline-heroes/
LOCATION:Downtown Sanger\, 7th & N St.\, Sanger\, CA\, 93657\, United States
ATTACH;FMTTYPE=image/jpeg:https://www.thesangerscene.com/wp-content/uploads/2021/09/Sept-11-FarmersMarket-Heros.jpg
ORGANIZER;CN="Sanger District Chamber of Commerce":MAILTO:sangerchamber@gmail.com
END:VEVENT
BEGIN:VEVENT
DTSTART;TZID=America/Los_Angeles:20210911T073000
DTEND;TZID=America/Los_Angeles:20210911T103000
DTSTAMP:20260424T193954
CREATED:20210805T010044Z
LAST-MODIFIED:20210805T010044Z
UID:23490-1631345400-1631356200@www.thesangerscene.com
SUMMARY:Veterans of Foreign Wars\, American Legion\, AMVETS 9/11 Ceremony & Community Breakfast
DESCRIPTION:
URL:https://www.thesangerscene.com/event/veterans-of-foreign-wars-american-legion-amvets-9-11-ceremony-community-breakfast/
LOCATION:American Legion Hall\, 1502 "O" Street\, Sanger\, 93657
ATTACH;FMTTYPE=image/jpeg:https://www.thesangerscene.com/wp-content/uploads/2021/08/9_11_2021-BREAKFAST-copy.jpg
END:VEVENT
BEGIN:VEVENT
DTSTART;TZID=America/Los_Angeles:20210904T170000
DTEND;TZID=America/Los_Angeles:20210904T210000
DTSTAMP:20260424T193954
CREATED:20210902T012119Z
LAST-MODIFIED:20210902T012119Z
UID:23677-1630774800-1630789200@www.thesangerscene.com
SUMMARY:Sanger Chamber of Commerce Street Fair & Farmers Market- Disney Night
DESCRIPTION:
URL:https://www.thesangerscene.com/event/sanger-chamber-of-commerce-street-fair-farmers-market-disney-night/
LOCATION:Downton Sanger\, Sanger\, CA\, 93657
ATTACH;FMTTYPE=image/jpeg:https://www.thesangerscene.com/wp-content/uploads/2021/09/240968039_4549714558380754_4445338646662033417_n.jpg
ORGANIZER;CN="Sanger Distrcit Chamber of Commerce":MAILTO:sangerchamber@gmail.com
END:VEVENT
BEGIN:VEVENT
DTSTART;TZID=America/Los_Angeles:20210904T090000
DTEND;TZID=America/Los_Angeles:20210904T110000
DTSTAMP:20260424T193954
CREATED:20210816T165809Z
LAST-MODIFIED:20210816T165809Z
UID:23564-1630746000-1630753200@www.thesangerscene.com
SUMMARY:Coffee with a Cop at Sanger Starbucks
DESCRIPTION:
URL:https://www.thesangerscene.com/event/coffee-with-a-cop-at-sanger-starbucks/
LOCATION:Sanger Starbucks\, 512 Academy Ave.\, Sanger\, CA\, 93657\, United States
ATTACH;FMTTYPE=image/jpeg:https://www.thesangerscene.com/wp-content/uploads/2021/08/234547465_4498428003509410_4980681599552004656_n.jpg
END:VEVENT
BEGIN:VEVENT
DTSTART;TZID=America/Los_Angeles:20210828T183000
DTEND;TZID=America/Los_Angeles:20210828T223000
DTSTAMP:20260424T193954
CREATED:20210714T210016Z
LAST-MODIFIED:20210714T210016Z
UID:23399-1630175400-1630189800@www.thesangerscene.com
SUMMARY:Sanger High School Class of 1971\, 50 Year Class Reunion
DESCRIPTION:
URL:https://www.thesangerscene.com/event/sanger-high-school-class-of-1971-50-year-class-reunion/
LOCATION:Wolf Lakes\, 11646 E Ashlan Ave.\, Sanger\, CA
ATTACH;FMTTYPE=image/jpeg:https://www.thesangerscene.com/wp-content/uploads/2021/07/Reunion-Flyer-PDF-copy.jpg
END:VEVENT
BEGIN:VEVENT
DTSTART;TZID=America/Los_Angeles:20210828T170000
DTEND;TZID=America/Los_Angeles:20210828T210000
DTSTAMP:20260424T193954
CREATED:20210714T231500Z
LAST-MODIFIED:20210714T231500Z
UID:23412-1630170000-1630184400@www.thesangerscene.com
SUMMARY:Sanger District Chamber of Commerce Farmer's Market- Night at the Tropics
DESCRIPTION:
URL:https://www.thesangerscene.com/event/sanger-district-chamber-of-commerce-farmers-market-5/
LOCATION:Downtown Sanger\, 7th & N St.\, Sanger\, CA\, 93657\, United States
ATTACH;FMTTYPE=image/jpeg:https://www.thesangerscene.com/wp-content/uploads/2021/08/FarmersMarket-8.28-Night-at-the-Tropics-Instagram.jpg
END:VEVENT
BEGIN:VEVENT
DTSTART;TZID=America/Los_Angeles:20210828T090000
DTEND;TZID=America/Los_Angeles:20210828T110000
DTSTAMP:20260424T193954
CREATED:20210810T220939Z
LAST-MODIFIED:20210810T220939Z
UID:23524-1630141200-1630148400@www.thesangerscene.com
SUMMARY:HOPE Sanger Shoes for Sanger KiDs
DESCRIPTION:
URL:https://www.thesangerscene.com/event/hope-sanger-shoes-for-sanger-kids/
LOCATION:Sanger Walmart\, 2761 Jensen Ave.\, Sanger\, 93657
ATTACH;FMTTYPE=image/jpeg:https://www.thesangerscene.com/wp-content/uploads/2021/08/228725656_4485797238105820_545561731390879129_n.jpg
END:VEVENT
BEGIN:VEVENT
DTSTART;TZID=America/Los_Angeles:20210824T090000
DTEND;TZID=America/Los_Angeles:20210824T140000
DTSTAMP:20260424T193954
CREATED:20210818T223547Z
LAST-MODIFIED:20210818T223547Z
UID:23600-1629795600-1629813600@www.thesangerscene.com
SUMMARY:Proteus Inc Job Fair
DESCRIPTION:
URL:https://www.thesangerscene.com/event/proteus-inc-job-fair/
LOCATION:2570 Jensen Ave.\, 2570 Jensen Ave.\, Sanger\, CA\, 93657\, United States
ATTACH;FMTTYPE=image/jpeg:https://www.thesangerscene.com/wp-content/uploads/2021/08/Job-Fair-English.jpg
END:VEVENT
BEGIN:VEVENT
DTSTART;TZID=America/Los_Angeles:20210821T170000
DTEND;TZID=America/Los_Angeles:20210821T210000
DTSTAMP:20260424T193955
CREATED:20210714T231317Z
LAST-MODIFIED:20210714T231317Z
UID:23410-1629565200-1629579600@www.thesangerscene.com
SUMMARY:Sanger District Chamber of Commerce Farmer's Market- Taco Throwdown
DESCRIPTION:
URL:https://www.thesangerscene.com/event/sanger-district-chamber-of-commerce-farmers-market-4/
LOCATION:Downtown Sanger\, 7th & N St.\, Sanger\, CA\, 93657\, United States
ATTACH;FMTTYPE=image/jpeg:https://www.thesangerscene.com/wp-content/uploads/2021/08/FARMERS-MARKET-7.21.jpg
END:VEVENT
BEGIN:VEVENT
DTSTART;TZID=America/Los_Angeles:20210814T170000
DTEND;TZID=America/Los_Angeles:20210814T210000
DTSTAMP:20260424T193955
CREATED:20210805T011327Z
LAST-MODIFIED:20210805T011327Z
UID:23496-1628960400-1628974800@www.thesangerscene.com
SUMMARY:Sanger District Chamber of Commerce Farmer's Market- 'Back to School'
DESCRIPTION:
URL:https://www.thesangerscene.com/event/sanger-district-chamber-of-commerce-farmers-market-3/
LOCATION:Downtown Sanger\, 7th & N St.\, Sanger\, CA\, 93657\, United States
ATTACH;FMTTYPE=image/jpeg:https://www.thesangerscene.com/wp-content/uploads/2021/08/Farmers-M.jpg
ORGANIZER;CN="Sanger District Chamber of Commerce":MAILTO:sangerchamber@gmail.com
END:VEVENT
BEGIN:VEVENT
DTSTART;TZID=America/Los_Angeles:20210814T160000
DTEND;TZID=America/Los_Angeles:20210814T190000
DTSTAMP:20260424T193955
CREATED:20210805T010815Z
LAST-MODIFIED:20210805T010815Z
UID:23492-1628956800-1628967600@www.thesangerscene.com
SUMMARY:Sanger Community Church Back to School Celebration
DESCRIPTION:
URL:https://www.thesangerscene.com/event/sanger-community-church-back-to-school-celebration/
LOCATION:Sanger Community Church\, 1610 Jensen Ave.\, Sanger\, CA\, 93657\, United States
ATTACH;FMTTYPE=image/jpeg:https://www.thesangerscene.com/wp-content/uploads/2021/08/Back-to-School-Celebration.jpg
END:VEVENT
BEGIN:VEVENT
DTSTART;TZID=America/Los_Angeles:20210814T100000
DTEND;TZID=America/Los_Angeles:20210814T120000
DTSTAMP:20260424T193955
CREATED:20210813T060548Z
LAST-MODIFIED:20210813T060548Z
UID:23543-1628935200-1628942400@www.thesangerscene.com
SUMMARY:Harvest of Harmony Int'l Church "Back to School Giveaway"
DESCRIPTION:
URL:https://www.thesangerscene.com/event/harvest-of-harmony-intl-church-back-to-school-giveaway/
LOCATION:Sanger Park\, Academy Ave. (Between 3rd & 5th Streets)\, Sanger \, 93657
ATTACH;FMTTYPE=image/jpeg:https://www.thesangerscene.com/wp-content/uploads/2021/08/232177216_1431502667223816_4616977327609198930_n.jpg
END:VEVENT
BEGIN:VEVENT
DTSTART;TZID=America/Los_Angeles:20210811T150000
DTEND;TZID=America/Los_Angeles:20210811T190000
DTSTAMP:20260424T193955
CREATED:20210810T220057Z
LAST-MODIFIED:20210810T220057Z
UID:23518-1628694000-1628708400@www.thesangerscene.com
SUMMARY:Back 2 School Resource Fair
DESCRIPTION:
URL:https://www.thesangerscene.com/event/back-2-school-resource-fair/
LOCATION:Sanger Family Resource Center\, 1436 P St.\, Sanger\, CA\, 93657\, United States
ATTACH;FMTTYPE=image/jpeg:https://www.thesangerscene.com/wp-content/uploads/2021/08/232144143_4485797264772484_5532282387399957484_n.jpg
END:VEVENT
BEGIN:VEVENT
DTSTART;TZID=America/Los_Angeles:20210810T190000
DTEND;TZID=America/Los_Angeles:20210810T220000
DTSTAMP:20260424T193955
CREATED:20210805T004642Z
LAST-MODIFIED:20210805T004642Z
UID:23483-1628622000-1628632800@www.thesangerscene.com
SUMMARY:St. Mary's Centennial Celebration
DESCRIPTION:
URL:https://www.thesangerscene.com/event/st-marys-centennial-celebration/
LOCATION:ST. Mary’s Catholic Church\, North & Bethel Ave\, Sanger \, 93657
ATTACH;FMTTYPE=image/jpeg:https://www.thesangerscene.com/wp-content/uploads/2021/08/100-Years-Celebration-copy.jpg
ORGANIZER;CN="St. Mary's Catholic Church":MAILTO:jgaza999@gmail.com
END:VEVENT
BEGIN:VEVENT
DTSTART;TZID=America/Los_Angeles:20210807T170000
DTEND;TZID=America/Los_Angeles:20210807T210000
DTSTAMP:20260424T193955
CREATED:20210714T231052Z
LAST-MODIFIED:20210714T231052Z
UID:23406-1628355600-1628370000@www.thesangerscene.com
SUMMARY:Sanger District Chamber of Commerce Farmer's Market - Carnival Night
DESCRIPTION:
URL:https://www.thesangerscene.com/event/sanger-district-chamber-of-commerce-farmers-market-2/
LOCATION:Downtown Sanger\, 7th & N St.\, Sanger\, CA\, 93657\, United States
ATTACH;FMTTYPE=image/jpeg:https://www.thesangerscene.com/wp-content/uploads/2021/08/Farmers-Aug-7.jpg
END:VEVENT
BEGIN:VEVENT
DTSTART;TZID=America/Los_Angeles:20210805T080000
DTEND;TZID=America/Los_Angeles:20210805T120000
DTSTAMP:20260424T193955
CREATED:20210805T005808Z
LAST-MODIFIED:20210805T005808Z
UID:23486-1628150400-1628164800@www.thesangerscene.com
SUMMARY:Sanger Police Department "POP-UP COP"
DESCRIPTION:8am to 9am-Lincoln School \n9:30am to 10:30am-Jenni Park \n11am to 12noon- Brehler Square \n  \n 
URL:https://www.thesangerscene.com/event/sanger-police-department-pop-up-cop/
LOCATION:Lincoln Elementary School\, 1700 Fourteenth St.\, Sanger\, 93657
ATTACH;FMTTYPE=image/jpeg:https://www.thesangerscene.com/wp-content/uploads/2021/08/225430632_4176591875781612_6867523842938099341_n.jpg
END:VEVENT
BEGIN:VEVENT
DTSTART;TZID=America/Los_Angeles:20210801T170000
DTEND;TZID=America/Los_Angeles:20210801T210000
DTSTAMP:20260424T193955
CREATED:20210714T230852Z
LAST-MODIFIED:20210714T230852Z
UID:23403-1627837200-1627851600@www.thesangerscene.com
SUMMARY:Sanger District Chamber of Commerce Farmer's Market
DESCRIPTION:
URL:https://www.thesangerscene.com/event/sanger-district-chamber-of-commerce-farmers-market/
LOCATION:Downtown Sanger\, 7th & N St.\, Sanger\, CA\, 93657\, United States
ATTACH;FMTTYPE=image/jpeg:https://www.thesangerscene.com/wp-content/uploads/2021/07/Farmers-Market-Flyer.jpg
END:VEVENT
END:VCALENDAR