BEGIN:VCALENDAR
VERSION:2.0
PRODID:-//The Sanger Scene - ECPv6.5.1.6//NONSGML v1.0//EN
CALSCALE:GREGORIAN
METHOD:PUBLISH
X-WR-CALNAME:The Sanger Scene
X-ORIGINAL-URL:https://www.thesangerscene.com
X-WR-CALDESC:Events for The Sanger Scene
REFRESH-INTERVAL;VALUE=DURATION:PT1H
X-Robots-Tag:noindex
X-PUBLISHED-TTL:PT1H
BEGIN:VTIMEZONE
TZID:America/Los_Angeles
BEGIN:DAYLIGHT
TZOFFSETFROM:-0800
TZOFFSETTO:-0700
TZNAME:PDT
DTSTART:20240310T100000
END:DAYLIGHT
BEGIN:STANDARD
TZOFFSETFROM:-0700
TZOFFSETTO:-0800
TZNAME:PST
DTSTART:20241103T090000
END:STANDARD
BEGIN:DAYLIGHT
TZOFFSETFROM:-0800
TZOFFSETTO:-0700
TZNAME:PDT
DTSTART:20250309T100000
END:DAYLIGHT
BEGIN:STANDARD
TZOFFSETFROM:-0700
TZOFFSETTO:-0800
TZNAME:PST
DTSTART:20251102T090000
END:STANDARD
END:VTIMEZONE
BEGIN:VEVENT
DTSTART;TZID=America/Los_Angeles:20250502T100000
DTEND;TZID=America/Los_Angeles:20250502T130000
DTSTAMP:20260422T035542
CREATED:20250501T222813Z
LAST-MODIFIED:20250501T222813Z
UID:45433-1746180000-1746190800@www.thesangerscene.com
SUMMARY:Sanger Recreation presents Cinco De Mayo Senior Luncheon Celebration
DESCRIPTION:Tickets are $10 for senior citizens and $13 for non-seniors.
URL:https://www.thesangerscene.com/event/sanger-recreation-presents-cinco-de-mayo-senior-luncheon-celebration/
LOCATION:Sanger Community Center\, 1234 
ATTACH;FMTTYPE=image/png:https://www.thesangerscene.com/wp-content/uploads/2025/05/Cinco-De-Mayo-w-SWHS-las-cabanas-insta.png
END:VEVENT
BEGIN:VEVENT
DTSTART;TZID=America/Los_Angeles:20250429T080000
DTEND;TZID=America/Los_Angeles:20250429T153000
DTSTAMP:20260422T035542
CREATED:20250314T030955Z
LAST-MODIFIED:20250314T030955Z
UID:45148-1745913600-1745940600@www.thesangerscene.com
SUMMARY:Sanger High School Class of 2025 Senior Exit Interviews
DESCRIPTION:
URL:https://www.thesangerscene.com/event/sanger-high-school-class-of-2025-senior-exit-interviews/
LOCATION:Sanger High School\, 1045 Bethel Ave.\, Sanger \, 93657
ATTACH;FMTTYPE=image/png:https://www.thesangerscene.com/wp-content/uploads/2025/03/SEI-25.png
END:VEVENT
BEGIN:VEVENT
DTSTART;TZID=America/Los_Angeles:20250426T110000
DTEND;TZID=America/Los_Angeles:20250426T133000
DTSTAMP:20260422T035542
CREATED:20250314T024144Z
LAST-MODIFIED:20250314T024144Z
UID:45121-1745665200-1745674200@www.thesangerscene.com
SUMMARY:Sanger Woman's Club Annual Spring Tea
DESCRIPTION:Lunch\, Raffle and Fashion Show
URL:https://www.thesangerscene.com/event/sanger-womans-club-annual-spring-tea/
LOCATION:ST. Mary’s Catholic Church\, North & Bethel Ave\, Sanger \, 93657
ATTACH;FMTTYPE=image/jpeg:https://www.thesangerscene.com/wp-content/uploads/2025/03/Flyer-Spring-Tea-2025-copy.jpg
END:VEVENT
BEGIN:VEVENT
DTSTART;TZID=America/Los_Angeles:20250412T090000
DTEND;TZID=America/Los_Angeles:20250412T140000
DTSTAMP:20260422T035542
CREATED:20250314T025806Z
LAST-MODIFIED:20250314T025806Z
UID:45138-1744448400-1744466400@www.thesangerscene.com
SUMMARY:Grace Community Church Spring Vendor Fair
DESCRIPTION:Food\, Crafts and more. \nInfo at vendorfairsangergcc@gmail.com
URL:https://www.thesangerscene.com/event/grace-community-church-spring-vendor-fair-2/
LOCATION:Grace Community Church\, 1620 Church Ave.\, Sanger\, CA\, 93657\, United States
ATTACH;FMTTYPE=image/png:https://www.thesangerscene.com/wp-content/uploads/2025/03/spring-vendor-fair.png
END:VEVENT
BEGIN:VEVENT
DTSTART;TZID=America/Los_Angeles:20250410T090000
DTEND;TZID=America/Los_Angeles:20250410T123000
DTSTAMP:20260422T035542
CREATED:20250314T030721Z
LAST-MODIFIED:20250314T030721Z
UID:45144-1744275600-1744288200@www.thesangerscene.com
SUMMARY:Sanger West High School Class of 2025 Senior Exit Interviews
DESCRIPTION:
URL:https://www.thesangerscene.com/event/sanger-west-high-school-class-of-2025-senior-exit-interviews/
LOCATION:Sanger West Hive Gym\, 1850 S. Fowler Ave.\, Fresno\, CA\, 93727\, United States
ATTACH;FMTTYPE=image/png:https://www.thesangerscene.com/wp-content/uploads/2025/03/SWHS-Exit-Interview-Sign-Up-Flyer-Final.png
END:VEVENT
BEGIN:VEVENT
DTSTART;TZID=America/Los_Angeles:20250405T170000
DTEND;TZID=America/Los_Angeles:20250405T230000
DTSTAMP:20260422T035542
CREATED:20250314T030049Z
LAST-MODIFIED:20250314T030049Z
UID:45141-1743872400-1743894000@www.thesangerscene.com
SUMMARY:Sanger District Chamber of Commerce Centennial Community Awards Banquet
DESCRIPTION:
URL:https://www.thesangerscene.com/event/sanger-district-chamber-of-commerce-centennial-community-awards-banquet/
LOCATION:Wonder Valley Ranch Resort
ATTACH;FMTTYPE=image/png:https://www.thesangerscene.com/wp-content/uploads/2025/03/SAVE-THE-DATE-5.png
ORGANIZER;CN="Sanger District Chamber of Commerce":MAILTO:sangerchamber@gmail.com
END:VEVENT
BEGIN:VEVENT
DTSTART;TZID=America/Los_Angeles:20250329T193000
DTEND;TZID=America/Los_Angeles:20250329T220000
DTSTAMP:20260422T035542
CREATED:20250314T023353Z
LAST-MODIFIED:20250314T023353Z
UID:45115-1743276600-1743285600@www.thesangerscene.com
SUMMARY:Apache Theatre and Hive Theater Company presents "Alice by Heart"
DESCRIPTION:Curtain at 7:30pm
URL:https://www.thesangerscene.com/event/apache-theatre-and-hive-theater-company-presents-alice-by-heart-4/
LOCATION:Sanger High MPR\, 1045 Bethel Ave.\, Sanger\, CA\, 93657\, United States
ATTACH;FMTTYPE=image/jpeg:https://www.thesangerscene.com/wp-content/uploads/2025/03/Alice-byHeart-Play.jpg
END:VEVENT
BEGIN:VEVENT
DTSTART;TZID=America/Los_Angeles:20250329T130000
DTEND;TZID=America/Los_Angeles:20250329T170000
DTSTAMP:20260422T035542
CREATED:20250316T003508Z
LAST-MODIFIED:20250316T003508Z
UID:45167-1743253200-1743267600@www.thesangerscene.com
SUMMARY:Sanger Police Explorers Pizza Drive-Thru Fundraiser
DESCRIPTION:
URL:https://www.thesangerscene.com/event/sanger-police-explorers-pizza-drive-thru-fundraiser/
LOCATION:City Annex\, 1789 Jensen Ave.\, Sanger\, 93657
ATTACH;FMTTYPE=image/jpeg:https://www.thesangerscene.com/wp-content/uploads/2025/03/IMG_6413.jpeg
ORGANIZER;CN="Sanger Police Foundation":MAILTO:sangerpolicefoundation@gmail.com
END:VEVENT
BEGIN:VEVENT
DTSTART;TZID=America/Los_Angeles:20250328T193000
DTEND;TZID=America/Los_Angeles:20250328T220000
DTSTAMP:20260422T035542
CREATED:20250314T023232Z
LAST-MODIFIED:20250314T023232Z
UID:45113-1743190200-1743199200@www.thesangerscene.com
SUMMARY:Apache Theatre and Hive Theater Company presents "Alice by Heart"
DESCRIPTION:Curtain at 7:30pm
URL:https://www.thesangerscene.com/event/apache-theatre-and-hive-theater-company-presents-alice-by-heart-3/
LOCATION:Sanger High MPR\, 1045 Bethel Ave.\, Sanger\, CA\, 93657\, United States
ATTACH;FMTTYPE=image/jpeg:https://www.thesangerscene.com/wp-content/uploads/2025/03/Alice-byHeart-Play.jpg
END:VEVENT
BEGIN:VEVENT
DTSTART;TZID=America/Los_Angeles:20250327T193000
DTEND;TZID=America/Los_Angeles:20250327T220000
DTSTAMP:20260422T035542
CREATED:20250314T023054Z
LAST-MODIFIED:20250314T023054Z
UID:45111-1743103800-1743112800@www.thesangerscene.com
SUMMARY:Apache Theatre and Hive Theater Company presents "Alice by Heart"
DESCRIPTION:Curtain 7:30pm
URL:https://www.thesangerscene.com/event/apache-theatre-and-hive-theater-company-presents-alice-by-heart-2/
LOCATION:Sanger High MPR\, 1045 Bethel Ave.\, Sanger\, CA\, 93657\, United States
ATTACH;FMTTYPE=image/jpeg:https://www.thesangerscene.com/wp-content/uploads/2025/03/Alice-byHeart-Play.jpg
END:VEVENT
BEGIN:VEVENT
DTSTART;TZID=America/Los_Angeles:20250324T170000
DTEND;TZID=America/Los_Angeles:20250324T190000
DTSTAMP:20260422T035542
CREATED:20250314T025024Z
LAST-MODIFIED:20250314T025024Z
UID:45132-1742835600-1742842800@www.thesangerscene.com
SUMMARY:Digital Marketing for Business Success- Center for Community Transformation -Fresno Pacific University
DESCRIPTION:
URL:https://www.thesangerscene.com/event/digital-marketing-for-business-success-center-for-community-transformation-fresno-pacific-university/
LOCATION:Sanger Community Center\, 1234 
ATTACH;FMTTYPE=image/jpeg:https://www.thesangerscene.com/wp-content/uploads/2025/03/Sanger-Digital-Marketing-Workshop-Flyer-1080-x-1350-px.jpg
END:VEVENT
BEGIN:VEVENT
DTSTART;TZID=America/Los_Angeles:20250322T193000
DTEND;TZID=America/Los_Angeles:20250322T220000
DTSTAMP:20260422T035542
CREATED:20250314T022845Z
LAST-MODIFIED:20250314T022845Z
UID:45109-1742671800-1742680800@www.thesangerscene.com
SUMMARY:Apache Theatre and Hive Theater Company presents "Alice by Heart"
DESCRIPTION:Curtain 7:30pm
URL:https://www.thesangerscene.com/event/apache-theatre-and-hive-theater-company-presents-alice-by-heart/
LOCATION:Sanger High MPR\, 1045 Bethel Ave.\, Sanger\, CA\, 93657\, United States
ATTACH;FMTTYPE=image/jpeg:https://www.thesangerscene.com/wp-content/uploads/2025/03/Alice-byHeart-Play.jpg
END:VEVENT
BEGIN:VEVENT
DTSTART;TZID=America/Los_Angeles:20250322T110000
DTEND;TZID=America/Los_Angeles:20250322T130000
DTSTAMP:20260422T035542
CREATED:20250225T062205Z
LAST-MODIFIED:20250225T062205Z
UID:44938-1742641200-1742648400@www.thesangerscene.com
SUMMARY:Sanger Chamber Her Story: Celebrating the Legacy of Women in Sanger
DESCRIPTION:
URL:https://www.thesangerscene.com/event/sanger-chamber-her-story-celebrating-the-legacy-of-women-in-sanger/
LOCATION:Sanger Depot Museum\, 1710 7th St.\, Sanger\, 93657
ATTACH;FMTTYPE=image/jpeg:https://www.thesangerscene.com/wp-content/uploads/2025/02/2025-INAUGURAL-WOMENS-HISTORY-MONTH-CELEBRATION-1.jpg
ORGANIZER;CN="Sanger District Chamber of Commerce":MAILTO:sangerchamber@gmail.com
END:VEVENT
BEGIN:VEVENT
DTSTART;TZID=America/Los_Angeles:20250321T193000
DTEND;TZID=America/Los_Angeles:20250321T220000
DTSTAMP:20260422T035542
CREATED:20250314T022603Z
LAST-MODIFIED:20250314T022603Z
UID:45107-1742585400-1742594400@www.thesangerscene.com
SUMMARY:Apache Theatre and Hive Theatre Company presents "Alice by Heart"
DESCRIPTION:Curtain 7:30pm
URL:https://www.thesangerscene.com/event/apache-theatre-and-hive-theatre-company-presents-alice-by-heart-2/
LOCATION:Sanger High MPR\, 1045 Bethel Ave.\, Sanger\, CA\, 93657\, United States
ATTACH;FMTTYPE=image/jpeg:https://www.thesangerscene.com/wp-content/uploads/2025/03/Alice-byHeart-Play.jpg
END:VEVENT
BEGIN:VEVENT
DTSTART;TZID=America/Los_Angeles:20250321T180000
DTEND;TZID=America/Los_Angeles:20250321T230000
DTSTAMP:20260422T035542
CREATED:20250202T232715Z
LAST-MODIFIED:20250202T232715Z
UID:44749-1742580000-1742598000@www.thesangerscene.com
SUMMARY:Sanger Police Foundation 'Heroes in Blue' Gala
DESCRIPTION:
URL:https://www.thesangerscene.com/event/sanger-police-foundation-heroes-in-blue-gala-2/
LOCATION:Wolf Lakes\, 11646 E Ashlan Ave.\, Sanger\, CA
ATTACH;FMTTYPE=image/jpeg:https://www.thesangerscene.com/wp-content/uploads/2025/02/2025-SPF-GALA-INVITE.jpg
ORGANIZER;CN="Sanger Police Foundation":MAILTO:sangerpolicefoundation@gmail.com
END:VEVENT
BEGIN:VEVENT
DTSTART;TZID=America/Los_Angeles:20250319T193000
DTEND;TZID=America/Los_Angeles:20250319T220000
DTSTAMP:20260422T035542
CREATED:20250314T022221Z
LAST-MODIFIED:20250314T022221Z
UID:45104-1742412600-1742421600@www.thesangerscene.com
SUMMARY:Apache Theatre and Hive Theatre Company presents "Alice by Heart"
DESCRIPTION:Curtain at 7:30pm  \n$10 Students and $12 Adults 
URL:https://www.thesangerscene.com/event/apache-theatre-and-hive-theatre-company-presents-alice-by-heart/
LOCATION:Sanger High School MPR\, 1045 Bethel Ave.\, Sanger \, 93657
ATTACH;FMTTYPE=image/jpeg:https://www.thesangerscene.com/wp-content/uploads/2025/03/Alice-byHeart-Play.jpg
END:VEVENT
BEGIN:VEVENT
DTSTART;TZID=America/Los_Angeles:20250318T170000
DTEND;TZID=America/Los_Angeles:20250318T183000
DTSTAMP:20260422T035542
CREATED:20250314T024626Z
LAST-MODIFIED:20250314T024626Z
UID:45126-1742317200-1742322600@www.thesangerscene.com
SUMMARY:Sanger District Chamber of Commerce Business After Hours Mixer hosted by Grocery Outlet Sanger
DESCRIPTION:
URL:https://www.thesangerscene.com/event/sanger-district-chamber-of-commerce-business-after-hours-mixer-hosted-by-grocery-outlet-sanger/
LOCATION:Grocery Outlet Sanger\, 2664 Jensen Ave.\, Sanger\, CA\, 93657\, United States
ATTACH;FMTTYPE=image/jpeg:https://www.thesangerscene.com/wp-content/uploads/2025/03/Mixer-Grocery-Outlet.jpg
ORGANIZER;CN="Sanger Distrcit Chamber of Commerce":MAILTO:sangerchamber@gmail.com
END:VEVENT
BEGIN:VEVENT
DTSTART;TZID=America/Los_Angeles:20250316T120000
DTEND;TZID=America/Los_Angeles:20250316T160000
DTSTAMP:20260422T035542
CREATED:20250314T025434Z
LAST-MODIFIED:20250314T025434Z
UID:45134-1742126400-1742140800@www.thesangerscene.com
SUMMARY:St. Mary's 81st Annual Saint Patrick's Spaghetti Dinner
DESCRIPTION:$30 in advance  \n$35 at the door \nTickets Available at “O” Street Office (559) 875-2025 or Contact Vanessa t (559) 393-3261
URL:https://www.thesangerscene.com/event/st-marys-81st-annual-saint-patricks-spaghetti-dinner/
LOCATION:St. Mary’s Hall\, North and Bethel Ave.\, Sanger\, 93657\, United States
ATTACH;FMTTYPE=image/jpeg:https://www.thesangerscene.com/wp-content/uploads/2025/03/St-Patricks-.jpg
ORGANIZER;CN="St. Mary's Catholic Church":MAILTO:jgaza999@gmail.com
END:VEVENT
BEGIN:VEVENT
DTSTART;TZID=America/Los_Angeles:20250315T110000
DTEND;TZID=America/Los_Angeles:20250315T130000
DTSTAMP:20260422T035542
CREATED:20250314T023721Z
LAST-MODIFIED:20250314T023721Z
UID:45117-1742036400-1742043600@www.thesangerscene.com
SUMMARY:Surf thru Express Car Wash Ribbon Cutting
DESCRIPTION:Wash & Give Back 
URL:https://www.thesangerscene.com/event/surf-thru-express-car-wash-ribbon-cutting/
LOCATION:Surf Thru Express Car Wash\, 2700 Jensen Ave\, Sanger\, CA\, 93657\, United States
ATTACH;FMTTYPE=image/jpeg:https://www.thesangerscene.com/wp-content/uploads/2025/03/Car-Wash-.jpg
END:VEVENT
BEGIN:VEVENT
DTSTART;TZID=America/Los_Angeles:20250308T080000
DTEND;TZID=America/Los_Angeles:20250308T170000
DTSTAMP:20260422T035542
CREATED:20241228T183356Z
LAST-MODIFIED:20241228T183356Z
UID:44443-1741420800-1741453200@www.thesangerscene.com
SUMMARY:18th Annual Webber Realty Car Show
DESCRIPTION:
URL:https://www.thesangerscene.com/event/18th-annual-webber-realty-car-show/
LOCATION:Brehler Square\, 7th & N St.\, Sanger \, CA\, United States
ATTACH;FMTTYPE=image/jpeg:https://www.thesangerscene.com/wp-content/uploads/2024/12/Car-Show-march-8.jpg
ORGANIZER;CN="Mike Webber":MAILTO:1mikewebber@gmail.com
END:VEVENT
BEGIN:VEVENT
DTSTART;TZID=America/Los_Angeles:20250308T070000
DTEND;TZID=America/Los_Angeles:20250308T150000
DTSTAMP:20260422T035542
CREATED:20250202T231919Z
LAST-MODIFIED:20250202T231919Z
UID:44746-1741417200-1741446000@www.thesangerscene.com
SUMMARY:Sanger Chamber 36th Annual Blossom Days Festival
DESCRIPTION:
URL:https://www.thesangerscene.com/event/sanger-chamber-36th-annual-blossom-days-festival/
LOCATION:Downton Sanger\, Sanger\, CA\, 93657
ATTACH;FMTTYPE=image/png:https://www.thesangerscene.com/wp-content/uploads/2025/02/BLOSSOM-DAYS-FESTIVAL-3.png
END:VEVENT
BEGIN:VEVENT
DTSTART;TZID=America/Los_Angeles:20250301T070000
DTEND;TZID=America/Los_Angeles:20250301T130000
DTSTAMP:20260422T035542
CREATED:20250202T230926Z
LAST-MODIFIED:20250202T231341Z
UID:44741-1740812400-1740834000@www.thesangerscene.com
SUMMARY:City of Sanger 28th Annual Blossom Trail Run
DESCRIPTION:Races: 2 Mile Run\, Masters Class 2 Mile Walk\, 10K Run\, 10K Non-competitive Walk \nKids Races \n3rd Annual Pet Parade at 11 am. \n  \nScreenshot
URL:https://www.thesangerscene.com/event/city-of-sanger-28th-annual-blossom-trail-run-2/
LOCATION:Downtown Sanger\, 7th & N. St.\, Sanger\, CA
ATTACH;FMTTYPE=image/png:https://www.thesangerscene.com/wp-content/uploads/2025/02/BTR-Flyer-2025.png
END:VEVENT
BEGIN:VEVENT
DTSTART;TZID=America/Los_Angeles:20250225T170000
DTEND;TZID=America/Los_Angeles:20250225T183000
DTSTAMP:20260422T035542
CREATED:20250225T061125Z
LAST-MODIFIED:20250225T061125Z
UID:44930-1740502800-1740508200@www.thesangerscene.com
SUMMARY:Sanger Chamber Business After Hours Mixer & Ribbon Cutting - Mi Linda Tierra
DESCRIPTION:5 pm Ribbon Cutting \n5:30pm to 6:30pm Mixer
URL:https://www.thesangerscene.com/event/sanger-chamber-business-after-hours-mixer-ribbon-cutting-mi-linda-tierra/
LOCATION:Mi Linda Tierra Taqueria\, 1330 7th St.\, Sanger\, CA\, 93657\, United States
ATTACH;FMTTYPE=image/jpeg:https://www.thesangerscene.com/wp-content/uploads/2025/02/FEB-MIXER-2025-1-1.jpg
ORGANIZER;CN="Sanger District Chamber of Commerce":MAILTO:sangerchamber@gmail.com
END:VEVENT
BEGIN:VEVENT
DTSTART;TZID=America/Los_Angeles:20250225T153000
DTEND;TZID=America/Los_Angeles:20250225T163000
DTSTAMP:20260422T035542
CREATED:20250225T061622Z
LAST-MODIFIED:20250225T061622Z
UID:44934-1740497400-1740501000@www.thesangerscene.com
SUMMARY:Grand Opening & Ribbon Cutting for Dee's Blossoming Butterflies by Sanger Chamber
DESCRIPTION:
URL:https://www.thesangerscene.com/event/grand-opening-ribbon-cutting-for-dees-blossoming-butterflies-by-sanger-chamber/
LOCATION:Dee’s Blossoming Butterflies\, 1719 7th St.\, Sanger\, CA\, 93657\, United States
ATTACH;FMTTYPE=image/jpeg:https://www.thesangerscene.com/wp-content/uploads/2025/02/GRAND-OPENING-RIBBON-CUTTING-DEES-BLOSSOMING-BUTTERFLIES-2-1.jpg
ORGANIZER;CN="Sanger District Chamber of Commerce":MAILTO:sangerchamber@gmail.com
END:VEVENT
BEGIN:VEVENT
DTSTART;TZID=America/Los_Angeles:20250215T110000
DTEND;TZID=America/Los_Angeles:20250215T140000
DTSTAMP:20260422T035542
CREATED:20250107T024838Z
LAST-MODIFIED:20250107T024838Z
UID:44517-1739617200-1739628000@www.thesangerscene.com
SUMMARY:50th Anniversary of the Sanger Historical Society
DESCRIPTION:1975-2025 \n11am Social \n12pm Luncheon  \nCatered by Aces Catering \nGuest Speaker Russell Manfredi \n 
URL:https://www.thesangerscene.com/event/50th-anniversary-of-the-sanger-historical-society/
LOCATION:Sanger Woman’s Club\, 1602 7th Street\, Sanger\, CA\, 93657\, United States
ATTACH;FMTTYPE=image/jpeg:https://www.thesangerscene.com/wp-content/uploads/2025/01/50th-Historical-Society-Lunch--scaled.jpg
END:VEVENT
BEGIN:VEVENT
DTSTART;TZID=America/Los_Angeles:20250207T120000
DTEND;TZID=America/Los_Angeles:20250207T140000
DTSTAMP:20260422T035542
CREATED:20250202T230335Z
LAST-MODIFIED:20250202T230335Z
UID:44738-1738929600-1738936800@www.thesangerscene.com
SUMMARY:Fresno County Blossom Trail Opening Ceremony hosted by Sanger Chamber
DESCRIPTION:RSVP at sangerchamber@gmail.com or (559)875-4575
URL:https://www.thesangerscene.com/event/fresno-county-blossom-trail-opening-ceremony-hosted-by-sanger-chamber/
LOCATION:Sanger Park\, Academy Ave. (Between 3rd & 5th Streets)\, Sanger \, 93657
ATTACH;FMTTYPE=image/png:https://www.thesangerscene.com/wp-content/uploads/2025/02/2025-BLOSSOM-TRAIL-OPENING-CEREMONY-1.png
END:VEVENT
BEGIN:VEVENT
DTSTART;TZID=America/Los_Angeles:20250122T180000
DTEND;TZID=America/Los_Angeles:20250122T200000
DTSTAMP:20260422T035542
CREATED:20250120T004606Z
LAST-MODIFIED:20250120T004606Z
UID:44638-1737568800-1737576000@www.thesangerscene.com
SUMMARY:City of Sanger Roundtable Meeting with City Manager Nathan Olson
DESCRIPTION:RSVP to (559) 876-6300 ext 1500 \n  \nCome Hear about the 2025/26 City Budget
URL:https://www.thesangerscene.com/event/city-of-sanger-roundtable-meeting-with-city-manager-nathan-olson/
LOCATION:Sanger City Hall\, 1700 7th St.\, Sanger\, CA\, 93657\, United States
ATTACH;FMTTYPE=image/jpeg:https://www.thesangerscene.com/wp-content/uploads/2025/01/Nathan-Roundtable-1.22.25.jpg
ORGANIZER;CN="City of Sanger":MAILTO:ctamez@ci.sanger.ca.us
END:VEVENT
BEGIN:VEVENT
DTSTART;TZID=America/Los_Angeles:20250114T180000
DTEND;TZID=America/Los_Angeles:20250114T200000
DTSTAMP:20260422T035542
CREATED:20241228T182447Z
LAST-MODIFIED:20241228T182447Z
UID:44435-1736877600-1736884800@www.thesangerscene.com
SUMMARY:Sanger Town Hall On Human Trafficking
DESCRIPTION:Guest Speakers Include: \nChief Greg Garner\, Sanger Police Department \nLisa Smittcamp\, Fresno County District Attorney \nCA State Senator Shannon Grove 12th Districtg \nSheriff John Zanoni\, Fresno County Sheriff \nDebra Rush\, CEO Breaking the Chains
URL:https://www.thesangerscene.com/event/sanger-town-hall-on-human-trafficking/
LOCATION:Sanger High MPR\, 1045 Bethel Ave.\, Sanger\, CA\, 93657\, United States
ATTACH;FMTTYPE=image/jpeg:https://www.thesangerscene.com/wp-content/uploads/2024/12/Human-Trafficking.jpeg
ORGANIZER;CN="City of Sanger":MAILTO:ctamez@ci.sanger.ca.us
END:VEVENT
BEGIN:VEVENT
DTSTART;TZID=America/Los_Angeles:20241221T113000
DTEND;TZID=America/Los_Angeles:20241221T123000
DTSTAMP:20260422T035542
CREATED:20241217T231439Z
LAST-MODIFIED:20241218T000924Z
UID:44357-1734780600-1734784200@www.thesangerscene.com
SUMMARY:Mochilicious Ribbon Cutting by Sanger Chamber and Grand Opening
DESCRIPTION:Grand Opening 11am to 5pm \nRibbon Cutting 11:30am \nPhoto with Santa\, Car Show and more. 
URL:https://www.thesangerscene.com/event/mochilicious-ribbon-cutting-by-sanger-chamber-and-grand-opening/
LOCATION:Mochilicious Sanger\, 775 Bethel Ave. Suite 108\, Sanger\, CA\, 93657\, United States
ATTACH;FMTTYPE=image/jpeg:https://www.thesangerscene.com/wp-content/uploads/2024/12/Mochilicious-Ribbon-Cutting-.jpg
END:VEVENT
BEGIN:VEVENT
DTSTART;TZID=America/Los_Angeles:20241208T143000
DTEND;TZID=America/Los_Angeles:20241208T160000
DTSTAMP:20260422T035542
CREATED:20240817T004303Z
LAST-MODIFIED:20241126T035714Z
UID:43589-1733668200-1733673600@www.thesangerscene.com
SUMMARY:Sanger Chamber 99th Annual 'Trek to the Tree'
DESCRIPTION:Kings Canyon National Park \nBus Reservations begin on September 1st 2024 \n2:30pm Ceremony after Base of General Grant Tree\n: $150 per person Click on Link to purchase Tickets  https://square.link/u/1GHacKyr
URL:https://www.thesangerscene.com/event/sanger-chamber-99th-annual-trek-to-the-tree/
LOCATION:General Grant Tree in Grants Grove in Kings Canyon National Park
ATTACH;FMTTYPE=image/png:https://www.thesangerscene.com/wp-content/uploads/2024/08/99th-TREK-TO-THE-TREE.png
END:VEVENT
END:VCALENDAR