BEGIN:VCALENDAR
VERSION:2.0
PRODID:-//The Sanger Scene - ECPv6.5.1.6//NONSGML v1.0//EN
CALSCALE:GREGORIAN
METHOD:PUBLISH
X-WR-CALNAME:The Sanger Scene
X-ORIGINAL-URL:https://www.thesangerscene.com
X-WR-CALDESC:Events for The Sanger Scene
REFRESH-INTERVAL;VALUE=DURATION:PT1H
X-Robots-Tag:noindex
X-PUBLISHED-TTL:PT1H
BEGIN:VTIMEZONE
TZID:America/Los_Angeles
BEGIN:DAYLIGHT
TZOFFSETFROM:-0800
TZOFFSETTO:-0700
TZNAME:PDT
DTSTART:20200308T100000
END:DAYLIGHT
BEGIN:STANDARD
TZOFFSETFROM:-0700
TZOFFSETTO:-0800
TZNAME:PST
DTSTART:20201101T090000
END:STANDARD
BEGIN:DAYLIGHT
TZOFFSETFROM:-0800
TZOFFSETTO:-0700
TZNAME:PDT
DTSTART:20210314T100000
END:DAYLIGHT
BEGIN:STANDARD
TZOFFSETFROM:-0700
TZOFFSETTO:-0800
TZNAME:PST
DTSTART:20211107T090000
END:STANDARD
END:VTIMEZONE
BEGIN:VEVENT
DTSTART;TZID=America/Los_Angeles:20210129T160000
DTEND;TZID=America/Los_Angeles:20210129T173000
DTSTAMP:20260425T042752
CREATED:20210115T043050Z
LAST-MODIFIED:20210115T043050Z
UID:22701-1611936000-1611941400@www.thesangerscene.com
SUMMARY:Sanger Woman's Club Yummy Pulled Pork Sandwich\, Pilaf\, Coleslaw and a Cookie Fundraiser
DESCRIPTION:Take Out
URL:https://www.thesangerscene.com/event/sanger-womans-club-yummy-pulled-pork-sandwich-pilaf-coleslaw-and-a-cookie-fundraiser/
LOCATION:Sanger Woman’s Club\, Corner of 7th & P Streets\, Sanger\, 93657
ATTACH;FMTTYPE=image/jpeg:https://www.thesangerscene.com/wp-content/uploads/2021/01/unnamed.jpg
END:VEVENT
BEGIN:VEVENT
DTSTART;TZID=America/Los_Angeles:20210123T100000
DTEND;TZID=America/Los_Angeles:20210123T140000
DTSTAMP:20260425T042752
CREATED:20210115T191617Z
LAST-MODIFIED:20210115T191617Z
UID:22710-1611396000-1611410400@www.thesangerscene.com
SUMMARY:Me-N-Eds Mobile and Sanger Community Blood Drive
DESCRIPTION:
URL:https://www.thesangerscene.com/event/me-n-eds-mobile-and-sanger-community-blood-drive-2/
LOCATION:Grace Community Church\, 1620 Church Ave.\, Sanger\, CA\, 93657\, United States
ATTACH;FMTTYPE=image/jpeg:https://www.thesangerscene.com/wp-content/uploads/2021/01/Me-N-Eds-Sanger-Community_Melanie_Half-Page-Flyer_Email-1-pg-1-copy.jpg
END:VEVENT
BEGIN:VEVENT
DTSTART;TZID=America/Los_Angeles:20210122T180000
DTEND;TZID=America/Los_Angeles:20210122T210000
DTSTAMP:20260425T042752
CREATED:20210115T042206Z
LAST-MODIFIED:20210115T042206Z
UID:22693-1611338400-1611349200@www.thesangerscene.com
SUMMARY:Grace Community Church presents Drive-In Movie Night
DESCRIPTION:Featuring “Karate Kid” \nMeNEds Pizza available for purchase \nFree Popcorn & Snacks \n 
URL:https://www.thesangerscene.com/event/grace-community-church-presents-drive-in-movie-night/
LOCATION:Grace Community Church\, 1620 Church Ave.\, Sanger\, CA\, 93657\, United States
ATTACH;FMTTYPE=image/jpeg:https://www.thesangerscene.com/wp-content/uploads/2021/01/unnamed-1.jpg
END:VEVENT
BEGIN:VEVENT
DTSTART;TZID=America/Los_Angeles:20210122T160000
DTEND;TZID=America/Los_Angeles:20210122T180000
DTSTAMP:20260425T042752
CREATED:20210108T170816Z
LAST-MODIFIED:20210108T170816Z
UID:22665-1611331200-1611338400@www.thesangerscene.com
SUMMARY:Las Cabañas Taqueria and HOPE Sanger Fundraiser
DESCRIPTION:Pre Order by responding by email to hopesanger2017@gmail.com
URL:https://www.thesangerscene.com/event/las-cabanas-taqueria-and-hope-sanger-fundraiser/
LOCATION:Las Cabañas\, 2636 Jensen Ave.\, Sanger\, CA\, 93657\, United States
ATTACH;FMTTYPE=image/jpeg:https://www.thesangerscene.com/wp-content/uploads/2021/01/136172257_3610969835650643_2215673729393676085_o.jpg
END:VEVENT
BEGIN:VEVENT
DTSTART;TZID=America/Los_Angeles:20210122T100000
DTEND;TZID=America/Los_Angeles:20210122T140000
DTSTAMP:20260425T042752
CREATED:20210115T191417Z
LAST-MODIFIED:20210115T191417Z
UID:22704-1611309600-1611324000@www.thesangerscene.com
SUMMARY:Me-N-Eds Mobile and Sanger Community Blood Drive
DESCRIPTION:
URL:https://www.thesangerscene.com/event/me-n-eds-mobile-and-sanger-community-blood-drive/
LOCATION:Grace Community Church\, 1620 Church Ave.\, Sanger\, CA\, 93657\, United States
ATTACH;FMTTYPE=image/jpeg:https://www.thesangerscene.com/wp-content/uploads/2021/01/Me-N-Eds-Sanger-Community_Melanie_Half-Page-Flyer_Email-1-pg-1-copy.jpg
END:VEVENT
BEGIN:VEVENT
DTSTART;TZID=America/Los_Angeles:20210117T083000
DTEND;TZID=America/Los_Angeles:20210117T123000
DTSTAMP:20260425T042752
CREATED:20210115T042724Z
LAST-MODIFIED:20210115T042724Z
UID:22696-1610872200-1610886600@www.thesangerscene.com
SUMMARY:Noemi Hinojosa Birthday Blood Drive
DESCRIPTION:Register at  \nhttps://signup.com/client/invitation2/secure/397007942360296019/false#/invitation
URL:https://www.thesangerscene.com/event/noemi-hinojosa-birthday-blood-drive-3/
LOCATION:12050 E. North Ave.\, Sanger\, CA 93657\, 12050 E. North Ave.\, Sanger\, CA\, 93657\, United States
ATTACH;FMTTYPE=image/jpeg:https://www.thesangerscene.com/wp-content/uploads/2021/01/IMG_6714.jpeg
END:VEVENT
BEGIN:VEVENT
DTSTART;TZID=America/Los_Angeles:20210108T090000
DTEND;TZID=America/Los_Angeles:20210108T130000
DTSTAMP:20260425T042752
CREATED:20210108T080937Z
LAST-MODIFIED:20210108T080937Z
UID:22660-1610096400-1610110800@www.thesangerscene.com
SUMMARY:No Cost COVID-19 Testing at Sanger High School West Campus
DESCRIPTION:
URL:https://www.thesangerscene.com/event/no-cost-covid-19-testing-at-sanger-high-school-west-campus/
LOCATION:Sanger High School West Campus\, 1850 S. Fowler Ave.\, Fresno\, CA\, 93657\, United States
ATTACH;FMTTYPE=image/jpeg:https://www.thesangerscene.com/wp-content/uploads/2021/01/SHS-West-Campus-1_8-English-copy.jpg
END:VEVENT
BEGIN:VEVENT
DTSTART;TZID=America/Los_Angeles:20201216T110000
DTEND;TZID=America/Los_Angeles:20201216T130000
DTSTAMP:20260425T042752
CREATED:20201202T060135Z
LAST-MODIFIED:20201202T060135Z
UID:22579-1608116400-1608123600@www.thesangerscene.com
SUMMARY:Sanger Woman's Club "A Holly Jolly Christmas" Santa's Bake Shop & BBQ Pulled Pork Sandwich Lunch
DESCRIPTION:Place orders by December 11th\, 2020.
URL:https://www.thesangerscene.com/event/sanger-womans-club-a-holly-jolly-christmas-santas-bake-shop-bbq-pulled-pork-sandwich-lunch/
LOCATION:Sanger Woman’s Club\, Corner of 7th & P Streets\, Sanger\, 93657
ATTACH;FMTTYPE=image/jpeg:https://www.thesangerscene.com/wp-content/uploads/2020/12/SWC-Dec-16-Lunch-Fundraiser-.jpg
END:VEVENT
BEGIN:VEVENT
DTSTART;TZID=America/Los_Angeles:20201212T100000
DTEND;TZID=America/Los_Angeles:20201212T140000
DTSTAMP:20260425T042752
CREATED:20201105T021508Z
LAST-MODIFIED:20201105T021508Z
UID:22483-1607767200-1607781600@www.thesangerscene.com
SUMMARY:Grace Community Church Holiday Boutique
DESCRIPTION:
URL:https://www.thesangerscene.com/event/grace-community-church-holiday-boutique/
LOCATION:Grace Community Church\, 1620 Church Ave.\, Sanger\, CA\, 93657\, United States
ATTACH;FMTTYPE=image/jpeg:https://www.thesangerscene.com/wp-content/uploads/2020/11/Holiday-Boutique-2020-copy.jpg
END:VEVENT
BEGIN:VEVENT
DTSTART;TZID=America/Los_Angeles:20201205T170000
DTEND;TZID=America/Los_Angeles:20201205T190000
DTSTAMP:20260425T042752
CREATED:20201105T225550Z
LAST-MODIFIED:20201105T225550Z
UID:22487-1607187600-1607194800@www.thesangerscene.com
SUMMARY:73rd Annual Toyland Parade
DESCRIPTION:Sanger Chamber of Commerce & Sanger Rotary supported by the City of Sanger 
URL:https://www.thesangerscene.com/event/73rd-annual-toyland-parade/
ATTACH;FMTTYPE=image/jpeg:https://www.thesangerscene.com/wp-content/uploads/2020/11/2020-Toyland-Flyer.jpg
END:VEVENT
BEGIN:VEVENT
DTSTART;TZID=America/Los_Angeles:20201204T163000
DTEND;TZID=America/Los_Angeles:20201204T170000
DTSTAMP:20260425T042752
CREATED:20201202T060546Z
LAST-MODIFIED:20201202T060546Z
UID:22582-1607099400-1607101200@www.thesangerscene.com
SUMMARY:Sanger Family Resource Center Workshop- Risks of Abusing Prescription Drugs
DESCRIPTION:Zoom Meeting \nemail Orocha@healthcollaborative.org for Zoom information.
URL:https://www.thesangerscene.com/event/sanger-family-resource-center-workshop-risks-of-abusing-prescription-drugs/
ATTACH;FMTTYPE=image/jpeg:https://www.thesangerscene.com/wp-content/uploads/2020/12/English-Parent-Presentation-Flyer-3.jpg
END:VEVENT
BEGIN:VEVENT
DTSTART;TZID=America/Los_Angeles:20201121T090000
DTEND;TZID=America/Los_Angeles:20201121T120000
DTSTAMP:20260425T042752
CREATED:20201105T020917Z
LAST-MODIFIED:20201105T020917Z
UID:22476-1605949200-1605960000@www.thesangerscene.com
SUMMARY:HOPE Sanger Drive Thru Thanksgiving Blessing
DESCRIPTION:
URL:https://www.thesangerscene.com/event/hope-sanger-drive-thru-thanksgiving-blessing/
LOCATION:HOPE Sanger Center/Motel\, 502 "L" Street\, Sanger\, 93657
ATTACH;FMTTYPE=image/jpeg:https://www.thesangerscene.com/wp-content/uploads/2020/11/HOPESangerThanksgiving.jpg
END:VEVENT
BEGIN:VEVENT
DTSTART;TZID=America/Los_Angeles:20201120T100000
DTEND;TZID=America/Los_Angeles:20201120T160000
DTSTAMP:20260425T042752
CREATED:20201107T205410Z
LAST-MODIFIED:20201107T205410Z
UID:22498-1605866400-1605888000@www.thesangerscene.com
SUMMARY:A Dickens of a Holiday Boutique
DESCRIPTION:
URL:https://www.thesangerscene.com/event/a-dickens-of-a-holiday-boutique/
LOCATION:Hudson Farms Fruit Stand\, 4300 Academy Ave.\, Sanger\, CA\, 93657\, United States
ATTACH;FMTTYPE=image/png:https://www.thesangerscene.com/wp-content/uploads/2020/11/DickensFlyer-for-emails.png
END:VEVENT
BEGIN:VEVENT
DTSTART;TZID=America/Los_Angeles:20201109T170000
DTEND;TZID=America/Los_Angeles:20201109T210000
DTSTAMP:20260425T042752
CREATED:20201105T021217Z
LAST-MODIFIED:20201105T021217Z
UID:22479-1604941200-1604955600@www.thesangerscene.com
SUMMARY:Grace Community Church Pizza Night Fundraiser at MeNEds
DESCRIPTION:
URL:https://www.thesangerscene.com/event/grace-community-church-pizza-night-fundraiser-at-meneds/
LOCATION:Me N Eds\, 2616 Jensen Ave.\, Sanger\, CA\, 93657
ATTACH;FMTTYPE=image/jpeg:https://www.thesangerscene.com/wp-content/uploads/2020/11/Me-n-Eds-Fundraiser-Nov-9-2020-copy.jpg
END:VEVENT
BEGIN:VEVENT
DTSTART;TZID=America/Los_Angeles:20201031T180000
DTEND;TZID=America/Los_Angeles:20201031T203000
DTSTAMP:20260425T042752
CREATED:20201014T000058Z
LAST-MODIFIED:20201014T000058Z
UID:22413-1604167200-1604176200@www.thesangerscene.com
SUMMARY:Sanger Chamber w/City of Sanger present Drive-Thru Halloween in Downtown Sanger
DESCRIPTION:
URL:https://www.thesangerscene.com/event/sanger-chamber-w-city-of-sanger-present-drive-thru-halloween-in-downtown-sanger/
LOCATION:Downtown Sanger\, 7th & N St.\, Sanger\, CA\, 93657\, United States
ATTACH;FMTTYPE=image/png:https://www.thesangerscene.com/wp-content/uploads/2020/10/1.png
ORGANIZER;CN="Sanger District Chamber of Commerce":MAILTO:sangerchamber@gmail.com
END:VEVENT
BEGIN:VEVENT
DTSTART;TZID=America/Los_Angeles:20201024T090000
DTEND;TZID=America/Los_Angeles:20201024T120000
DTSTAMP:20260425T042752
CREATED:20201021T231346Z
LAST-MODIFIED:20201021T231346Z
UID:22437-1603530000-1603540800@www.thesangerscene.com
SUMMARY:HOPE Sanger Tamale Fundraiser
DESCRIPTION:$18 per dozen cooked or uncooked \nCall (559) 875-7677 or (559)824-4280
URL:https://www.thesangerscene.com/event/hope-sanger-tamale-fundraiser/
LOCATION:HOPE Sanger Center/Motel\, 502 "L" Street\, Sanger\, 93657
ATTACH;FMTTYPE=image/jpeg:https://www.thesangerscene.com/wp-content/uploads/2020/10/Tamale-FR2020.jpg
END:VEVENT
BEGIN:VEVENT
DTSTART;TZID=America/Los_Angeles:20201024T080000
DTEND;TZID=America/Los_Angeles:20201024T150000
DTSTAMP:20260425T042752
CREATED:20201008T013209Z
LAST-MODIFIED:20201008T013209Z
UID:22405-1603526400-1603551600@www.thesangerscene.com
SUMMARY:City of Sanger Community Clean-Up Event
DESCRIPTION:Sponsored by Mid Valley Disposal & the City of Sanger
URL:https://www.thesangerscene.com/event/city-of-sanger-community-clean-up-event-2/
LOCATION:Sanger City Yard\, 333 North Ave.\, Sanger\, CA\, 93657\, United States
ATTACH;FMTTYPE=image/jpeg:https://www.thesangerscene.com/wp-content/uploads/2020/10/City-Clean-Up-.jpg
ORGANIZER;CN="City of Sanger":MAILTO:ctamez@ci.sanger.ca.us
END:VEVENT
BEGIN:VEVENT
DTSTART;TZID=America/Los_Angeles:20201023T170000
DTEND;TZID=America/Los_Angeles:20201023T200000
DTSTAMP:20260425T042752
CREATED:20201003T233304Z
LAST-MODIFIED:20201003T233304Z
UID:22377-1603472400-1603483200@www.thesangerscene.com
SUMMARY:Sanger Eagles Hall #1147 Lasagna Dinner Take Out Only
DESCRIPTION:Lasagna Dinner $10 Donation Take Out Only  \nPick Up Front Door Only 
URL:https://www.thesangerscene.com/event/sanger-eagles-hall-1147-lasagna-dinner-take-out-only/
LOCATION:Sanger Eagles Hall\, 225 J. St.\, Sanger\, CA\, 93657\, United States
ATTACH;FMTTYPE=image/png:https://www.thesangerscene.com/wp-content/uploads/2020/10/Teal-and-Yellow-National-Lasagna-Day-Greeting-Instagram-Post1.png
END:VEVENT
BEGIN:VEVENT
DTSTART;TZID=America/Los_Angeles:20201017T150000
DTEND;TZID=America/Los_Angeles:20201017T170000
DTSTAMP:20260425T042752
CREATED:20201008T005237Z
LAST-MODIFIED:20201008T005237Z
UID:22398-1602946800-1602954000@www.thesangerscene.com
SUMMARY:Sponsor a First Responder Bear BBQ Fundraiser
DESCRIPTION:BBQ $15  \nStraight donation $20 
URL:https://www.thesangerscene.com/event/sponsor-a-first-responder-bear-bbq-fundraiser/
LOCATION:Hysell Chiropractic & Acupuncture\, 2216 Jensen Ave.\, Sanger\, CA\, 93657\, United States
ATTACH;FMTTYPE=image/jpeg:https://www.thesangerscene.com/wp-content/uploads/2020/10/FirstResponderBearFundraiserCrop.jpg
END:VEVENT
BEGIN:VEVENT
DTSTART;TZID=America/Los_Angeles:20201013T150000
DTEND;TZID=America/Los_Angeles:20201013T180000
DTSTAMP:20260425T042752
CREATED:20201011T192216Z
LAST-MODIFIED:20201011T192216Z
UID:22409-1602601200-1602612000@www.thesangerscene.com
SUMMARY:Free Flu Vaccination Clinic
DESCRIPTION:
URL:https://www.thesangerscene.com/event/free-flu-vaccination-clinic/
LOCATION:Sanger Community Center\, 1234 
ATTACH;FMTTYPE=image/jpeg:https://www.thesangerscene.com/wp-content/uploads/2020/10/121298760_3630735206945365_5046830917729481639_o.jpg
END:VEVENT
BEGIN:VEVENT
DTSTART;TZID=America/Los_Angeles:20201006T103000
DTEND;TZID=America/Los_Angeles:20201006T120000
DTSTAMP:20260425T042752
CREATED:20200928T013246Z
LAST-MODIFIED:20200928T013246Z
UID:22367-1601980200-1601985600@www.thesangerscene.com
SUMMARY:Sanger Woman's Club General Meeting at Simonian Farms
DESCRIPTION:
URL:https://www.thesangerscene.com/event/sanger-womans-club-general-meeting-at-simonian-farms/
LOCATION:Simonian Farms\, 2629 S. Clovis Ave.\, Fresno\, CA\, 93725\, United States
ATTACH;FMTTYPE=image/jpeg:https://www.thesangerscene.com/wp-content/uploads/2020/09/IMG-0451.jpg
ORGANIZER;CN="Sanger Woman's Club":MAILTO:hudsonfarms@aol.com
END:VEVENT
BEGIN:VEVENT
DTSTART;TZID=America/Los_Angeles:20201005T180000
DTEND;TZID=America/Los_Angeles:20201005T210000
DTSTAMP:20260425T042752
CREATED:20201003T235354Z
LAST-MODIFIED:20201003T235354Z
UID:22380-1601920800-1601931600@www.thesangerscene.com
SUMMARY:Sanger Candidate Forum sponsored by Dolores Huerta Foundation
DESCRIPTION:ZOOM Candidates Forum \nRegister via EventBrite
URL:https://www.thesangerscene.com/event/sanger-candidate-forum-sponsored-by-dolores-huerta-foundation/
LOCATION:Dolores Huerta Foundation Hall\, 1446 7th Street\, Sanger\, CA\, 93657\, United States
ATTACH;FMTTYPE=image/jpeg:https://www.thesangerscene.com/wp-content/uploads/2020/10/120365864_667164837568951_2876837329480904286_n.jpg
END:VEVENT
BEGIN:VEVENT
DTSTART;TZID=America/Los_Angeles:20201003T090000
DTEND;TZID=America/Los_Angeles:20201003T130000
DTSTAMP:20260425T042752
CREATED:20200928T235257Z
LAST-MODIFIED:20200928T235257Z
UID:22372-1601715600-1601730000@www.thesangerscene.com
SUMMARY:Renaud Chiropractic Blood Drive
DESCRIPTION:
URL:https://www.thesangerscene.com/event/renaud-chiropractic-blood-drive-3/
LOCATION:Renaud Chiropractic Clinic\, 2637 Jensen Ave.\, Suite C\, Sanger\, CA\, 93657\, United States
ATTACH;FMTTYPE=image/jpeg:https://www.thesangerscene.com/wp-content/uploads/2020/09/Photo-Sep-24-1-15-40-AM.jpg
END:VEVENT
BEGIN:VEVENT
DTSTART;TZID=America/Los_Angeles:20200918T170000
DTEND;TZID=America/Los_Angeles:20200918T200000
DTSTAMP:20260425T042752
CREATED:20200915T195751Z
LAST-MODIFIED:20200915T195751Z
UID:22352-1600448400-1600459200@www.thesangerscene.com
SUMMARY:Sanger High School Marching Band & Color Guard Fundraiser
DESCRIPTION:
URL:https://www.thesangerscene.com/event/sanger-high-school-marching-band-color-guard-fundraiser/
LOCATION:Delena Residence\, 528 Tait Ave.\, Sanger\, CA\, 93657\, United States
ATTACH;FMTTYPE=image/jpeg:https://www.thesangerscene.com/wp-content/uploads/2020/09/IMG_2479.jpg
END:VEVENT
BEGIN:VEVENT
DTSTART;TZID=America/Los_Angeles:20200910T150000
DTEND;TZID=America/Los_Angeles:20200910T160000
DTSTAMP:20260425T042752
CREATED:20200831T181214Z
LAST-MODIFIED:20200831T181214Z
UID:22307-1599750000-1599753600@www.thesangerscene.com
SUMMARY:Free Virtual Health Education Classes- Viviendo con Diabetes Sesión 3 (Spanish)
DESCRIPTION:
URL:https://www.thesangerscene.com/event/free-virtual-health-education-classes-viviendo-con-diabetes-sesion-3-spanish/
ATTACH;FMTTYPE=image/jpeg:https://www.thesangerscene.com/wp-content/uploads/2020/08/SEP-class-calendar-pg1-copy.jpg
ORGANIZER;CN="Anthem Blue Cross":MAILTO:healthed_ca_medicaid@anthem.com
END:VEVENT
BEGIN:VEVENT
DTSTART;TZID=America/Los_Angeles:20200909T150000
DTEND;TZID=America/Los_Angeles:20200909T160000
DTSTAMP:20260425T042752
CREATED:20200831T180435Z
LAST-MODIFIED:20200831T180435Z
UID:22303-1599663600-1599667200@www.thesangerscene.com
SUMMARY:Free Virtual Health Education Classes- Living with Diabetes (English) Session 3
DESCRIPTION:
URL:https://www.thesangerscene.com/event/free-virtual-health-education-classes-living-with-diabetes-english-session-3/
ATTACH;FMTTYPE=image/jpeg:https://www.thesangerscene.com/wp-content/uploads/2020/08/SEP-class-calendar-pg1-copy.jpg
ORGANIZER;CN="Anthem Blue Cross":MAILTO:healthed_ca_medicaid@anthem.com
END:VEVENT
BEGIN:VEVENT
DTSTART;TZID=America/Los_Angeles:20200903T150000
DTEND;TZID=America/Los_Angeles:20200903T160000
DTSTAMP:20260425T042752
CREATED:20200831T180746Z
LAST-MODIFIED:20200831T180746Z
UID:22305-1599145200-1599148800@www.thesangerscene.com
SUMMARY:Free Virtual Health Education Classes- Viviendo con Diabetes (Spanish) Sesión 2
DESCRIPTION:
URL:https://www.thesangerscene.com/event/free-virtual-health-education-classes-viviendo-con-diabetes-spanish-sesion-2/
ATTACH;FMTTYPE=image/jpeg:https://www.thesangerscene.com/wp-content/uploads/2020/08/SEP-class-calendar-pg1-copy.jpg
ORGANIZER;CN="Anthem Blue Cross":MAILTO:healthed_ca_medicaid@anthem.com
END:VEVENT
BEGIN:VEVENT
DTSTART;TZID=America/Los_Angeles:20200902T150000
DTEND;TZID=America/Los_Angeles:20200902T160000
DTSTAMP:20260425T042752
CREATED:20200831T180134Z
LAST-MODIFIED:20200831T180134Z
UID:22299-1599058800-1599062400@www.thesangerscene.com
SUMMARY:Free Virtual Health Education Classes-Living with Diabetes (English) Session 2
DESCRIPTION:
URL:https://www.thesangerscene.com/event/free-virtual-health-education-classes-living-with-diabetes-english-session-2/
ATTACH;FMTTYPE=image/jpeg:https://www.thesangerscene.com/wp-content/uploads/2020/08/SEP-class-calendar-pg1-copy.jpg
ORGANIZER;CN="Anthem Blue Cross":MAILTO:healthed_ca_medicaid@anthem.com
END:VEVENT
BEGIN:VEVENT
DTSTART;TZID=America/Los_Angeles:20200815T080000
DTEND;TZID=America/Los_Angeles:20200815T170000
DTSTAMP:20260425T042752
CREATED:20200807T220152Z
LAST-MODIFIED:20200807T220152Z
UID:22215-1597478400-1597510800@www.thesangerscene.com
SUMMARY:Blossom Trail Players presents Alice In Wonderland\, A Virtual Show
DESCRIPTION:www.blossomtrailplayers.com
URL:https://www.thesangerscene.com/event/blossom-trail-players-presents-alice-in-wonderland-a-virtual-show/
LOCATION:Blossom Trail Players
ATTACH;FMTTYPE=image/jpeg:https://www.thesangerscene.com/wp-content/uploads/2020/08/Alice-In-Wonderland-Poster-Version-6-copy.jpg
END:VEVENT
BEGIN:VEVENT
DTSTART;TZID=America/Los_Angeles:20200807T180000
DTEND;TZID=America/Los_Angeles:20200807T200000
DTSTAMP:20260425T042752
CREATED:20200807T155454Z
LAST-MODIFIED:20200807T155454Z
UID:22212-1596823200-1596830400@www.thesangerscene.com
SUMMARY:Dolores Huerta Foundation 'Caravan for the Census 2020'
DESCRIPTION:
URL:https://www.thesangerscene.com/event/dolores-huerta-foundation-caravan-for-the-census-2020/
LOCATION:Dolores Huerta Foundation Hall\, 1446 7th Street\, Sanger\, CA\, 93657\, United States
ATTACH;FMTTYPE=image/jpeg:https://www.thesangerscene.com/wp-content/uploads/2020/08/8-7-20-Sanger-Census-Caravan-2-pg1-copy.jpg
END:VEVENT
END:VCALENDAR