BEGIN:VCALENDAR
VERSION:2.0
PRODID:-//The Sanger Scene - ECPv6.5.1.6//NONSGML v1.0//EN
CALSCALE:GREGORIAN
METHOD:PUBLISH
X-WR-CALNAME:The Sanger Scene
X-ORIGINAL-URL:https://www.thesangerscene.com
X-WR-CALDESC:Events for The Sanger Scene
REFRESH-INTERVAL;VALUE=DURATION:PT1H
X-Robots-Tag:noindex
X-PUBLISHED-TTL:PT1H
BEGIN:VTIMEZONE
TZID:America/Los_Angeles
BEGIN:DAYLIGHT
TZOFFSETFROM:-0800
TZOFFSETTO:-0700
TZNAME:PDT
DTSTART:20190310T100000
END:DAYLIGHT
BEGIN:STANDARD
TZOFFSETFROM:-0700
TZOFFSETTO:-0800
TZNAME:PST
DTSTART:20191103T090000
END:STANDARD
END:VTIMEZONE
BEGIN:VEVENT
DTSTART;TZID=America/Los_Angeles:20191207T173000
DTEND;TZID=America/Los_Angeles:20191207T220000
DTSTAMP:20260425T190859
CREATED:20191115T012644Z
LAST-MODIFIED:20191115T012644Z
UID:21057-1575739800-1575756000@www.thesangerscene.com
SUMMARY:A Dickens of a Christmas
DESCRIPTION:
URL:https://www.thesangerscene.com/event/a-dickens-of-a-christmas/
LOCATION:Central Avenue Dry Yard\, 8610 E. Central Ave.\, Fresno\, CA\, United States
ATTACH;FMTTYPE=image/jpeg:https://www.thesangerscene.com/wp-content/uploads/2019/11/Photo-Nov-14-4-38-18-PM.jpg
END:VEVENT
BEGIN:VEVENT
DTSTART;TZID=America/Los_Angeles:20191207T120000
DTEND;TZID=America/Los_Angeles:20191207T150000
DTSTAMP:20260425T190859
CREATED:20191125T060718Z
LAST-MODIFIED:20191125T060718Z
UID:21118-1575720000-1575730800@www.thesangerscene.com
SUMMARY:Sanger Bible Church Open House
DESCRIPTION:
URL:https://www.thesangerscene.com/event/sanger-bible-church-open-house/
LOCATION:Sanger Bible Church\, 730 "O" Street\, Sanger\, CA\, 93657\, United States
ATTACH;FMTTYPE=image/jpeg:https://www.thesangerscene.com/wp-content/uploads/2019/11/Sanger-Bible-Church-Open-House.jpeg
END:VEVENT
BEGIN:VEVENT
DTSTART;TZID=America/Los_Angeles:20191207T110000
DTEND;TZID=America/Los_Angeles:20191207T130000
DTSTAMP:20260425T190859
CREATED:20191016T230649Z
LAST-MODIFIED:20191016T230649Z
UID:20777-1575716400-1575723600@www.thesangerscene.com
SUMMARY:The 72nd Annual Nation's Christmas Tree City Toyland Parade
DESCRIPTION:
URL:https://www.thesangerscene.com/event/the-72nd-annual-nations-christmas-tree-city-toyland-parade/
LOCATION:Downtown 7th Street\, Sanger\, 93657
ATTACH;FMTTYPE=image/jpeg:https://www.thesangerscene.com/wp-content/uploads/2019/10/Photo-Oct-16-3-45-31-PM.jpg
END:VEVENT
BEGIN:VEVENT
DTSTART;TZID=America/Los_Angeles:20191207T080000
DTEND;TZID=America/Los_Angeles:20191207T140000
DTSTAMP:20260425T190859
CREATED:20191029T222033Z
LAST-MODIFIED:20191029T222033Z
UID:20853-1575705600-1575727200@www.thesangerscene.com
SUMMARY:Sanger Woman's Club Christmas Boutique 2019
DESCRIPTION:Christmas Crafts & Treasures\, Jewelry\, Raffle\, Baked Goods\, Breakfast Burritos \n  \nLunch is 11:30am to 1:30pm \nPulled Pork Sandwich with coleslaw\, chips & a cookie \nTickets $10 pre-sale\, $12 at the door \nNeed tickets call Sky 349-5858
URL:https://www.thesangerscene.com/event/sanger-womans-club-christmas-boutique-2019/
LOCATION:Sanger Woman’s Club Clubhouse\, 1602 7th Street\, Sanger\, CA\, 93657\, United States
ATTACH;FMTTYPE=image/jpeg:https://www.thesangerscene.com/wp-content/uploads/2019/10/SWC-Christmas-Boutique.jpg
END:VEVENT
BEGIN:VEVENT
DTSTART;TZID=America/Los_Angeles:20191205T180000
DTEND;TZID=America/Los_Angeles:20191205T200000
DTSTAMP:20260425T190859
CREATED:20191114T230659Z
LAST-MODIFIED:20191114T230659Z
UID:21008-1575568800-1575576000@www.thesangerscene.com
SUMMARY:Reagan Elementary (2nd-6th) Winter Program
DESCRIPTION:
URL:https://www.thesangerscene.com/event/reagan-elementary-2nd-6th-winter-program/
LOCATION:Sanger High School MPR\, 1045 Bethel Ave.\, Sanger \, 93657
ATTACH;FMTTYPE=image/jpeg:https://www.thesangerscene.com/wp-content/uploads/2019/11/snow.PNG.jpeg
END:VEVENT
BEGIN:VEVENT
DTSTART;TZID=America/Los_Angeles:20191205T180000
DTEND;TZID=America/Los_Angeles:20191205T200000
DTSTAMP:20260425T190859
CREATED:20191114T230527Z
LAST-MODIFIED:20191114T230527Z
UID:21006-1575568800-1575576000@www.thesangerscene.com
SUMMARY:Jefferson Elementary (1st-3rd) Winter Program
DESCRIPTION:
URL:https://www.thesangerscene.com/event/jefferson-elementary-1st-3rd-winter-program/
LOCATION:Jefferson Elementary MPR\, 1110 Tucker Ave.\, Sanger\, CA\, 93657\, United States
END:VEVENT
BEGIN:VEVENT
DTSTART;TZID=America/Los_Angeles:20191205T180000
DTEND;TZID=America/Los_Angeles:20191205T200000
DTSTAMP:20260425T190859
CREATED:20191114T230212Z
LAST-MODIFIED:20191114T230212Z
UID:21002-1575568800-1575576000@www.thesangerscene.com
SUMMARY:Centerville Elementary Winter Program
DESCRIPTION:
URL:https://www.thesangerscene.com/event/centerville-elementary-winter-program/
LOCATION:Washington Academic Middle School Theater\, 1705 10th St.\, Sanger
ATTACH;FMTTYPE=image/jpeg:https://www.thesangerscene.com/wp-content/uploads/2019/11/snow.PNG.jpeg
END:VEVENT
BEGIN:VEVENT
DTSTART;TZID=America/Los_Angeles:20191205T173000
DTEND;TZID=America/Los_Angeles:20191205T193000
DTSTAMP:20260425T190859
CREATED:20191114T231411Z
LAST-MODIFIED:20191114T231411Z
UID:21010-1575567000-1575574200@www.thesangerscene.com
SUMMARY:Sanger Academy Charter School (K\, 2nd) Winter Program
DESCRIPTION:
URL:https://www.thesangerscene.com/event/sanger-academy-charter-school-k-2nd-winter-program/
LOCATION:Sanger Academy Charter School MPR\, 2207 Ninth Street\, Sanger\, 93657
ATTACH;FMTTYPE=image/jpeg:https://www.thesangerscene.com/wp-content/uploads/2019/11/snow.PNG.jpeg
END:VEVENT
BEGIN:VEVENT
DTSTART;TZID=America/Los_Angeles:20191205T080000
DTEND;TZID=America/Los_Angeles:20191205T100000
DTSTAMP:20260425T190859
CREATED:20191114T230337Z
LAST-MODIFIED:20191114T230337Z
UID:21004-1575532800-1575540000@www.thesangerscene.com
SUMMARY:Jefferson Elementary (TK-K) Winter Program
DESCRIPTION:
URL:https://www.thesangerscene.com/event/jefferson-elementary-tk-k-winter-program/
LOCATION:Jefferson Elementary MPR\, 1110 Tucker Ave.\, Sanger\, CA\, 93657\, United States
ATTACH;FMTTYPE=image/jpeg:https://www.thesangerscene.com/wp-content/uploads/2019/11/snow.PNG.jpeg
END:VEVENT
BEGIN:VEVENT
DTSTART;TZID=America/Los_Angeles:20191204T183000
DTEND;TZID=America/Los_Angeles:20191204T200000
DTSTAMP:20260425T190859
CREATED:20191030T211940Z
LAST-MODIFIED:20191030T211940Z
UID:20873-1575484200-1575489600@www.thesangerscene.com
SUMMARY:Sanger Chamber Tree Lighting and Visit With Santa
DESCRIPTION:Special performance by : \nJubilation Singers and the Sanger High School Choir
URL:https://www.thesangerscene.com/event/sanger-chamber-tree-lighting-and-visit-with-santa/
LOCATION:Brehler Square\, 7th & N St.\, Sanger \, CA\, United States
ATTACH;FMTTYPE=image/jpeg:https://www.thesangerscene.com/wp-content/uploads/2019/10/Copy-of-Secret-Santa-Poster-Made-with-PosterMyWall-1.jpg
END:VEVENT
BEGIN:VEVENT
DTSTART;TZID=America/Los_Angeles:20191204T180000
DTEND;TZID=America/Los_Angeles:20191204T200000
DTSTAMP:20260425T190859
CREATED:20191114T225514Z
LAST-MODIFIED:20191114T225514Z
UID:21000-1575482400-1575489600@www.thesangerscene.com
SUMMARY:Sequoia Elementary Winter Program
DESCRIPTION:
URL:https://www.thesangerscene.com/event/sequoia-elementary-winter-program/
LOCATION:Sanger High School MPR\, 1045 Bethel Ave.\, Sanger \, 93657
ATTACH;FMTTYPE=image/jpeg:https://www.thesangerscene.com/wp-content/uploads/2019/11/snow.PNG.jpeg
END:VEVENT
BEGIN:VEVENT
DTSTART;TZID=America/Los_Angeles:20191204T180000
DTEND;TZID=America/Los_Angeles:20191204T200000
DTSTAMP:20260425T190859
CREATED:20191114T224822Z
LAST-MODIFIED:20191114T224822Z
UID:20998-1575482400-1575489600@www.thesangerscene.com
SUMMARY:Reagan Elementary (TK-K\, 1st) Winter Program
DESCRIPTION:
URL:https://www.thesangerscene.com/event/reagan-elementary-tk-k-1st-winter-program/
LOCATION:Washington Academic Middle School Theater\, 1705 10th St.\, Sanger
ATTACH;FMTTYPE=image/jpeg:https://www.thesangerscene.com/wp-content/uploads/2019/11/snow.PNG.jpeg
END:VEVENT
BEGIN:VEVENT
DTSTART;TZID=America/Los_Angeles:20191204T160000
DTEND;TZID=America/Los_Angeles:20191204T200000
DTSTAMP:20260425T190859
CREATED:20191029T214354Z
LAST-MODIFIED:20191029T214354Z
UID:20850-1575475200-1575489600@www.thesangerscene.com
SUMMARY:Let's Light Up the Night for Christmas
DESCRIPTION:All Businesses: You are invited to participate in the Sanger District Chamber of Commerce’s Display Contest.  \nPut Christmas Lights outside your building too.  \nWednesday 12/4/19 People’s Choice- Judging 4pm to 7pm.  \nGrand Prize $300 \n7:30ish “Here Come’s Santa Claus in Brehler Square” \n 
URL:https://www.thesangerscene.com/event/lets-light-up-the-night-for-christmas/
LOCATION:Downtown Sanger\, 7th & N St.\, Sanger\, CA\, 93657\, United States
ATTACH;FMTTYPE=image/jpeg:https://www.thesangerscene.com/wp-content/uploads/2019/10/Copy-of-Christmas-Party-Flyer-Template-Made-with-PosterMyWall-1.jpg
ORGANIZER;CN="Sanger Distrcit Chamber of Commerce":MAILTO:sangerchamber@gmail.com
END:VEVENT
BEGIN:VEVENT
DTSTART;TZID=America/Los_Angeles:20191203T180000
DTEND;TZID=America/Los_Angeles:20191203T200000
DTSTAMP:20260425T190859
CREATED:20191114T223054Z
LAST-MODIFIED:20191114T223054Z
UID:20996-1575396000-1575403200@www.thesangerscene.com
SUMMARY:Jackson Elementary (TK\, 1st\, 5th and 6th) Winter Program
DESCRIPTION:
URL:https://www.thesangerscene.com/event/jackson-elementary-tk-1st-5th-and-6th-winter-program/
LOCATION:Jackson Elementary\, 1810 Third Street\, Sanger\, 93657
ATTACH;FMTTYPE=image/jpeg:https://www.thesangerscene.com/wp-content/uploads/2019/11/snow.PNG.jpeg
END:VEVENT
BEGIN:VEVENT
DTSTART;TZID=America/Los_Angeles:20191202T180000
DTEND;TZID=America/Los_Angeles:20191202T200000
DTSTAMP:20260425T190859
CREATED:20191114T222323Z
LAST-MODIFIED:20191114T222323Z
UID:20994-1575309600-1575316800@www.thesangerscene.com
SUMMARY:Jackson Elementary (K\, 2nd\, 3rd\, 4th) Winter Program
DESCRIPTION:
URL:https://www.thesangerscene.com/event/jackson-elementary-k-2nd-3rd-4th-winter-program/
LOCATION:Jackson Elementary\, 1810 Third Street\, Sanger\, 93657
ATTACH;FMTTYPE=image/jpeg:https://www.thesangerscene.com/wp-content/uploads/2019/11/snow.PNG.jpeg
END:VEVENT
BEGIN:VEVENT
DTSTART;VALUE=DATE:20191128
DTEND;VALUE=DATE:20191129
DTSTAMP:20260425T190859
CREATED:20191112T164916Z
LAST-MODIFIED:20191112T164916Z
UID:20972-1574899200-1574985599@www.thesangerscene.com
SUMMARY:Happy Thanksgiving
DESCRIPTION:The Sanger Scene wishes everyone a Happy Thanksgiving. Thank you for your continued support. 
URL:https://www.thesangerscene.com/event/happy-thanksgiving/
ATTACH;FMTTYPE=image/jpeg:https://www.thesangerscene.com/wp-content/uploads/2019/11/Happy-Thanks-Giving.jpg
END:VEVENT
BEGIN:VEVENT
DTSTART;TZID=America/Los_Angeles:20191126T090000
DTEND;TZID=America/Los_Angeles:20191126T170000
DTSTAMP:20260425T190859
CREATED:20191115T011548Z
LAST-MODIFIED:20191115T011548Z
UID:21055-1574758800-1574787600@www.thesangerscene.com
SUMMARY:Census Job Fair at Proteus Inc
DESCRIPTION:
URL:https://www.thesangerscene.com/event/census-job-fair-at-proteus-inc-2/
LOCATION:Proteus Inc.\, 2570 Jensen Ave.\, Suite #108\, Sanger\, CA\, 93657\, United States
ATTACH;FMTTYPE=image/jpeg:https://www.thesangerscene.com/wp-content/uploads/2019/11/THEMIS_3420-SangerSvcCtr_CLR_3269_001.jpg
END:VEVENT
BEGIN:VEVENT
DTSTART;TZID=America/Los_Angeles:20191123T193000
DTEND;TZID=America/Los_Angeles:20191123T213000
DTSTAMP:20260425T190859
CREATED:20191112T163955Z
LAST-MODIFIED:20191112T163955Z
UID:20970-1574537400-1574544600@www.thesangerscene.com
SUMMARY:SHS Apache Theatre presents "It's A Wonderful Life"
DESCRIPTION:
URL:https://www.thesangerscene.com/event/shs-apache-theatre-presents-its-a-wonderful-life-4/
LOCATION:Sanger High MPR\, 1045 Bethel Ave.\, Sanger\, CA\, 93657\, United States
ATTACH;FMTTYPE=image/jpeg:https://www.thesangerscene.com/wp-content/uploads/2019/11/Apache-Theatre-Its-A-Wondrful-Life.jpg
END:VEVENT
BEGIN:VEVENT
DTSTART;TZID=America/Los_Angeles:20191121T193000
DTEND;TZID=America/Los_Angeles:20191121T213000
DTSTAMP:20260425T190859
CREATED:20191112T163813Z
LAST-MODIFIED:20191112T163813Z
UID:20968-1574364600-1574371800@www.thesangerscene.com
SUMMARY:SHS Apache Theatre presents "It's A Wonderful Life"
DESCRIPTION:Curtain at 7:30pm  \nStudents $5 \nAdults $7
URL:https://www.thesangerscene.com/event/shs-apache-theatre-presents-its-a-wonderful-life-3/
LOCATION:Sanger High MPR\, 1045 Bethel Ave.\, Sanger\, CA\, 93657\, United States
ATTACH;FMTTYPE=image/jpeg:https://www.thesangerscene.com/wp-content/uploads/2019/11/Apache-Theatre-Its-A-Wondrful-Life.jpg
END:VEVENT
BEGIN:VEVENT
DTSTART;TZID=America/Los_Angeles:20191119T180000
DTEND;TZID=America/Los_Angeles:20191119T190000
DTSTAMP:20260425T190859
CREATED:20191116T055511Z
LAST-MODIFIED:20191116T055511Z
UID:21064-1574186400-1574190000@www.thesangerscene.com
SUMMARY:Community Town Hall Meeting with Sanger Fire Dept & Fitch & Assoc\, Consultants
DESCRIPTION:
URL:https://www.thesangerscene.com/event/community-town-hall-meeting-with-sanger-fire-dept-fitch-assoc-consultants/
LOCATION:Sanger Fire Department\, 601 West Ave.\, Sanger\, CA\, 93657\, United States
ATTACH;FMTTYPE=image/jpeg:https://www.thesangerscene.com/wp-content/uploads/2019/11/Town-Hall-Meeting-Fitch-and-Assoc-Nov-19-2019.jpg
ORGANIZER;CN="Sanger Fire Department":MAILTO:sangerfire@sanger.ca.us
END:VEVENT
BEGIN:VEVENT
DTSTART;TZID=America/Los_Angeles:20191119T173000
DTEND;TZID=America/Los_Angeles:20191119T190000
DTSTAMP:20260425T190859
CREATED:20191105T011835Z
LAST-MODIFIED:20191105T011835Z
UID:20896-1574184600-1574190000@www.thesangerscene.com
SUMMARY:Sanger Chamber Mixer Crowning 2019 Mr. & Miss. Sanger
DESCRIPTION:
URL:https://www.thesangerscene.com/event/sanger-chamber-mixer-crowning-2019-mr-mrs-sanger/
LOCATION:Uncle George’s Kebab\, 628 "O" Street\, Sanger\, CA\, 93657\, United States
ATTACH;FMTTYPE=image/jpeg:https://www.thesangerscene.com/wp-content/uploads/2019/11/Photo-Nov-11-3-41-07-PM.jpg
ORGANIZER;CN="Sanger District Chamber of Commerce":MAILTO:sangerchamber@gmail.com
END:VEVENT
BEGIN:VEVENT
DTSTART;TZID=America/Los_Angeles:20191119T090000
DTEND;TZID=America/Los_Angeles:20191119T170000
DTSTAMP:20260425T190859
CREATED:20191115T011438Z
LAST-MODIFIED:20191115T011438Z
UID:21052-1574154000-1574182800@www.thesangerscene.com
SUMMARY:Census Job Fair at Proteus Inc
DESCRIPTION:The Proteus Sanger Service Center will be hosting a Census Job Fair on both November 19th and 26th.  The Census Bureau is recruiting for the following positions: \n\nCensus Field Supervisors – $18.00/hr\nEnumerators (Census Takers) – $16.50/hr\nRecruiting Assistants – $18.00/hr\nOffice Operations Supervisors – $17.00/hr\nClerks – $15.00/hr\n\nIf you know of anyone that would be interested\, please have them stop by our office on either the 19th or 26th. \nThank you in advance for your efforts in helping us spread the word.  Have a wonderful week! \nRegards\, \nLorena R. Cuevas \nProgram Support Specialist | Proteus\, Inc. \n2570 Jensen Ave.\, Suite 108 | Sanger\, CA 93657 \nP: (559) 875-7146 | F: (559) 875-1322
URL:https://www.thesangerscene.com/event/census-job-fair-at-proteus-inc/
LOCATION:Proteus Inc.\, 2570 Jensen Ave.\, Suite #108\, Sanger\, CA\, 93657\, United States
ATTACH;FMTTYPE=image/jpeg:https://www.thesangerscene.com/wp-content/uploads/2019/11/THEMIS_3420-SangerSvcCtr_CLR_3269_001.jpg
END:VEVENT
BEGIN:VEVENT
DTSTART;TZID=America/Los_Angeles:20191116T193000
DTEND;TZID=America/Los_Angeles:20191116T213000
DTSTAMP:20260425T190859
CREATED:20191112T163547Z
LAST-MODIFIED:20191112T163547Z
UID:20966-1573932600-1573939800@www.thesangerscene.com
SUMMARY:SHS Apache Theatre presents "It's A Wonderful Life"
DESCRIPTION:Curtain at 7:30pm  \nStudents $5 \nAdults $7
URL:https://www.thesangerscene.com/event/shs-apache-theatre-presents-its-a-wonderful-life-2/
LOCATION:Sanger High MPR\, 1045 Bethel Ave.\, Sanger\, CA\, 93657\, United States
ATTACH;FMTTYPE=image/jpeg:https://www.thesangerscene.com/wp-content/uploads/2019/11/Apache-Theatre-Its-A-Wondrful-Life.jpg
END:VEVENT
BEGIN:VEVENT
DTSTART;TZID=America/Los_Angeles:20191116T180000
DTEND;TZID=America/Los_Angeles:20191116T220000
DTSTAMP:20260425T190859
CREATED:20191010T162959Z
LAST-MODIFIED:20191010T162959Z
UID:20726-1573927200-1573941600@www.thesangerscene.com
SUMMARY:Sanger High Dugout Boosters 4th Annual Wine Tasting Fundraiser
DESCRIPTION:
URL:https://www.thesangerscene.com/event/sanger-high-dugout-boosters-4th-annual-wine-tasting-fundraiser/
LOCATION:Kings River Winery\, 4276 S. Greenwood\, Sanger\, CA\, 93657
ATTACH;FMTTYPE=image/jpeg:https://www.thesangerscene.com/wp-content/uploads/2019/10/DugoutBooster-Dinner.jpg
ORGANIZER;CN="Sanger High Dugout Boosters":MAILTO:david_cuellar@sangerusd.net
END:VEVENT
BEGIN:VEVENT
DTSTART;TZID=America/Los_Angeles:20191116T113000
DTEND;TZID=America/Los_Angeles:20191116T133000
DTSTAMP:20260425T190859
CREATED:20191029T202734Z
LAST-MODIFIED:20191029T202734Z
UID:20847-1573903800-1573911000@www.thesangerscene.com
SUMMARY:Beauty Within Fashion Show hosted by Sanger United Methodist Church
DESCRIPTION:
URL:https://www.thesangerscene.com/event/beauty-within-fashion-show-hosted-by-sanger-united-methodist-church/
LOCATION:Sanger United Methodist Church\, 1612 9th Street\, Sanger\, 93657
ATTACH;FMTTYPE=image/jpeg:https://www.thesangerscene.com/wp-content/uploads/2019/10/Fashion-show-2019.jpg
END:VEVENT
BEGIN:VEVENT
DTSTART;TZID=America/Los_Angeles:20191116T090000
DTEND;TZID=America/Los_Angeles:20191116T133000
DTSTAMP:20260425T190859
CREATED:20191101T002957Z
LAST-MODIFIED:20191101T002957Z
UID:20882-1573894800-1573911000@www.thesangerscene.com
SUMMARY:Calvary Fellowship Holiday Festival
DESCRIPTION:Bake Sale\, Gift Baskets\, Homemade Items\, Games for the kids\, Door Prize Drawings \nTri-tip Lunch $12
URL:https://www.thesangerscene.com/event/calvary-fellowship-holiday-festival/
LOCATION:Calvary Fellowship Church\, 737 Church Ave.\, Sanger\, CA\, 93657\, United States
ATTACH;FMTTYPE=image/jpeg:https://www.thesangerscene.com/wp-content/uploads/2019/10/2019-Holiday-Festival-Flyer-copy.jpg
END:VEVENT
BEGIN:VEVENT
DTSTART;TZID=America/Los_Angeles:20191114T193000
DTEND;TZID=America/Los_Angeles:20191114T213000
DTSTAMP:20260425T190859
CREATED:20191112T163332Z
LAST-MODIFIED:20191112T163332Z
UID:20963-1573759800-1573767000@www.thesangerscene.com
SUMMARY:SHS Apache Theatre presents "It's A Wonderful Life"
DESCRIPTION:Curtain at 7:30pm  \nStudents $5 \nAdults $7
URL:https://www.thesangerscene.com/event/shs-apache-theatre-presents-its-a-wonderful-life/
LOCATION:Sanger High MPR\, 1045 Bethel Ave.\, Sanger\, CA\, 93657\, United States
ATTACH;FMTTYPE=image/jpeg:https://www.thesangerscene.com/wp-content/uploads/2019/11/Apache-Theatre-Its-A-Wondrful-Life.jpg
END:VEVENT
BEGIN:VEVENT
DTSTART;TZID=America/Los_Angeles:20191108T133000
DTEND;TZID=America/Los_Angeles:20191108T143000
DTSTAMP:20260425T190859
CREATED:20191023T214425Z
LAST-MODIFIED:20191023T214425Z
UID:20819-1573219800-1573223400@www.thesangerscene.com
SUMMARY:Sanger Veterans Memorial Plaza Phase I Ribbon Cutting
DESCRIPTION:
URL:https://www.thesangerscene.com/event/sanger-veterans-memorial-plaza-phase-i-ribbon-cutting/
LOCATION:Sanger Veterans Memorial Plaza\, corner of Jensen & Indianola Ave\, Sanger\, CA\, 93657\, United States
ATTACH;FMTTYPE=image/jpeg:https://www.thesangerscene.com/wp-content/uploads/2019/10/Veterans-Park-Ribbon-Cutting.jpg
ORGANIZER;CN="City of Sanger":MAILTO:dgalvez@ci.sanger.ca.us
END:VEVENT
BEGIN:VEVENT
DTSTART;TZID=America/Los_Angeles:20191105T180000
DTEND;TZID=America/Los_Angeles:20191105T190000
DTSTAMP:20260425T190859
CREATED:20191016T065413Z
LAST-MODIFIED:20191016T065413Z
UID:20767-1572976800-1572980400@www.thesangerscene.com
SUMMARY:First Time Home-Buyer Class
DESCRIPTION:
URL:https://www.thesangerscene.com/event/first-time-home-buyer-class/
LOCATION:Sanger Chamber of Commerce\, Sanger \, 93657
ATTACH;FMTTYPE=image/jpeg:https://www.thesangerscene.com/wp-content/uploads/2019/10/First-Time-Home-Buyer-copy.jpg
END:VEVENT
BEGIN:VEVENT
DTSTART;TZID=America/Los_Angeles:20191102T110000
DTEND;TZID=America/Los_Angeles:20191102T123000
DTSTAMP:20260425T190859
CREATED:20191028T204919Z
LAST-MODIFIED:20191028T204919Z
UID:20826-1572692400-1572697800@www.thesangerscene.com
SUMMARY:9th Annual Sanger Veterans Parade
DESCRIPTION:10:30am Opening Ceremonies \n11:11 am Parade Begins 
URL:https://www.thesangerscene.com/event/9th-annual-sanger-veterans-parade/
LOCATION:Downtown Sanger\, 7th & N St.\, Sanger\, CA\, 93657\, United States
ATTACH;FMTTYPE=image/jpeg:https://www.thesangerscene.com/wp-content/uploads/2019/10/Come-join-us-for-some-FUN-After-The-Sanger-Veterans-Parade-FLYER-copy.jpg
END:VEVENT
END:VCALENDAR