BEGIN:VCALENDAR
VERSION:2.0
PRODID:-//The Sanger Scene - ECPv6.5.1.6//NONSGML v1.0//EN
CALSCALE:GREGORIAN
METHOD:PUBLISH
X-WR-CALNAME:The Sanger Scene
X-ORIGINAL-URL:https://www.thesangerscene.com
X-WR-CALDESC:Events for The Sanger Scene
REFRESH-INTERVAL;VALUE=DURATION:PT1H
X-Robots-Tag:noindex
X-PUBLISHED-TTL:PT1H
BEGIN:VTIMEZONE
TZID:America/Los_Angeles
BEGIN:DAYLIGHT
TZOFFSETFROM:-0800
TZOFFSETTO:-0700
TZNAME:PDT
DTSTART:20250309T100000
END:DAYLIGHT
BEGIN:STANDARD
TZOFFSETFROM:-0700
TZOFFSETTO:-0800
TZNAME:PST
DTSTART:20251102T090000
END:STANDARD
END:VTIMEZONE
BEGIN:VEVENT
DTSTART;TZID=America/Los_Angeles:20250920T170000
DTEND;TZID=America/Los_Angeles:20250920T210000
DTSTAMP:20260424T012128
CREATED:20250918T190803Z
LAST-MODIFIED:20250918T190803Z
UID:46009-1758387600-1758402000@www.thesangerscene.com
SUMMARY:Sanger Street Fair Hispanic Heritage Fiesta & Taco Throwdown
DESCRIPTION:Live Entertainment\, Kids Zone\, Vendors\, Beer Garden 
URL:https://www.thesangerscene.com/event/sanger-street-fair-hispanic-heritage-fiesta-taco-throwdown/
LOCATION:Downtown Sanger\, 7th & N St.\, Sanger\, CA\, 93657\, United States
ATTACH;FMTTYPE=image/jpeg:https://www.thesangerscene.com/wp-content/uploads/2025/09/IMG_8153.jpg
END:VEVENT
BEGIN:VEVENT
DTSTART;TZID=America/Los_Angeles:20250927T160000
DTEND;TZID=America/Los_Angeles:20250927T190000
DTSTAMP:20260424T012128
CREATED:20250918T191630Z
LAST-MODIFIED:20250918T191630Z
UID:46014-1758988800-1758999600@www.thesangerscene.com
SUMMARY:Sanger National Night Out 2025
DESCRIPTION:Hosted by Sanger Police Department and Sanger fire Department \nK-9 Demonstration\, Crime Prevention\, Fire Safety\, Animal Adoption\, Raffle\, Blood Mobile\, Food Booths. 
URL:https://www.thesangerscene.com/event/sanger-national-night-out-2025/
LOCATION:Veteran’s Park\, Jensen & Indianola Ave\, Sanger\, CA\, 93657\, United States
ATTACH;FMTTYPE=image/jpeg:https://www.thesangerscene.com/wp-content/uploads/2025/09/NNO-Poster-2025-jpeg.jpg
END:VEVENT
END:VCALENDAR