BEGIN:VCALENDAR
VERSION:2.0
PRODID:-//The Sanger Scene - ECPv6.5.1.6//NONSGML v1.0//EN
CALSCALE:GREGORIAN
METHOD:PUBLISH
X-WR-CALNAME:The Sanger Scene
X-ORIGINAL-URL:https://www.thesangerscene.com
X-WR-CALDESC:Events for The Sanger Scene
REFRESH-INTERVAL;VALUE=DURATION:PT1H
X-Robots-Tag:noindex
X-PUBLISHED-TTL:PT1H
BEGIN:VTIMEZONE
TZID:America/Los_Angeles
BEGIN:DAYLIGHT
TZOFFSETFROM:-0800
TZOFFSETTO:-0700
TZNAME:PDT
DTSTART:20250309T100000
END:DAYLIGHT
BEGIN:STANDARD
TZOFFSETFROM:-0700
TZOFFSETTO:-0800
TZNAME:PST
DTSTART:20251102T090000
END:STANDARD
END:VTIMEZONE
BEGIN:VEVENT
DTSTART;TZID=America/Los_Angeles:20251009T180000
DTEND;TZID=America/Los_Angeles:20251009T200000
DTSTAMP:20260422T012103
CREATED:20251009T211450Z
LAST-MODIFIED:20251009T211450Z
UID:46111-1760032800-1760040000@www.thesangerscene.com
SUMMARY:Loteria Night (Mexican Bingo) at the Sanger Woman's Club
DESCRIPTION:$10 entry includes 1 card of 3 rounds of games \n$1 for each additional card 
URL:https://www.thesangerscene.com/event/loteria-night-mexican-bingo-at-the-sanger-womans-club/
LOCATION:Sanger Woman’s Club\, Corner of 7th & P Streets\, Sanger\, 93657
ATTACH;FMTTYPE=image/jpeg:https://www.thesangerscene.com/wp-content/uploads/2025/10/Loteria.jpg
END:VEVENT
BEGIN:VEVENT
DTSTART;TZID=America/Los_Angeles:20251011T100000
DTEND;TZID=America/Los_Angeles:20251011T110000
DTSTAMP:20260422T012103
CREATED:20250918T191154Z
LAST-MODIFIED:20250918T191154Z
UID:46011-1760176800-1760180400@www.thesangerscene.com
SUMMARY:City of Sanger Ribbon Cutting Ceremony Completion of Well #22
DESCRIPTION:Limited street parking. \nRefreshments will be served. 
URL:https://www.thesangerscene.com/event/city-of-sanger-ribbon-cutting-ceremony-completion-of-well-22/
LOCATION:Well #22\, 2890 Jensen Ave.\, Sanger\, CA\, 93657\, United States
ATTACH;FMTTYPE=image/png:https://www.thesangerscene.com/wp-content/uploads/2025/09/Ribbon-Cutting-Well-22-Flyer.png
ORGANIZER;CN="City of Sanger":MAILTO:ctamez@ci.sanger.ca.us
END:VEVENT
BEGIN:VEVENT
DTSTART;TZID=America/Los_Angeles:20251011T100000
DTEND;TZID=America/Los_Angeles:20251011T140000
DTSTAMP:20260422T012103
CREATED:20251009T212130Z
LAST-MODIFIED:20251009T212130Z
UID:46117-1760176800-1760191200@www.thesangerscene.com
SUMMARY:Sanger Fire and Police Department Open House
DESCRIPTION:Tours of the Fire & Police Stations \nPublic Safety & Crime Prevention \nSidewalk CPR \nBeer Goggle Obstacle Course \nKids Agility Test \nFire Prevention Information  \nFree Hot Dogs and Refreshments!
URL:https://www.thesangerscene.com/event/sanger-fire-and-police-department-open-house-3/
LOCATION:Sanger Fire & Police Departments\, 601 West Ave. & Jensen Ave.\, Sanger\, 93657
ATTACH;FMTTYPE=image/jpeg:https://www.thesangerscene.com/wp-content/uploads/2025/10/SangerFirePDOpenHouse.jpg
END:VEVENT
BEGIN:VEVENT
DTSTART;TZID=America/Los_Angeles:20251022T180000
DTEND;TZID=America/Los_Angeles:20251022T200000
DTSTAMP:20260422T012103
CREATED:20251010T175833Z
LAST-MODIFIED:20251010T184413Z
UID:46121-1761156000-1761163200@www.thesangerscene.com
SUMMARY:Sanger Parks & Recreation Master Plan Open House
DESCRIPTION:Help shape the future of Sanger’s parks\, programs and open spaces!
URL:https://www.thesangerscene.com/event/sanger-parks-recreation-master-plan-open-house/
LOCATION:Senior Center\, 730 Recreation Drive\, Sanger\, CA\, 93657\, United States
ATTACH;FMTTYPE=image/jpeg:https://www.thesangerscene.com/wp-content/uploads/2025/10/ParkREcMaster-Plan-Open-House-.jpg
END:VEVENT
BEGIN:VEVENT
DTSTART;TZID=America/Los_Angeles:20251023T170000
DTEND;TZID=America/Los_Angeles:20251023T200000
DTSTAMP:20260422T012103
CREATED:20251009T211200Z
LAST-MODIFIED:20251009T211200Z
UID:46109-1761238800-1761249600@www.thesangerscene.com
SUMMARY:Sanger Chamber 'After Hours' Mixer hosted by Hideaway Bar -Oktoberfest Edition
DESCRIPTION:Oktoberfest Edition  \nMeet & Greet the New President & CEO Isaiah Lopez
URL:https://www.thesangerscene.com/event/sanger-chamber-after-hours-mixer-hosted-by-hideaway-bar-oktoberfest-edition/
LOCATION:Hideaway Bar\, 1335 12th St\, Sanger\, CA\, 93657\, United States
ATTACH;FMTTYPE=image/jpeg:https://www.thesangerscene.com/wp-content/uploads/2025/10/ChamberMixerOct1.jpg
END:VEVENT
BEGIN:VEVENT
DTSTART;TZID=America/Los_Angeles:20251025T070000
DTEND;TZID=America/Los_Angeles:20251025T120000
DTSTAMP:20260422T012103
CREATED:20251010T175230Z
LAST-MODIFIED:20251010T175230Z
UID:46119-1761375600-1761393600@www.thesangerscene.com
SUMMARY:City of Sanger Senior Center Rummage Sale
DESCRIPTION:Clothing\, Books\, Jewelry\, Furniture and More.  \n$15 Sanger Senior Center Members \n$25 Non-Senior Members \nContact April at (559) 399-8439 for registration form and for any questions.
URL:https://www.thesangerscene.com/event/city-of-sanger-senior-center-rummage-sale/
LOCATION:Sanger Community Center\, 730 Recreation Ave.\, Sanger\, CA\, 93657\, United States
ATTACH;FMTTYPE=image/png:https://www.thesangerscene.com/wp-content/uploads/2025/10/senior-rumage-sale.png
ORGANIZER;CN="City of Sanger":MAILTO:ctamez@ci.sanger.ca.us
END:VEVENT
BEGIN:VEVENT
DTSTART;TZID=America/Los_Angeles:20251030T170000
DTEND;TZID=America/Los_Angeles:20251030T210000
DTSTAMP:20260422T012103
CREATED:20250918T192309Z
LAST-MODIFIED:20250918T192309Z
UID:46017-1761843600-1761858000@www.thesangerscene.com
SUMMARY:37th Annual Downtown Trunk or Treat
DESCRIPTION:
URL:https://www.thesangerscene.com/event/37th-annual-downtown-trunk-or-treat/
LOCATION:Downton Sanger\, Sanger\, CA\, 93657
END:VEVENT
BEGIN:VEVENT
DTSTART;TZID=America/Los_Angeles:20251030T180000
DTEND;TZID=America/Los_Angeles:20251030T200000
DTSTAMP:20260422T012103
CREATED:20251009T211826Z
LAST-MODIFIED:20251009T211826Z
UID:46113-1761847200-1761854400@www.thesangerscene.com
SUMMARY:Sanger 37th Annual Downtown Trunk or Treat
DESCRIPTION:Supported by the City of Sanger and presented by the Sanger Chamber of Commerce  \nHaunted House\, Pumpkin Patch\, Candy & Food\, Carnival Games\, Live Music-DJ \nAll Trick or Treaters must check in at the flag pole for special bag.
URL:https://www.thesangerscene.com/event/sanger-37th-annual-downtown-trunk-or-treat/
LOCATION:Downtonw Sanger\, 7th & N St.\, Sanger\, CA\, 93657\, United States
ATTACH;FMTTYPE=image/jpeg:https://www.thesangerscene.com/wp-content/uploads/2025/10/ChamberTrunkorTreat10.25.jpg
END:VEVENT
END:VCALENDAR